BEGIN:VCALENDAR
VERSION:2.0
PRODID:-//BenitoLink - ECPv6.15.20//NONSGML v1.0//EN
CALSCALE:GREGORIAN
METHOD:PUBLISH
X-WR-CALNAME:BenitoLink
X-ORIGINAL-URL:https://benitolink.com
X-WR-CALDESC:Events for BenitoLink
REFRESH-INTERVAL;VALUE=DURATION:PT1H
X-Robots-Tag:noindex
X-PUBLISHED-TTL:PT1H
BEGIN:VTIMEZONE
TZID:America/Los_Angeles
BEGIN:DAYLIGHT
TZOFFSETFROM:-0800
TZOFFSETTO:-0700
TZNAME:PDT
DTSTART:20210314T100000
END:DAYLIGHT
BEGIN:STANDARD
TZOFFSETFROM:-0700
TZOFFSETTO:-0800
TZNAME:PST
DTSTART:20211107T090000
END:STANDARD
BEGIN:DAYLIGHT
TZOFFSETFROM:-0800
TZOFFSETTO:-0700
TZNAME:PDT
DTSTART:20220313T100000
END:DAYLIGHT
BEGIN:STANDARD
TZOFFSETFROM:-0700
TZOFFSETTO:-0800
TZNAME:PST
DTSTART:20221106T090000
END:STANDARD
BEGIN:DAYLIGHT
TZOFFSETFROM:-0800
TZOFFSETTO:-0700
TZNAME:PDT
DTSTART:20230312T100000
END:DAYLIGHT
BEGIN:STANDARD
TZOFFSETFROM:-0700
TZOFFSETTO:-0800
TZNAME:PST
DTSTART:20231105T090000
END:STANDARD
END:VTIMEZONE
BEGIN:VEVENT
DTSTART;TZID=America/Los_Angeles:20220210T173000
DTEND;TZID=America/Los_Angeles:20221110T183000
DTSTAMP:20260420T043706
CREATED:20220113T215539Z
LAST-MODIFIED:20220113T215539Z
UID:10003011-1644514200-1668105000@benitolink.com
SUMMARY:SBC Community Action Board Meeting
DESCRIPTION:All meetings are open to the public.\nCurrently meetings are taking place via Zoom:\nhttps://zoom.us/j/93659942862…\nMeeting ID: 936 5994 2862- Password: 252970\n1 669 900 6833 or +1 408 638 0968\n\nAgendas are posted 72 hours prior at: https://www.sbccab.com/forum/meeting-agenda\nMeetings are on the second Thursday of every month. There will be no meeting in August.
URL:https://benitolink.com/event/sbc-community-action-board-meeting/
ATTACH;FMTTYPE=image/jpeg:https://benitolink.com/wp-content/uploads/2022/01/267236177_2070241543126208_6343577833210451377_n.jpg
END:VEVENT
BEGIN:VEVENT
DTSTART;TZID=America/Los_Angeles:20220913T150000
DTEND;TZID=America/Los_Angeles:20220913T173000
DTSTAMP:20260420T043706
CREATED:20220825T233952Z
LAST-MODIFIED:20220825T233952Z
UID:10003143-1663081200-1663090200@benitolink.com
SUMMARY:PacSci EMC Career Fair
DESCRIPTION:Open Interview Day – Hiring.\nPacSci EMC offers the opportunity to work on teams of highly skilled professionals to solve some of the most challenging and exciting problems we face today. We are looking for those who are ready to reach the peak of technology. \nPlease RSVP at: resumes@psemc.com\nBring Resumes on site \nAvailable Positions: \nElectronic Assembler\nMechanical Assembler 1st and 2nd Shift\nChemical Operations Technician\nShipping Clerk\nEngineers with Manufacturing\, Electronic\, Quality or Design experience\nHR Business Partner\nManual Machinist\nIn-Process Inspectors & More!! \nBenefits: \n•On the Spot Interviews\n• Great Compensation & Benefits (401K Match)\n• Starting Pay $18/hr or higher
URL:https://benitolink.com/event/pacsci-emc-career-fair-4/
LOCATION:3601 Union Road Hollister\, CA 95023\, 3601 Union Rd\, Hollister\, CA\, 95023\, United States
ATTACH;FMTTYPE=image/jpeg:https://benitolink.com/wp-content/uploads/2022/08/Career-Fair-Flyer-9.13.22-pdf-1.jpg
END:VEVENT
END:VCALENDAR