BEGIN:VCALENDAR
VERSION:2.0
PRODID:-//BenitoLink - ECPv6.15.20//NONSGML v1.0//EN
CALSCALE:GREGORIAN
METHOD:PUBLISH
X-WR-CALNAME:BenitoLink
X-ORIGINAL-URL:https://benitolink.com
X-WR-CALDESC:Events for BenitoLink
REFRESH-INTERVAL;VALUE=DURATION:PT1H
X-Robots-Tag:noindex
X-PUBLISHED-TTL:PT1H
BEGIN:VTIMEZONE
TZID:America/Los_Angeles
BEGIN:DAYLIGHT
TZOFFSETFROM:-0800
TZOFFSETTO:-0700
TZNAME:PDT
DTSTART:20220313T100000
END:DAYLIGHT
BEGIN:STANDARD
TZOFFSETFROM:-0700
TZOFFSETTO:-0800
TZNAME:PST
DTSTART:20221106T090000
END:STANDARD
BEGIN:DAYLIGHT
TZOFFSETFROM:-0800
TZOFFSETTO:-0700
TZNAME:PDT
DTSTART:20230312T100000
END:DAYLIGHT
BEGIN:STANDARD
TZOFFSETFROM:-0700
TZOFFSETTO:-0800
TZNAME:PST
DTSTART:20231105T090000
END:STANDARD
BEGIN:DAYLIGHT
TZOFFSETFROM:-0800
TZOFFSETTO:-0700
TZNAME:PDT
DTSTART:20240310T100000
END:DAYLIGHT
BEGIN:STANDARD
TZOFFSETFROM:-0700
TZOFFSETTO:-0800
TZNAME:PST
DTSTART:20241103T090000
END:STANDARD
END:VTIMEZONE
BEGIN:VEVENT
DTSTART;TZID=America/Los_Angeles:20230117T100000
DTEND;TZID=America/Los_Angeles:20230919T110000
DTSTAMP:20260421T150620
CREATED:20230118T003647Z
LAST-MODIFIED:20230118T003647Z
UID:10003252-1673949600-1695121200@benitolink.com
SUMMARY:2023 Gardening Courses
DESCRIPTION:Hosted by Growing Hearts Garden Center \n 
URL:https://benitolink.com/event/2023-gardening-courses/
LOCATION:Vista Park Hill Community Gardens
ATTACH;FMTTYPE=image/png:https://benitolink.com/wp-content/uploads/2023/01/image.png
END:VEVENT
BEGIN:VEVENT
DTSTART;TZID=America/Los_Angeles:20230325T080000
DTEND;TZID=America/Los_Angeles:20230325T120000
DTSTAMP:20260421T150620
CREATED:20230124T223026Z
LAST-MODIFIED:20230124T223026Z
UID:10003264-1679731200-1679745600@benitolink.com
SUMMARY:Community Advisory Committee Parent Education Conference
DESCRIPTION:Parent Education Conference \nJoin the Community Advisory Committee as we bring parents and educators together for a morning of Special Education resources and informational presentations from our local Districts and community. \nTo register: http://sanbenito.k12oms.org/79-230110 \n  \n 
URL:https://benitolink.com/event/community-advisory-committee-parent-education-conference/
LOCATION:San Andreas/Santa Ana School\, 191 Alvarado Street\, Hollister\, 95023\, United States America
ATTACH;FMTTYPE=image/jpeg:https://benitolink.com/wp-content/uploads/2023/01/Picture1.jpg
END:VEVENT
BEGIN:VEVENT
DTSTART;TZID=America/Los_Angeles:20230325T100000
DTEND;TZID=America/Los_Angeles:20230326T150000
DTSTAMP:20260421T150620
CREATED:20230214T200224Z
LAST-MODIFIED:20230214T200224Z
UID:10003273-1679738400-1679842800@benitolink.com
SUMMARY:Blossom Vintage Market
DESCRIPTION:As we say goodbye to winter\, the Rossi family and friends say\, “Hello Spring Blossom Vintage Market!” We are excited to celebrate another year of fun Vintage Markets starting with our Spring Blossom Boutique on March 25 & 26 from 10am – 3pm. \nThe warehouses will take on a fresh spring-inspired look featuring local art\, antique and vintage finds\, clothing\, jewelry\, home decor and plenty of consumable yummies. With Easter and Mother’s Day right around the corner\, this market will feature something for everyone! You can also pick up hand tied fresh flower bouquets at the B & R Farms Flower Cart.
URL:https://benitolink.com/event/blossom-vintage-market-2/
LOCATION:B & R Farms\, LLC\, 5280 Fairview Rd.\, Hollister\, 95023\, United States America
ATTACH;FMTTYPE=image/jpeg:https://benitolink.com/wp-content/uploads/2023/02/Blossom-Vintage-Marker-2023-updated.jpg
END:VEVENT
END:VCALENDAR