BEGIN:VCALENDAR
VERSION:2.0
PRODID:-//BenitoLink - ECPv6.15.20//NONSGML v1.0//EN
CALSCALE:GREGORIAN
METHOD:PUBLISH
X-ORIGINAL-URL:https://benitolink.com
X-WR-CALDESC:Events for BenitoLink
REFRESH-INTERVAL;VALUE=DURATION:PT1H
X-Robots-Tag:noindex
X-PUBLISHED-TTL:PT1H
BEGIN:VTIMEZONE
TZID:America/Los_Angeles
BEGIN:DAYLIGHT
TZOFFSETFROM:-0800
TZOFFSETTO:-0700
TZNAME:PDT
DTSTART:20220313T100000
END:DAYLIGHT
BEGIN:STANDARD
TZOFFSETFROM:-0700
TZOFFSETTO:-0800
TZNAME:PST
DTSTART:20221106T090000
END:STANDARD
BEGIN:DAYLIGHT
TZOFFSETFROM:-0800
TZOFFSETTO:-0700
TZNAME:PDT
DTSTART:20230312T100000
END:DAYLIGHT
BEGIN:STANDARD
TZOFFSETFROM:-0700
TZOFFSETTO:-0800
TZNAME:PST
DTSTART:20231105T090000
END:STANDARD
BEGIN:DAYLIGHT
TZOFFSETFROM:-0800
TZOFFSETTO:-0700
TZNAME:PDT
DTSTART:20240310T100000
END:DAYLIGHT
BEGIN:STANDARD
TZOFFSETFROM:-0700
TZOFFSETTO:-0800
TZNAME:PST
DTSTART:20241103T090000
END:STANDARD
END:VTIMEZONE
BEGIN:VEVENT
DTSTART;TZID=America/Los_Angeles:20230117T100000
DTEND;TZID=America/Los_Angeles:20230919T110000
DTSTAMP:20260425T164516
CREATED:20230118T003647Z
LAST-MODIFIED:20230118T003647Z
UID:10003252-1673949600-1695121200@benitolink.com
SUMMARY:2023 Gardening Courses
DESCRIPTION:Hosted by Growing Hearts Garden Center \n 
URL:https://benitolink.com/event/2023-gardening-courses/
LOCATION:Vista Park Hill Community Gardens
ATTACH;FMTTYPE=image/png:https://benitolink.com/wp-content/uploads/2023/01/image.png
END:VEVENT
BEGIN:VEVENT
DTSTART;TZID=America/Los_Angeles:20230630T093000
DTEND;TZID=America/Los_Angeles:20230630T103000
DTSTAMP:20260425T164516
CREATED:20230609T222934Z
LAST-MODIFIED:20230609T222934Z
UID:10003296-1688117400-1688121000@benitolink.com
SUMMARY:Healthy Living for Your Brain and Body – Webinar
DESCRIPTION:Learn about science-based recommendations for taking care of our brains and bodies which research has shown can reduce our risk of developing cognitive decline or dementia. This program will be hosted by Assemblymember Dawn Addis and Assemblymember Gail Pellerin in honor of Alzheimer’s and Brain Awareness Month! \nRegister:  https://alz-org.zoom.us/meeting/register/tJEvdOuspjotHNH4UdVhVjdvRZEoKBFkdrkM#/registration \nTHIS MEETING WILL BE OFFERED BY ZOOM and by PHONE. \nOnce you have completed registration for the meeting\, you will receive an email confirmation with the call-in information and instructions for joining our call. \nIf you have additional questions or need further assistance\, please feel free to call the Alzheimer’s Association at 800.272.3900. \nEvent Type:\nLectures\nMeetings\nWorkshop-Training\n\n\nLocation\nONLINEView map \n \n\n\nAdditional Information\n\nSponsor\nAlzheimer’s Association and assemblymembers Dawn Addis and Gail Pellerin \n\nPhone\n800-272-3900 \n\nEmail\njaberg@alz.org \n\nWebsite\nhttps://alz-org.zoom.us/meeting/register/tJEvdOuspjotHNH4UdVhVjdvRZEoKBFkdrkM#/registration
URL:https://benitolink.com/event/healthy-living-for-your-brain-and-body-webinar/
ATTACH;FMTTYPE=image/jpeg:https://benitolink.com/wp-content/uploads/2023/06/Picture-webinar-training.jpg
END:VEVENT
BEGIN:VEVENT
DTSTART;TZID=America/Los_Angeles:20230630T100000
DTEND;TZID=America/Los_Angeles:20230630T140000
DTSTAMP:20260425T164516
CREATED:20230711T191817Z
LAST-MODIFIED:20230711T191817Z
UID:10003334-1688119200-1688133600@benitolink.com
SUMMARY:The Resiliency Network & Migrant Health Fair/La red de la Resiliencia
DESCRIPTION:On Friday June 30\, 2023\, the Southside School will host their annual Health Fair from 10a.m. – 2p.m. at the Hollister Migrant Center park located at 3235 Southside Road \nThey will be offering free services to families such as: \n\nChild Development Screens for Children birth -5 years\nNewborn Observations\nFree Dental Screenings and Fluoride Varnish applications for children\nFun and Learning activities for children of all ages\nFree food and beverages\n\nEl Viernes 30 de Junio 2023\, la escuela de Southside organizará su Feria de Salud anual de 10 a.m. – 2:00p.m. en el parque Hollister Migrant Center ubicado en 3235 Southside Road \nEstarán ofreciendo servicios gratuitos a las familias como: \n\nPruebas de desarrollo infantil para niños desde el nacimiento hasta los 5 años\nObservaciones de recién nacidos\nExámenes dentales gratuitos y aplicaciones de barniz de flúor para niños\nActividades divertidas y de aprendizaje para niños de todas las edades.\nAlimentos y bebidas gratis\n\n 
URL:https://benitolink.com/event/the-resiliency-network-migrant-health-fair-la-red-de-la-resiliencia/
ATTACH;FMTTYPE=image/jpeg:https://benitolink.com/wp-content/uploads/2019/06/334848874244122571.jpg
END:VEVENT
BEGIN:VEVENT
DTSTART;TZID=America/Los_Angeles:20230630T190000
DTEND;TZID=America/Los_Angeles:20230630T220000
DTSTAMP:20260425T164516
CREATED:20230628T201523Z
LAST-MODIFIED:20230628T201523Z
UID:10003315-1688151600-1688162400@benitolink.com
SUMMARY:Ladies Movie Night
DESCRIPTION:The GardenShoppe will be hosting a free screening of “I Feel Pretty” starring Amy Schumer\, about an ordinary woman who wakes up from a fall believing she is the most beautiful woman in the world\, enabling her to live her best\, most confident life. \nThis movie is best suited for those 13+. Please dress warmly as our patio can get chilly in the evenings. You are welcome to bring your own snacks\, and we will have charcuterie available for purchase. \nAs a friendly reminder\, no outside beverages are allowed on the property. We have a large selection of beer\, wine\, ciders\, seltzers\, and non-alcoholic beverages available for purchase; water is provided.
URL:https://benitolink.com/event/ladies-movie-night/
LOCATION:The Garden Shoppe\, 364 Seventh Street\, Hollister
ATTACH;FMTTYPE=image/jpeg:https://benitolink.com/wp-content/uploads/2023/06/Newsletter-52.jpg
END:VEVENT
END:VCALENDAR