BEGIN:VCALENDAR
VERSION:2.0
PRODID:-//BenitoLink - ECPv6.15.20//NONSGML v1.0//EN
CALSCALE:GREGORIAN
METHOD:PUBLISH
X-ORIGINAL-URL:https://benitolink.com
X-WR-CALDESC:Events for BenitoLink
REFRESH-INTERVAL;VALUE=DURATION:PT1H
X-Robots-Tag:noindex
X-PUBLISHED-TTL:PT1H
BEGIN:VTIMEZONE
TZID:America/Los_Angeles
BEGIN:DAYLIGHT
TZOFFSETFROM:-0800
TZOFFSETTO:-0700
TZNAME:PDT
DTSTART:20220313T100000
END:DAYLIGHT
BEGIN:STANDARD
TZOFFSETFROM:-0700
TZOFFSETTO:-0800
TZNAME:PST
DTSTART:20221106T090000
END:STANDARD
BEGIN:DAYLIGHT
TZOFFSETFROM:-0800
TZOFFSETTO:-0700
TZNAME:PDT
DTSTART:20230312T100000
END:DAYLIGHT
BEGIN:STANDARD
TZOFFSETFROM:-0700
TZOFFSETTO:-0800
TZNAME:PST
DTSTART:20231105T090000
END:STANDARD
BEGIN:DAYLIGHT
TZOFFSETFROM:-0800
TZOFFSETTO:-0700
TZNAME:PDT
DTSTART:20240310T100000
END:DAYLIGHT
BEGIN:STANDARD
TZOFFSETFROM:-0700
TZOFFSETTO:-0800
TZNAME:PST
DTSTART:20241103T090000
END:STANDARD
END:VTIMEZONE
BEGIN:VEVENT
DTSTART;TZID=America/Los_Angeles:20230117T100000
DTEND;TZID=America/Los_Angeles:20230919T110000
DTSTAMP:20260421T034618
CREATED:20230118T003647Z
LAST-MODIFIED:20230118T003647Z
UID:10003252-1673949600-1695121200@benitolink.com
SUMMARY:2023 Gardening Courses
DESCRIPTION:Hosted by Growing Hearts Garden Center \n 
URL:https://benitolink.com/event/2023-gardening-courses/
LOCATION:Vista Park Hill Community Gardens
ATTACH;FMTTYPE=image/png:https://benitolink.com/wp-content/uploads/2023/01/image.png
END:VEVENT
BEGIN:VEVENT
DTSTART;TZID=America/Los_Angeles:20230803T080000
DTEND;TZID=America/Los_Angeles:20230803T170000
DTSTAMP:20260421T034618
CREATED:20230805T230933Z
LAST-MODIFIED:20230805T230949Z
UID:10003385-1691049600-1691082000@benitolink.com
SUMMARY:Comedy Night at The GardenShoppe
DESCRIPTION:Join us and Oliver Graves from AGT! Hosted by Hence Singleton and a special appearance by Trevor LA\, you’re sure to enjoy this evening of food\, fun\, friends\, and laughter! \nTickets include your first drink\, plus dinner and dessert. Dinner is pulled pork sliders\, chips\, and coleslaw. \nPlease note\, this is a 21 and over event. No outside beverages are allowed on the property; we have a large selection of beer\, wine\, ciders\, and seltzers available for purchase. Water is always available. Additionally\, our patio can get chilly in the evenings\, so please dress warmly. \nIf you are planning to attend this event\, please be sure to purchase your tickets early! The ticket price increases to $50 on September 30th.
URL:https://benitolink.com/event/comedy-night-at-the-gardenshoppe/
LOCATION:The GardenShoppe\, 364 7th Street\, Hollister\, CA\, 95023\, United States
ATTACH;FMTTYPE=image/jpeg:https://benitolink.com/wp-content/uploads/2023/08/Newsletter-64.jpg
ORGANIZER;CN="The GardenShoppe":MAILTO:hello@gardenshoppeandbar.com
END:VEVENT
BEGIN:VEVENT
DTSTART;TZID=America/Los_Angeles:20230803T100000
DTEND;TZID=America/Los_Angeles:20230803T110000
DTSTAMP:20260421T034618
CREATED:20230731T234535Z
LAST-MODIFIED:20230731T234535Z
UID:10003381-1691056800-1691060400@benitolink.com
SUMMARY:Free digital skills training for small businesses
DESCRIPTION:Google to Offer Free Digital Skills Training for Small Businesses in\nPartnership with Cal Coastal SBDC\nCongresswoman Zoe Lofgren to provide opening remarks \nThursday\, August 3\, Google and Cal Coastal SBDC will host a free\, in-person workshop for small businesses in Salinas and the surrounding area. U.S. Congresswoman Zoe Lofgren will attend and provide remarks. \nThrough the “Reach Customers Online with Google” workshop\, California’s Grow with Google Digital Coach Roberto Martinez will help small businesses learn how to create and manage a Google Business Profile from start to finish\, including how to create or claim a Google Business Profile\, manage business info across Google Search and Maps and use a Business Profile to connect with potential customers. \nThis is especially critical as small businesses throughout California – and the nation – work to be more competitive. These skills will help small business owners grow their earning potential through digital skills. \nWho: \no   Congresswoman Zoe Lofgren\, U.S. House of Representatives \no   Mayor Kimbley Craig\, City of Salinas \no   Cindy Merzon\, Director\, Cal Coastal SBDC \no   Javier González\, Head of Local Government & External Affairs for California\, Google \no   Roberto Martinez\, California’s Grow with Google Digital Coach \n  \nWhen:             Thursday\, August 3\, 2023 \n10:00-11:00 AM PT                       \n \nWhere:            California State University Monterey Bay at Salinas City Center \n1 Main St.\, Salinas\, CA 93901 \n  \nRSVP:             Small businesses can register at g.co/Grow/Salinas \nMedia can RSVP to Alex Traverso at atraverso@ka-pow.com. \n 
URL:https://benitolink.com/event/free-digital-skills-training-for-small-businesses/
CATEGORIES:Workshop-Training
ATTACH;FMTTYPE=image/jpeg:https://benitolink.com/wp-content/uploads/2021/04/computer-1869236_1280.jpg
END:VEVENT
END:VCALENDAR