BEGIN:VCALENDAR
VERSION:2.0
PRODID:-//BenitoLink - ECPv6.15.20//NONSGML v1.0//EN
CALSCALE:GREGORIAN
METHOD:PUBLISH
X-ORIGINAL-URL:https://benitolink.com
X-WR-CALDESC:Events for BenitoLink
REFRESH-INTERVAL;VALUE=DURATION:PT1H
X-Robots-Tag:noindex
X-PUBLISHED-TTL:PT1H
BEGIN:VTIMEZONE
TZID:America/Los_Angeles
BEGIN:DAYLIGHT
TZOFFSETFROM:-0800
TZOFFSETTO:-0700
TZNAME:PDT
DTSTART:20220313T100000
END:DAYLIGHT
BEGIN:STANDARD
TZOFFSETFROM:-0700
TZOFFSETTO:-0800
TZNAME:PST
DTSTART:20221106T090000
END:STANDARD
BEGIN:DAYLIGHT
TZOFFSETFROM:-0800
TZOFFSETTO:-0700
TZNAME:PDT
DTSTART:20230312T100000
END:DAYLIGHT
BEGIN:STANDARD
TZOFFSETFROM:-0700
TZOFFSETTO:-0800
TZNAME:PST
DTSTART:20231105T090000
END:STANDARD
BEGIN:DAYLIGHT
TZOFFSETFROM:-0800
TZOFFSETTO:-0700
TZNAME:PDT
DTSTART:20240310T100000
END:DAYLIGHT
BEGIN:STANDARD
TZOFFSETFROM:-0700
TZOFFSETTO:-0800
TZNAME:PST
DTSTART:20241103T090000
END:STANDARD
END:VTIMEZONE
BEGIN:VEVENT
DTSTART;TZID=America/Los_Angeles:20230117T100000
DTEND;TZID=America/Los_Angeles:20230919T110000
DTSTAMP:20260420T205447
CREATED:20230118T003647Z
LAST-MODIFIED:20230118T003647Z
UID:10003252-1673949600-1695121200@benitolink.com
SUMMARY:2023 Gardening Courses
DESCRIPTION:Hosted by Growing Hearts Garden Center \n 
URL:https://benitolink.com/event/2023-gardening-courses/
LOCATION:Vista Park Hill Community Gardens
ATTACH;FMTTYPE=image/png:https://benitolink.com/wp-content/uploads/2023/01/image.png
END:VEVENT
BEGIN:VEVENT
DTSTART;TZID=America/Los_Angeles:20230817T100000
DTEND;TZID=America/Los_Angeles:20230827T170000
DTSTAMP:20260420T205447
CREATED:20230812T224903Z
LAST-MODIFIED:20231227T225820Z
UID:10003402-1692266400-1693155600@benitolink.com
SUMMARY:Contemporary Indigenous Voices of California's South Coast Range showing in Santa Cruz
DESCRIPTION:Photographer and documentarian Kirti Bassendine unveils her latest exhibition “Contemporary Indigenous Voices of California’s South Coast Range”\, a revolutionary project showcasing photography and short films of elders and culture-bearers from tribal nations\, councils\, and communities along California’s Southern Coast Range: San Francisco Peninsula\, East and South Bay through the Santa Cruz mountains\, Monterey Bay\, Gavilan and Santa Lucia Mountains\, and lower Salinan Valley. \nBassendine’s photographs are accompanied by powerful personal statements from Native community members calling attention to cultural connections to the land; rematriation: restoring the relationship between Indigenous people and their ancestral land; and ecological and climate breakdown. \nThe exhibition includes photographic portraits\, personal statements and short films\, to be shown at multiple venues around the region. Each exhibit will be opened by a reception where project participants will share their stories\, demonstrate and hold a Q&A panel discussion around issues raised by the exhibit. \nThere are upcoming exhibitions and receptions in Santa Cruz in mid-August. \nOpen to the public August 17-27 at Santa Cruz Museum of Arts and History\, with an opening reception August 19th. This smaller exhibit represents 7 cultural groups indigenous to territories near Santa Cruz.\n● Exhibition open: August 17-27th 2023\n● Opening Reception August 19th 2-5pm\n● Santa Cruz Museum of Arts and History\, Atrium 1st Floor\, 705 Front St\, Downtown Santa Cruz\, CA\n● https://www.santacruzmah.org/exhibitions/contemporary-indigenous-voices\n● Free to the public
URL:https://benitolink.com/event/contemporary-indigenous-voices-of-californias-south-coast-range-showing-in-san-cruz/
CATEGORIES:Arts-Entertainment
ATTACH;FMTTYPE=image/jpeg:https://benitolink.com/wp-content/uploads/2023/08/DSC2536low-scaled.jpg
END:VEVENT
BEGIN:VEVENT
DTSTART;TZID=America/Los_Angeles:20230819T160000
DTEND;TZID=America/Los_Angeles:20230819T190000
DTSTAMP:20260420T205447
CREATED:20230626T213613Z
LAST-MODIFIED:20230626T213613Z
UID:10003316-1692460800-1692471600@benitolink.com
SUMMARY:Gabilan Seneca Wine & Food Tasting
DESCRIPTION:Gabilan Seneca presents its 67th Annual Wine & Food Tasting to be held on Saturday\, August 19 at Swank Farms\, from 4-7 p.m. This is the oldest wine tasting event in California\, featuring over 50 local wineries and restaurants. \nTickets are $80.00 per person and can be purchased online at gabilanseneca.org . \nTickets will also be available at Postal Graphics in Hollister.  All funds raised benefit adoption\, foster care and youth mental health services in San Benito County.
URL:https://benitolink.com/event/gabilan-seneca-wine-food-tasting/
CATEGORIES:Arts-Entertainment,Fundraiser
ATTACH;FMTTYPE=image/jpeg:https://benitolink.com/wp-content/uploads/2023/02/GABILAN-SENECA-Logo-RGB.Web_.jpg
END:VEVENT
END:VCALENDAR