BEGIN:VCALENDAR
VERSION:2.0
PRODID:-//BenitoLink - ECPv6.15.20//NONSGML v1.0//EN
CALSCALE:GREGORIAN
METHOD:PUBLISH
X-WR-CALNAME:BenitoLink
X-ORIGINAL-URL:https://benitolink.com
X-WR-CALDESC:Events for BenitoLink
REFRESH-INTERVAL;VALUE=DURATION:PT1H
X-Robots-Tag:noindex
X-PUBLISHED-TTL:PT1H
BEGIN:VTIMEZONE
TZID:America/Los_Angeles
BEGIN:DAYLIGHT
TZOFFSETFROM:-0800
TZOFFSETTO:-0700
TZNAME:PDT
DTSTART:20220313T100000
END:DAYLIGHT
BEGIN:STANDARD
TZOFFSETFROM:-0700
TZOFFSETTO:-0800
TZNAME:PST
DTSTART:20221106T090000
END:STANDARD
BEGIN:DAYLIGHT
TZOFFSETFROM:-0800
TZOFFSETTO:-0700
TZNAME:PDT
DTSTART:20230312T100000
END:DAYLIGHT
BEGIN:STANDARD
TZOFFSETFROM:-0700
TZOFFSETTO:-0800
TZNAME:PST
DTSTART:20231105T090000
END:STANDARD
BEGIN:DAYLIGHT
TZOFFSETFROM:-0800
TZOFFSETTO:-0700
TZNAME:PDT
DTSTART:20240310T100000
END:DAYLIGHT
BEGIN:STANDARD
TZOFFSETFROM:-0700
TZOFFSETTO:-0800
TZNAME:PST
DTSTART:20241103T090000
END:STANDARD
END:VTIMEZONE
BEGIN:VEVENT
DTSTART;TZID=America/Los_Angeles:20230117T100000
DTEND;TZID=America/Los_Angeles:20230919T110000
DTSTAMP:20260420T202803
CREATED:20230118T003647Z
LAST-MODIFIED:20230118T003647Z
UID:10003252-1673949600-1695121200@benitolink.com
SUMMARY:2023 Gardening Courses
DESCRIPTION:Hosted by Growing Hearts Garden Center \n 
URL:https://benitolink.com/event/2023-gardening-courses/
LOCATION:Vista Park Hill Community Gardens
ATTACH;FMTTYPE=image/png:https://benitolink.com/wp-content/uploads/2023/01/image.png
END:VEVENT
BEGIN:VEVENT
DTSTART;VALUE=DATE:20230915
DTEND;VALUE=DATE:20230916
DTSTAMP:20260420T202803
CREATED:20230822T203603Z
LAST-MODIFIED:20230822T203603Z
UID:10003660-1694736000-1694822399@benitolink.com
SUMMARY:Dutch Bros. CASA Fundraiser
DESCRIPTION:On September 15th\, every drink purchase at Dutch Bro’s will donate $1 towards CASA.
URL:https://benitolink.com/event/dutch-bros-casa-fundraiser/
CATEGORIES:Fundraiser
ATTACH;FMTTYPE=image/png:https://benitolink.com/wp-content/uploads/2023/08/DUTCH-BRO-GRAPHIC-1.png
END:VEVENT
BEGIN:VEVENT
DTSTART;TZID=America/Los_Angeles:20230915T090000
DTEND;TZID=America/Los_Angeles:20230915T114500
DTSTAMP:20260420T202803
CREATED:20230922T200015Z
LAST-MODIFIED:20230922T200015Z
UID:10003700-1694768400-1694778300@benitolink.com
SUMMARY:Pop-Up Narcan Training and Informational Booth
DESCRIPTION:Participants will receive information on Tobacco and Opioids. Participants will also be trained on how to administer nasal Narcan and receive information on how to obtain Narcan.
URL:https://benitolink.com/event/pop-up-narcan-training-and-informational-booth-2/
LOCATION:Community Food Bank\, 1133 San Felipe Rd\, Hollister\, 95023\, United States
ATTACH;FMTTYPE=image/jpeg:https://benitolink.com/wp-content/uploads/2023/09/Pink-Narcan-Training-Flyer-Made-with-PosterMyWall-1.jpg
ORGANIZER;CN="San Benito Public Health Opioid Task Force":MAILTO:sbcotf@cosb.us
END:VEVENT
END:VCALENDAR