BEGIN:VCALENDAR
VERSION:2.0
PRODID:-//BenitoLink - ECPv6.15.20//NONSGML v1.0//EN
CALSCALE:GREGORIAN
METHOD:PUBLISH
X-WR-CALNAME:BenitoLink
X-ORIGINAL-URL:https://benitolink.com
X-WR-CALDESC:Events for BenitoLink
REFRESH-INTERVAL;VALUE=DURATION:PT1H
X-Robots-Tag:noindex
X-PUBLISHED-TTL:PT1H
BEGIN:VTIMEZONE
TZID:America/Los_Angeles
BEGIN:DAYLIGHT
TZOFFSETFROM:-0800
TZOFFSETTO:-0700
TZNAME:PDT
DTSTART:20220313T100000
END:DAYLIGHT
BEGIN:STANDARD
TZOFFSETFROM:-0700
TZOFFSETTO:-0800
TZNAME:PST
DTSTART:20221106T090000
END:STANDARD
BEGIN:DAYLIGHT
TZOFFSETFROM:-0800
TZOFFSETTO:-0700
TZNAME:PDT
DTSTART:20230312T100000
END:DAYLIGHT
BEGIN:STANDARD
TZOFFSETFROM:-0700
TZOFFSETTO:-0800
TZNAME:PST
DTSTART:20231105T090000
END:STANDARD
BEGIN:DAYLIGHT
TZOFFSETFROM:-0800
TZOFFSETTO:-0700
TZNAME:PDT
DTSTART:20240310T100000
END:DAYLIGHT
BEGIN:STANDARD
TZOFFSETFROM:-0700
TZOFFSETTO:-0800
TZNAME:PST
DTSTART:20241103T090000
END:STANDARD
END:VTIMEZONE
BEGIN:VEVENT
DTSTART;TZID=America/Los_Angeles:20230117T100000
DTEND;TZID=America/Los_Angeles:20230919T110000
DTSTAMP:20260420T185235
CREATED:20230118T003647Z
LAST-MODIFIED:20230118T003647Z
UID:10003252-1673949600-1695121200@benitolink.com
SUMMARY:2023 Gardening Courses
DESCRIPTION:Hosted by Growing Hearts Garden Center \n 
URL:https://benitolink.com/event/2023-gardening-courses/
LOCATION:Vista Park Hill Community Gardens
ATTACH;FMTTYPE=image/png:https://benitolink.com/wp-content/uploads/2023/01/image.png
END:VEVENT
BEGIN:VEVENT
DTSTART;TZID=America/Los_Angeles:20230916T090000
DTEND;TZID=America/Los_Angeles:20230917T160000
DTSTAMP:20260420T185235
CREATED:20230628T204926Z
LAST-MODIFIED:20230628T205316Z
UID:10003317-1694854800-1694966400@benitolink.com
SUMMARY:Civil War Days
DESCRIPTION:If you have an interest in the American Civil War and want to learn what it was like to be in the Union or Confederate camp in 1863\, you will not want to miss this event. The Civil War Reenactors will be present in period uniforms to set up camp at the Historical Park grounds in Tres Pinos. \nThe reenactors try to stay in character portraying 1860’s soldiers but will happily break character to answer any questions you may have. \nThis event is for all ages and will be interactive\, Educational and entertaining. Food and drinks will be available. \nGeneral Grant & President Abraham Lincoln impersonators will be there both days! \nSaturday\, September 16 9  a.m. – 4 p\,m.\nSunday\, September 17 9 a.m. – 4 p.m.\nAt the Historical Park\,\nTres Pinos\, California
URL:https://benitolink.com/event/__trashed-2/
LOCATION:Historic Park\, 8300 Highway 25\, Tres Pinos\, 95023\, United States America
CATEGORIES:Fundraiser
ATTACH;FMTTYPE=image/jpeg:https://benitolink.com/wp-content/uploads/2023/06/2015-4.jpg
ORGANIZER;CN="San Benito County Historical Society":MAILTO:weshollister@yahoo.com
END:VEVENT
BEGIN:VEVENT
DTSTART;TZID=America/Los_Angeles:20230917T170000
DTEND;TZID=America/Los_Angeles:20230917T200000
DTSTAMP:20260420T185235
CREATED:20230815T191757Z
LAST-MODIFIED:20230815T191857Z
UID:10003396-1694970000-1694980800@benitolink.com
SUMMARY:Paint Your Own Glass
DESCRIPTION:Join us at The GardenShoppe on our back patio and paint your own glass while listening to live jazz music! We have plenty of glasses to choose from including wine\, stemless wine\, martini and champagne glasses. Tickets are $30 and include your first glass of wine. \nThis is a 21 and over event. As a friendly reminder\, no outside beverages are allowed; we have a large selection of beer\, wine\, ciders\, seltzers\, and non-alcoholic beverages available for purchase. We will have a charcuterie available for purchase\, also.
URL:https://benitolink.com/event/paint-your-own-glass/
LOCATION:The GardenShoppe\, 364 7th Street\, Hollister\, CA\, 95023\, United States
ATTACH;FMTTYPE=image/jpeg:https://benitolink.com/wp-content/uploads/2023/08/Newsletter-68.jpg
ORGANIZER;CN="The GardenShoppe":MAILTO:hello@gardenshoppeandbar.com
END:VEVENT
END:VCALENDAR