BEGIN:VCALENDAR
VERSION:2.0
PRODID:-//BenitoLink - ECPv6.15.20//NONSGML v1.0//EN
CALSCALE:GREGORIAN
METHOD:PUBLISH
X-WR-CALNAME:BenitoLink
X-ORIGINAL-URL:https://benitolink.com
X-WR-CALDESC:Events for BenitoLink
REFRESH-INTERVAL;VALUE=DURATION:PT1H
X-Robots-Tag:noindex
X-PUBLISHED-TTL:PT1H
BEGIN:VTIMEZONE
TZID:America/Los_Angeles
BEGIN:DAYLIGHT
TZOFFSETFROM:-0800
TZOFFSETTO:-0700
TZNAME:PDT
DTSTART:20220313T100000
END:DAYLIGHT
BEGIN:STANDARD
TZOFFSETFROM:-0700
TZOFFSETTO:-0800
TZNAME:PST
DTSTART:20221106T090000
END:STANDARD
BEGIN:DAYLIGHT
TZOFFSETFROM:-0800
TZOFFSETTO:-0700
TZNAME:PDT
DTSTART:20230312T100000
END:DAYLIGHT
BEGIN:STANDARD
TZOFFSETFROM:-0700
TZOFFSETTO:-0800
TZNAME:PST
DTSTART:20231105T090000
END:STANDARD
BEGIN:DAYLIGHT
TZOFFSETFROM:-0800
TZOFFSETTO:-0700
TZNAME:PDT
DTSTART:20240310T100000
END:DAYLIGHT
BEGIN:STANDARD
TZOFFSETFROM:-0700
TZOFFSETTO:-0800
TZNAME:PST
DTSTART:20241103T090000
END:STANDARD
END:VTIMEZONE
BEGIN:VEVENT
DTSTART;TZID=America/Los_Angeles:20230922T173000
DTEND;TZID=America/Los_Angeles:20231106T190000
DTSTAMP:20260424T122423
CREATED:20230925T233550Z
LAST-MODIFIED:20230925T233550Z
UID:10003854-1695403800-1699297200@benitolink.com
SUMMARY:Parent Education Seminar: Understanding Procedural Rights
DESCRIPTION:Come learn with the Community Advisory Committee about your procedural rights and how it can impact the decisions you make in the provision of an IEP for your student. This will be a virtual event\, if interested in attending then email Jennifer Henig at jhenig@sbcoe.org for more information.
URL:https://benitolink.com/event/parent-education-seminar-understanding-procedural-rights/
LOCATION:Zoom
CATEGORIES:Schools
ATTACH;FMTTYPE=image/jpeg:https://benitolink.com/wp-content/uploads/2023/09/Picture1-1.jpg
ORGANIZER;CN="Jennifer Henig":MAILTO:jhenig@sbcoe.k12.ca.us
END:VEVENT
BEGIN:VEVENT
DTSTART;TZID=America/Los_Angeles:20231001T090000
DTEND;TZID=America/Los_Angeles:20231001T120000
DTSTAMP:20260424T122423
CREATED:20230919T171322Z
LAST-MODIFIED:20230919T171322Z
UID:10003706-1696150800-1696161600@benitolink.com
SUMMARY:SBALT Ranch Days
DESCRIPTION:This month we are going to take a hike on SBALT’s Rancho Larios Open Space. Bring pruners to help trim back the trails as we go. Join us!
URL:https://benitolink.com/event/sbalt-ranch-days-3/
LOCATION:San Juan Bautista\, CA
CATEGORIES:Sports-Recreation
ATTACH;FMTTYPE=image/jpeg:https://benitolink.com/wp-content/uploads/2023/09/October-Ranch-Day-Flier.jpg
ORGANIZER;CN="San Benito Agricultural Land Trust":MAILTO:info@sanbenitolandtrust.org
END:VEVENT
END:VCALENDAR