BEGIN:VCALENDAR
VERSION:2.0
PRODID:-//BenitoLink - ECPv6.15.20//NONSGML v1.0//EN
CALSCALE:GREGORIAN
METHOD:PUBLISH
X-ORIGINAL-URL:https://benitolink.com
X-WR-CALDESC:Events for BenitoLink
REFRESH-INTERVAL;VALUE=DURATION:PT1H
X-Robots-Tag:noindex
X-PUBLISHED-TTL:PT1H
BEGIN:VTIMEZONE
TZID:America/Los_Angeles
BEGIN:DAYLIGHT
TZOFFSETFROM:-0800
TZOFFSETTO:-0700
TZNAME:PDT
DTSTART:20220313T100000
END:DAYLIGHT
BEGIN:STANDARD
TZOFFSETFROM:-0700
TZOFFSETTO:-0800
TZNAME:PST
DTSTART:20221106T090000
END:STANDARD
BEGIN:DAYLIGHT
TZOFFSETFROM:-0800
TZOFFSETTO:-0700
TZNAME:PDT
DTSTART:20230312T100000
END:DAYLIGHT
BEGIN:STANDARD
TZOFFSETFROM:-0700
TZOFFSETTO:-0800
TZNAME:PST
DTSTART:20231105T090000
END:STANDARD
BEGIN:DAYLIGHT
TZOFFSETFROM:-0800
TZOFFSETTO:-0700
TZNAME:PDT
DTSTART:20240310T100000
END:DAYLIGHT
BEGIN:STANDARD
TZOFFSETFROM:-0700
TZOFFSETTO:-0800
TZNAME:PST
DTSTART:20241103T090000
END:STANDARD
END:VTIMEZONE
BEGIN:VEVENT
DTSTART;TZID=America/Los_Angeles:20231125T100000
DTEND;TZID=America/Los_Angeles:20231125T140000
DTSTAMP:20260422T160154
CREATED:20231018T214224Z
LAST-MODIFIED:20231018T214610Z
UID:10003908-1700906400-1700920800@benitolink.com
SUMMARY:SBALT Post-Thanksgiving Day Hike
DESCRIPTION:After a day of indulging in delicious Thanksgiving feasts with family and friends\, it is time to lace up your hiking boots and enjoy the fresh air and scenic beauty of San Juan Bautista. The San Benito Agricultural Land Trust invites you and your family to join us for a Post-Thanksgiving Day Hike! \nOur annual Post-Thanksgiving Day Hike is on Saturday\, November 25\, 2023\, from 10:00 a.m. to 2:00 p.m. We will do a moderate hike through Nyland and Rancho Larios. Bring food for a picnic at a vista overlooking San Juan Bautista. All ages are welcome.
URL:https://benitolink.com/event/sbalt-post-thanksgiving-day-hike/
LOCATION:San Juan Bautista\, P. O. Box 145\, San Juan Bautista\, CA\, 95045\, United States
CATEGORIES:Sports-Recreation
ATTACH;FMTTYPE=image/jpeg:https://benitolink.com/wp-content/uploads/2023/10/Ranch-Day-Flyer-Thanksgiving-2023.jpg
ORGANIZER;CN="San Benito Agricultural Land Trust":MAILTO:info@sanbenitolandtrust.org
END:VEVENT
BEGIN:VEVENT
DTSTART;TZID=America/Los_Angeles:20231125T100000
DTEND;TZID=America/Los_Angeles:20231125T150000
DTSTAMP:20260422T160155
CREATED:20231105T022148Z
LAST-MODIFIED:20231105T022148Z
UID:10003943-1700906400-1700924400@benitolink.com
SUMMARY:Holidays on the Farm
DESCRIPTION:Holiday on the Farm. Enjoy the cozy charm of the farm while you shop and give back to the community! November 25 & 26\, December 2 & 3\, and December 9\, from 10am to 3pm.🎁
URL:https://benitolink.com/event/holidays-on-the-farm-3/2023-11-25/
LOCATION: B & R Farms.\, 5280 Fairview Road\, Hollister.
CATEGORIES:Fairs-Festivals
ATTACH;FMTTYPE=image/jpeg:https://benitolink.com/wp-content/uploads/2023/11/Holidays-on-the-Farm-2023-Post-Card.jpg
ORGANIZER;CN="B &amp%3B R Farms%2C LLC":MAILTO:info@brfarms.com
END:VEVENT
END:VCALENDAR