BEGIN:VCALENDAR
VERSION:2.0
PRODID:-//BenitoLink - ECPv6.15.20//NONSGML v1.0//EN
CALSCALE:GREGORIAN
METHOD:PUBLISH
X-ORIGINAL-URL:https://benitolink.com
X-WR-CALDESC:Events for BenitoLink
REFRESH-INTERVAL;VALUE=DURATION:PT1H
X-Robots-Tag:noindex
X-PUBLISHED-TTL:PT1H
BEGIN:VTIMEZONE
TZID:America/Los_Angeles
BEGIN:DAYLIGHT
TZOFFSETFROM:-0800
TZOFFSETTO:-0700
TZNAME:PDT
DTSTART:20220313T100000
END:DAYLIGHT
BEGIN:STANDARD
TZOFFSETFROM:-0700
TZOFFSETTO:-0800
TZNAME:PST
DTSTART:20221106T090000
END:STANDARD
BEGIN:DAYLIGHT
TZOFFSETFROM:-0800
TZOFFSETTO:-0700
TZNAME:PDT
DTSTART:20230312T100000
END:DAYLIGHT
BEGIN:STANDARD
TZOFFSETFROM:-0700
TZOFFSETTO:-0800
TZNAME:PST
DTSTART:20231105T090000
END:STANDARD
BEGIN:DAYLIGHT
TZOFFSETFROM:-0800
TZOFFSETTO:-0700
TZNAME:PDT
DTSTART:20240310T100000
END:DAYLIGHT
BEGIN:STANDARD
TZOFFSETFROM:-0700
TZOFFSETTO:-0800
TZNAME:PST
DTSTART:20241103T090000
END:STANDARD
END:VTIMEZONE
BEGIN:VEVENT
DTSTART;TZID=America/Los_Angeles:20231127T080000
DTEND;TZID=America/Los_Angeles:20231221T160000
DTSTAMP:20260421T211900
CREATED:20231128T160619Z
LAST-MODIFIED:20231128T160619Z
UID:10003973-1701072000-1703174400@benitolink.com
SUMMARY:Holiday Toy Drive!
DESCRIPTION:The Rancho Maze Band\, in partnership with Rancho San Justo & Marguerite Maze Middle Schools\, present their first ever Holiday Toy Drive! \nJoin us in creating a truly unforgettable holiday experience for deserving children in your community. Your contribution of a brand-new\, unwrapped toy will go a long way in making a child’s dreams come true. Middle school-aged kids are especially in need of your support! \nCan you imagine the difference your generous gift can make to a child? Your donations are so important! \nWe’ll gladly accept and so deeply appreciate any NEW & UNWRAPPED gift for children ages 5-18\, but we’d love to pay special attention to our tween to teen age range\, who often miss out on the same level of attention and support. \nDon’t know how to help?\nConsider donating sporting equipment such as basketballs\, soccer balls\, or footballs\, as well as engaging board games\, trendy purses or bags\, self-care kits\, captivating books\, or art supplies. And remember\, you can never go wrong with a simple stuffed animal or a LEGO set. Simply bring your item(s) to any of our Donation Stations\, and we’ll take care of the rest! \nTogether\, let’s make this holiday season truly special for these deserving kids! \nNov 27th – Dec 21st\nDonation Stations: \nRancho San Justo Middle School\n(Front Office)\n1201 Rancho Drive\nHollister\, CA 95023 \nMarguerite Maze Middle School\n(Front Office)\n900 Meridian Street\nHollister\, CA 95023
URL:https://benitolink.com/event/holiday-toy-drive/
CATEGORIES:Arts-Entertainment,Fundraiser,Rally-Causes,Schools
ATTACH;FMTTYPE=image/jpeg:https://benitolink.com/wp-content/uploads/2023/11/toy-drive.jpg
ORGANIZER;CN="Rancho Maze Band Boosters Association":MAILTO:RanchoMazeBandBoosters@gmail.com
END:VEVENT
BEGIN:VEVENT
DTSTART;TZID=America/Los_Angeles:20231209T100000
DTEND;TZID=America/Los_Angeles:20231209T150000
DTSTAMP:20260421T211900
CREATED:20231105T021938Z
LAST-MODIFIED:20231105T021938Z
UID:10003947-1702116000-1702134000@benitolink.com
SUMMARY:Holidays on the Farm
DESCRIPTION:Holiday on the Farm. Enjoy the cozy charm of the farm while you shop and give back to the community! November 25 & 26\, December 2 & 3\, and December 9\, from 10am to 3pm.🎁⠀⠀⠀⠀⠀
URL:https://benitolink.com/event/holidays-on-the-farm/
LOCATION: B & R Farms.\, 5280 Fairview Road\, Hollister.
CATEGORIES:Fairs-Festivals
ATTACH;FMTTYPE=image/jpeg:https://benitolink.com/wp-content/uploads/2023/11/Holidays-on-the-Farm-2023-Post-Card-2.jpg
ORGANIZER;CN="B &amp%3B R Farms%2C LLC.":MAILTO:info@brfarms.com
END:VEVENT
BEGIN:VEVENT
DTSTART;TZID=America/Los_Angeles:20231209T180000
DTEND;TZID=America/Los_Angeles:20231209T210000
DTSTAMP:20260421T211900
CREATED:20231121T175933Z
LAST-MODIFIED:20231121T175933Z
UID:10003954-1702144800-1702155600@benitolink.com
SUMMARY:Murder Mystery Party
DESCRIPTION:Join us at The GardenShoppe for a Christmas-themed murder mystery! If you’ve never been to one of our murder mystery parties\, now is your chance! Tickets are $25 and include appetizers\, dinner (soup & bread) and dessert. Tickets for this event must be pre-purchased. \nOnce your ticket has been purchased\, please be sure to check your email for your character role. This is not a dinner theater. You will be an active participant and provided with a role\, suggestions for costume\, and additional details pertaining to the murder mystery. \nPlease note\, this is a 21 and over event. No outside beverages are allowed on the property; we have a large selection of beer\, wine\, ciders\, and seltzers as well as non-alcoholic beverages available for purchase. \nLacey Kringel has once again agreed to host the annual Kringel’s Block Party for the neighborhood of Holly Hills. The usual suspects will attend the get together and a few invites were handed over just to keep the peace and prevent hostile gate-crashing. The gossip grapevines of Hollyberry Town have been seething with scandals over the past year. Stories of blackmail\, backstabbing\, and treachery have circulated around this ‘once peaceful’ town. You’ve seen the RSVP list for this year\, and you are concerned. In fact\, you would bet everything you have that there will be drama! You also have an ax to grind with a few people who will attend this party\, so you’re more than ready to see what happens.
URL:https://benitolink.com/event/murder-mystery-party/
LOCATION:The GardenShoppe\, 364 7th Street\, Hollister\, CA\, 95023\, United States
ATTACH;FMTTYPE=image/jpeg:https://benitolink.com/wp-content/uploads/2023/11/Newsletter-84.jpg
ORGANIZER;CN="The GardenShoppe":MAILTO:hello@gardenshoppeandbar.com
END:VEVENT
END:VCALENDAR