BEGIN:VCALENDAR
VERSION:2.0
PRODID:-//BenitoLink - ECPv6.15.20//NONSGML v1.0//EN
CALSCALE:GREGORIAN
METHOD:PUBLISH
X-ORIGINAL-URL:https://benitolink.com
X-WR-CALDESC:Events for BenitoLink
REFRESH-INTERVAL;VALUE=DURATION:PT1H
X-Robots-Tag:noindex
X-PUBLISHED-TTL:PT1H
BEGIN:VTIMEZONE
TZID:America/Los_Angeles
BEGIN:DAYLIGHT
TZOFFSETFROM:-0800
TZOFFSETTO:-0700
TZNAME:PDT
DTSTART:20230312T100000
END:DAYLIGHT
BEGIN:STANDARD
TZOFFSETFROM:-0700
TZOFFSETTO:-0800
TZNAME:PST
DTSTART:20231105T090000
END:STANDARD
BEGIN:DAYLIGHT
TZOFFSETFROM:-0800
TZOFFSETTO:-0700
TZNAME:PDT
DTSTART:20240310T100000
END:DAYLIGHT
BEGIN:STANDARD
TZOFFSETFROM:-0700
TZOFFSETTO:-0800
TZNAME:PST
DTSTART:20241103T090000
END:STANDARD
BEGIN:DAYLIGHT
TZOFFSETFROM:-0800
TZOFFSETTO:-0700
TZNAME:PDT
DTSTART:20250309T100000
END:DAYLIGHT
BEGIN:STANDARD
TZOFFSETFROM:-0700
TZOFFSETTO:-0800
TZNAME:PST
DTSTART:20251102T090000
END:STANDARD
END:VTIMEZONE
BEGIN:VEVENT
DTSTART;TZID=America/Los_Angeles:20240120T110000
DTEND;TZID=America/Los_Angeles:20240120T140000
DTSTAMP:20260422T151810
CREATED:20240119T182340Z
LAST-MODIFIED:20240119T182340Z
UID:10004100-1705748400-1705759200@benitolink.com
SUMMARY:San Benito County Democratic Party Meet & Greet
DESCRIPTION:A social mixer for local Democrats\, and an opportunity to meet our endorsed candidates for U.S. Congress\, State Senate\, and County Supervisor.\nAt Strada Verde Information Center\, 354 First Street\, Hollister
URL:https://benitolink.com/event/san-benito-county-democratic-party-meet-greet/
ATTACH;FMTTYPE=image/jpeg:https://benitolink.com/wp-content/uploads/2024/01/January-2024-Social-Mixer.jpg
END:VEVENT
BEGIN:VEVENT
DTSTART;TZID=America/Los_Angeles:20240120T180000
DTEND;TZID=America/Los_Angeles:20240120T200000
DTSTAMP:20260422T151810
CREATED:20240109T225158Z
LAST-MODIFIED:20240109T225158Z
UID:10004076-1705773600-1705780800@benitolink.com
SUMMARY:SBC Cattlemen's Winter Dance
DESCRIPTION:Date: January 20\, 2024 \nTime: Meeting/3-5 p.m. Dance/6-8 p.m. \nLocation: Paicines Ranch \nThe suggested ticket price for this event is $25 and that makes you a member of the Cattlemen’s for a year.
URL:https://benitolink.com/event/sbc-cattlemens-winter-dance/
ATTACH;FMTTYPE=image/jpeg:https://benitolink.com/wp-content/uploads/2024/01/Event-Flyer.jpg
END:VEVENT
END:VCALENDAR