BEGIN:VCALENDAR
VERSION:2.0
PRODID:-//BenitoLink - ECPv6.15.20//NONSGML v1.0//EN
CALSCALE:GREGORIAN
METHOD:PUBLISH
X-ORIGINAL-URL:https://benitolink.com
X-WR-CALDESC:Events for BenitoLink
REFRESH-INTERVAL;VALUE=DURATION:PT1H
X-Robots-Tag:noindex
X-PUBLISHED-TTL:PT1H
BEGIN:VTIMEZONE
TZID:America/Los_Angeles
BEGIN:DAYLIGHT
TZOFFSETFROM:-0800
TZOFFSETTO:-0700
TZNAME:PDT
DTSTART:20230312T100000
END:DAYLIGHT
BEGIN:STANDARD
TZOFFSETFROM:-0700
TZOFFSETTO:-0800
TZNAME:PST
DTSTART:20231105T090000
END:STANDARD
BEGIN:DAYLIGHT
TZOFFSETFROM:-0800
TZOFFSETTO:-0700
TZNAME:PDT
DTSTART:20240310T100000
END:DAYLIGHT
BEGIN:STANDARD
TZOFFSETFROM:-0700
TZOFFSETTO:-0800
TZNAME:PST
DTSTART:20241103T090000
END:STANDARD
BEGIN:DAYLIGHT
TZOFFSETFROM:-0800
TZOFFSETTO:-0700
TZNAME:PDT
DTSTART:20250309T100000
END:DAYLIGHT
BEGIN:STANDARD
TZOFFSETFROM:-0700
TZOFFSETTO:-0800
TZNAME:PST
DTSTART:20251102T090000
END:STANDARD
END:VTIMEZONE
BEGIN:VEVENT
DTSTART;TZID=America/Los_Angeles:20240203T103000
DTEND;TZID=America/Los_Angeles:20240203T140000
DTSTAMP:20260422T070209
CREATED:20240109T232210Z
LAST-MODIFIED:20240109T232210Z
UID:10004077-1706956200-1706968800@benitolink.com
SUMMARY:UC Master Gardener Hands-On Fruit Tree Pruning Workshop
DESCRIPTION:When: Saturday\, February 3\, 10:30 am – noon \nWhere: San Juan Bautista State Historical Park\, 2nd St & Mariposa St\, San Juan Bautista. \nCost: Free \nDo you have fruit trees in need of pruning? Do you want to learn the difference between a thinning cut and a heading cut? Bring your gloves and pruners for a hands-on fruit tree pruning demonstration in the San Juan Bautista State Historical Park orchard. \nAfter a brief demonstration and orientation\, join UC Master Gardener\, Diane Mahan\, in the orchard for an opportunity to analyze established fruit trees\, and practice your newfound pruning skills. \nVisit mbmg.ucanr.edu for more information and to register.
URL:https://benitolink.com/event/uc-master-gardener-hands-on-fruit-tree-pruning-workshop/
CATEGORIES:Workshop-Training
ATTACH;FMTTYPE=image/jpeg:https://benitolink.com/wp-content/uploads/2023/02/prune-2119567_1920.jpg
END:VEVENT
END:VCALENDAR