BEGIN:VCALENDAR
VERSION:2.0
PRODID:-//BenitoLink - ECPv6.15.20//NONSGML v1.0//EN
CALSCALE:GREGORIAN
METHOD:PUBLISH
X-WR-CALNAME:BenitoLink
X-ORIGINAL-URL:https://benitolink.com
X-WR-CALDESC:Events for BenitoLink
REFRESH-INTERVAL;VALUE=DURATION:PT1H
X-Robots-Tag:noindex
X-PUBLISHED-TTL:PT1H
BEGIN:VTIMEZONE
TZID:America/Los_Angeles
BEGIN:DAYLIGHT
TZOFFSETFROM:-0800
TZOFFSETTO:-0700
TZNAME:PDT
DTSTART:20230312T100000
END:DAYLIGHT
BEGIN:STANDARD
TZOFFSETFROM:-0700
TZOFFSETTO:-0800
TZNAME:PST
DTSTART:20231105T090000
END:STANDARD
BEGIN:DAYLIGHT
TZOFFSETFROM:-0800
TZOFFSETTO:-0700
TZNAME:PDT
DTSTART:20240310T100000
END:DAYLIGHT
BEGIN:STANDARD
TZOFFSETFROM:-0700
TZOFFSETTO:-0800
TZNAME:PST
DTSTART:20241103T090000
END:STANDARD
BEGIN:DAYLIGHT
TZOFFSETFROM:-0800
TZOFFSETTO:-0700
TZNAME:PDT
DTSTART:20250309T100000
END:DAYLIGHT
BEGIN:STANDARD
TZOFFSETFROM:-0700
TZOFFSETTO:-0800
TZNAME:PST
DTSTART:20251102T090000
END:STANDARD
END:VTIMEZONE
BEGIN:VEVENT
DTSTART;TZID=America/Los_Angeles:20240206T150000
DTEND;TZID=America/Los_Angeles:20240206T160000
DTSTAMP:20260421T211634
CREATED:20240109T211956Z
LAST-MODIFIED:20240109T211956Z
UID:10004075-1707231600-1707235200@benitolink.com
SUMMARY:Narcan Training
DESCRIPTION:PARTICIPANTS WILL BE TRAINED IN HOW TO RECOGNIZE AN OVERDOSE AND HOW TO ADMINISTER NASAL NARCAN
URL:https://benitolink.com/event/narcan-training-2/
ATTACH;FMTTYPE=image/jpeg:https://benitolink.com/wp-content/uploads/2024/01/Narcan-Training-2.6.23_English-2.jpg
END:VEVENT
BEGIN:VEVENT
DTSTART;TZID=America/Los_Angeles:20240206T160000
DTEND;TZID=America/Los_Angeles:20240206T170000
DTSTAMP:20260421T211634
CREATED:20240109T212120Z
LAST-MODIFIED:20240109T212120Z
UID:10004073-1707235200-1707238800@benitolink.com
SUMMARY:Entrenamiento Narcan
DESCRIPTION:LOS PARTICIPANTES SERÁN ENTRENADOS EN CÓMO RECONOCER UN SOBREDOSIS Y CÓMO ADMINISTRAR NARCAN NASAL
URL:https://benitolink.com/event/entrenamiento-narcan-2/
ATTACH;FMTTYPE=image/jpeg:https://benitolink.com/wp-content/uploads/2024/01/Narcan-Training-2.6.23_Spanish.jpg
END:VEVENT
END:VCALENDAR