BEGIN:VCALENDAR
VERSION:2.0
PRODID:-//BenitoLink - ECPv6.15.20//NONSGML v1.0//EN
CALSCALE:GREGORIAN
METHOD:PUBLISH
X-ORIGINAL-URL:https://benitolink.com
X-WR-CALDESC:Events for BenitoLink
REFRESH-INTERVAL;VALUE=DURATION:PT1H
X-Robots-Tag:noindex
X-PUBLISHED-TTL:PT1H
BEGIN:VTIMEZONE
TZID:America/Los_Angeles
BEGIN:DAYLIGHT
TZOFFSETFROM:-0800
TZOFFSETTO:-0700
TZNAME:PDT
DTSTART:20230312T100000
END:DAYLIGHT
BEGIN:STANDARD
TZOFFSETFROM:-0700
TZOFFSETTO:-0800
TZNAME:PST
DTSTART:20231105T090000
END:STANDARD
BEGIN:DAYLIGHT
TZOFFSETFROM:-0800
TZOFFSETTO:-0700
TZNAME:PDT
DTSTART:20240310T100000
END:DAYLIGHT
BEGIN:STANDARD
TZOFFSETFROM:-0700
TZOFFSETTO:-0800
TZNAME:PST
DTSTART:20241103T090000
END:STANDARD
BEGIN:DAYLIGHT
TZOFFSETFROM:-0800
TZOFFSETTO:-0700
TZNAME:PDT
DTSTART:20250309T100000
END:DAYLIGHT
BEGIN:STANDARD
TZOFFSETFROM:-0700
TZOFFSETTO:-0800
TZNAME:PST
DTSTART:20251102T090000
END:STANDARD
END:VTIMEZONE
BEGIN:VEVENT
DTSTART;TZID=America/Los_Angeles:20240222T120000
DTEND;TZID=America/Los_Angeles:20240222T130000
DTSTAMP:20260422T152604
CREATED:20230922T200300Z
LAST-MODIFIED:20241024T174853Z
UID:10003425-1708603200-1708606800@benitolink.com
SUMMARY:Toastmasters of San Benito General Meetings
DESCRIPTION:Join us for our weekly meetings – every Thursday\, 12:00 to 1:00 at 440 San Benito Street in Hollister.\nToastmasters of San Benito is affiliated with Toastmasters International. Learn how to give a speech in a friendly\, easy-going\, non-judgemental environment. Build self-confidence and self-awareness as you learn new skills.
URL:https://benitolink.com/event/toastmasters-of-san-benito-general-meetings/2024-02-22/
LOCATION:Community Foundation Epicenter\, 440 San Benito Street\, Hollister\, CA\, Hollister\, 95023\, United States America
CATEGORIES:Meetings
ATTACH;FMTTYPE=image/jpeg:https://benitolink.com/wp-content/uploads/2023/08/376655792_10227727319360169_8547998125808627151_n.jpg
END:VEVENT
BEGIN:VEVENT
DTSTART;TZID=America/Los_Angeles:20240222T180000
DTEND;TZID=America/Los_Angeles:20240222T200000
DTSTAMP:20260422T152605
CREATED:20240130T175111Z
LAST-MODIFIED:20240130T212452Z
UID:10004115-1708624800-1708632000@benitolink.com
SUMMARY:Artist Drop-In Hours (ages 18+)
DESCRIPTION:Artists (ages 18+) are welcome to use of the Arts Council’s Art Depot for these relaxed drop-in sessions. Artists are to bring their own supplies and works in progress. Work tables and seating will be provided. \nThese drop-in hours are an opportunity for artists & makers to drop-in to use our space to create\, work on works in progress\, and connect with other artists. *These are not instructor led workshops. \nDates & Times: Every Thursday\, 6-8 pm\, Jan. 11th-Mar. 21st (excepting Feb. 9th\, 29th) \nLocation: The Art Depot\, 35 5th Street\, Ste D\, Downtown Hollister \nOther Important Details: \nAges: 18-adults\nMaterials: While limited materials are available at the Depot\, artists are expected to bring their own materials and projects\nCost: $10 suggested donation \n*Attendees are welcome to bring their own drinks and snacks. Drop-in hours will be staffed by an Arts Council staff member. \nFor related questions\, email julian@sanbenitoarts.org
URL:https://benitolink.com/event/artist-drop-in-hours-ages-18/2024-02-22/
LOCATION:Art Depot\, 35 Fifth Street\, Suite D\, Hollister
CATEGORIES:Arts-Entertainment
ATTACH;FMTTYPE=image/png:https://benitolink.com/wp-content/uploads/2024/01/Artist-Drop-In-Hours.png
ORGANIZER;CN="San Benito County Arts Council":MAILTO:info@sanbenitoarts.org
END:VEVENT
BEGIN:VEVENT
DTSTART;TZID=America/Los_Angeles:20240222T180000
DTEND;TZID=America/Los_Angeles:20240222T200000
DTSTAMP:20260422T152605
CREATED:20240213T160005Z
LAST-MODIFIED:20240213T160005Z
UID:10004125-1708624800-1708632000@benitolink.com
SUMMARY:Hospital Town Hall
DESCRIPTION:Thursday\, 6 p.m.\, February 22 at Veterans Hall in Hollister. \nThe County of San Benito invites the community to learn more about its proposal and plan for Hazel Hawkins Memorial Hospital’s operations. \nThis event is open to all members of the community\, and your participation is highly valued as we strive to ensure that the hospital continues to meet the evolving needs of the county’s residents. \n 
URL:https://benitolink.com/event/hospital-town-hall/
CATEGORIES:Meetings
ATTACH;FMTTYPE=image/png:https://benitolink.com/wp-content/uploads/2024/02/1.png
END:VEVENT
END:VCALENDAR