BEGIN:VCALENDAR
VERSION:2.0
PRODID:-//BenitoLink - ECPv6.15.20//NONSGML v1.0//EN
CALSCALE:GREGORIAN
METHOD:PUBLISH
X-WR-CALNAME:BenitoLink
X-ORIGINAL-URL:https://benitolink.com
X-WR-CALDESC:Events for BenitoLink
REFRESH-INTERVAL;VALUE=DURATION:PT1H
X-Robots-Tag:noindex
X-PUBLISHED-TTL:PT1H
BEGIN:VTIMEZONE
TZID:America/Los_Angeles
BEGIN:DAYLIGHT
TZOFFSETFROM:-0800
TZOFFSETTO:-0700
TZNAME:PDT
DTSTART:20230312T100000
END:DAYLIGHT
BEGIN:STANDARD
TZOFFSETFROM:-0700
TZOFFSETTO:-0800
TZNAME:PST
DTSTART:20231105T090000
END:STANDARD
BEGIN:DAYLIGHT
TZOFFSETFROM:-0800
TZOFFSETTO:-0700
TZNAME:PDT
DTSTART:20240310T100000
END:DAYLIGHT
BEGIN:STANDARD
TZOFFSETFROM:-0700
TZOFFSETTO:-0800
TZNAME:PST
DTSTART:20241103T090000
END:STANDARD
BEGIN:DAYLIGHT
TZOFFSETFROM:-0800
TZOFFSETTO:-0700
TZNAME:PDT
DTSTART:20250309T100000
END:DAYLIGHT
BEGIN:STANDARD
TZOFFSETFROM:-0700
TZOFFSETTO:-0800
TZNAME:PST
DTSTART:20251102T090000
END:STANDARD
END:VTIMEZONE
BEGIN:VEVENT
DTSTART;TZID=America/Los_Angeles:20240224T103000
DTEND;TZID=America/Los_Angeles:20240224T143000
DTSTAMP:20260420T191230
CREATED:20240130T175258Z
LAST-MODIFIED:20240130T175258Z
UID:10004105-1708770600-1708785000@benitolink.com
SUMMARY:“Supercharge Your Communication Skills” Workshop and Open House
DESCRIPTION:Curious about Toastmasters? \nDivision A Toastmasters invites residents of Santa Cruz\, Monterey\, and San Benito counties to its “Supercharge Your Communication Skills” Workshop and Open House on Saturday\, February 24 from 10:30 AM to 2:30 PM. The event is located at the Kathleen A. King Community Room in the Community Health Trust of Pajaro Valley building near Watsonville Hospital. \nThis FREE event includes a hands-on workshop\, networking lunch\, prizes\, informative sessions and Q&A about the self-paced Toastmasters program that develops speaking and leadership skills. \nDivision A Director Helen Josephine kicks off the event with the “Give Effective Feedback” workshop facilitated by Megan Mayer\, DTM. This interactive workshop offers members and guests practice using effective communication techniques useful for everyday life\, at work and home. Enjoy a bite to eat during the club showcase where you’ll meet with local clubs\, members\, and district leaders. \nHeadlining the afternoon\, Abhijeet Joshi\, DTM\, Program Manager at NVIDIA and District Director\, delivers an inspirational keynote speech and Raji Bandanapudi\, DTM\, Senior Engineer at NVIDIA and Program Quality Director at District 101\, presents Putting It All Together—The Toastmasters Educational Program. The open house concludes with “Ask Us Anything about Toastmasters” Q&A. \nToastmasters International is a nonprofit educational organization that builds confidence and teaches public speaking skills through a worldwide network of clubs that meet online and in person. Division A Toastmasters is comprised of seventeen clubs that meet at various days and times in cities throughout the tri-county region. It is one of six divisions of District 101 Toastmasters that extends from “Silicon to Surf\,” home to more than 140 clubs and 3\,000 members. \nRegister at http://tinyurl.com/TheSupercharge to reserve your spot. \nArrive early as check-in begins at 10:30 AM!\nFor additional information\, email SuperchargeCommunication@gmail.com. \nWhen: Saturday\, February 24\, 2024 from 10:30 AM – 2:30 PM\nWhere: Kathleen A. King Community Room\, Community Health Trust of Pajaro Valley\,\n85 Nielson Street\, Watsonville\, CA\nCost: Free\nRegister @ http://tinyurl.com/TheSupercharge
URL:https://benitolink.com/event/supercharge-your-communication-skills-workshop-and-open-house/
LOCATION:Community Health Trust of Pajaro Valley\, 85 Nielson Street\, Watsonville\, CA\, 95076\, United States
CATEGORIES:Neighborhood Associations,Workshop-Training
ATTACH;FMTTYPE=image/jpeg:https://benitolink.com/wp-content/uploads/2024/01/NBM_1070-scaled.jpg
ORGANIZER;CN="Division A Toastmasters":MAILTO:bairhugs@gmail.com
END:VEVENT
BEGIN:VEVENT
DTSTART;TZID=America/Los_Angeles:20240224T190000
DTEND;TZID=America/Los_Angeles:20240224T220000
DTSTAMP:20260420T191230
CREATED:20240215T165353Z
LAST-MODIFIED:20240215T165353Z
UID:10004128-1708801200-1708812000@benitolink.com
SUMMARY:Red Solo Cup Karaoke: A Toby Keith Tribute
DESCRIPTION:Join us at The GardenShoppe on Saturday\, February 24th from 7 to 10 pm for a Toby Keith tribute karaoke night! This is an ages 8+ event. Please dress warmly as our patio can get chilly in the evenings.\nAs a friendly reminder\, no outside beverages are allowed on the property. We have a large selection of beer\, wine\, hard ciders & seltzers as well as non-alcoholic beverages available for purchase.
URL:https://benitolink.com/event/red-solo-cup-karaoke-a-toby-keith-tribute/
LOCATION:The Garden Shoppe\, 364 Seventh Street\, Hollister
ATTACH;FMTTYPE=image/jpeg:https://benitolink.com/wp-content/uploads/2024/02/Newsletter-IG-3.jpg
ORGANIZER;CN="The GardenShoppe":MAILTO:hello@gardenshoppeandbar.com
END:VEVENT
END:VCALENDAR