BEGIN:VCALENDAR
VERSION:2.0
PRODID:-//BenitoLink - ECPv6.15.20//NONSGML v1.0//EN
CALSCALE:GREGORIAN
METHOD:PUBLISH
X-ORIGINAL-URL:https://benitolink.com
X-WR-CALDESC:Events for BenitoLink
REFRESH-INTERVAL;VALUE=DURATION:PT1H
X-Robots-Tag:noindex
X-PUBLISHED-TTL:PT1H
BEGIN:VTIMEZONE
TZID:America/Los_Angeles
BEGIN:DAYLIGHT
TZOFFSETFROM:-0800
TZOFFSETTO:-0700
TZNAME:PDT
DTSTART:20230312T100000
END:DAYLIGHT
BEGIN:STANDARD
TZOFFSETFROM:-0700
TZOFFSETTO:-0800
TZNAME:PST
DTSTART:20231105T090000
END:STANDARD
BEGIN:DAYLIGHT
TZOFFSETFROM:-0800
TZOFFSETTO:-0700
TZNAME:PDT
DTSTART:20240310T100000
END:DAYLIGHT
BEGIN:STANDARD
TZOFFSETFROM:-0700
TZOFFSETTO:-0800
TZNAME:PST
DTSTART:20241103T090000
END:STANDARD
BEGIN:DAYLIGHT
TZOFFSETFROM:-0800
TZOFFSETTO:-0700
TZNAME:PDT
DTSTART:20250309T100000
END:DAYLIGHT
BEGIN:STANDARD
TZOFFSETFROM:-0700
TZOFFSETTO:-0800
TZNAME:PST
DTSTART:20251102T090000
END:STANDARD
END:VTIMEZONE
BEGIN:VEVENT
DTSTART;TZID=America/Los_Angeles:20240302T180000
DTEND;TZID=America/Los_Angeles:20240302T210000
DTSTAMP:20260421T043055
CREATED:20240118T222354Z
LAST-MODIFIED:20240118T222354Z
UID:10004098-1709402400-1709413200@benitolink.com
SUMMARY:Murder Mystery Party
DESCRIPTION:Join us at The GardenShoppe for a St. Patty’s Day murder mystery party! If you’ve never been to one of our murder mystery parties\, now is your chance! Tickets are $25 and include appetizers\, dinner\, and dessert. Tickets for this event must be purchased in advance. \nOnce your ticket has been purchased\, please be sure to check your email for your character role. This is not a dinner theater; you will be an active participant and provided with a role\, costume suggestions\, and additional details pertaining to the murder mystery. \nPlease note\, this is a 21 and over event. No outside beverages are allowed on the property; we have a large selection of beer\, wine\, ciders\, and seltzers as well as non-alcoholic beverages available for purchase. \nTickets may be purchased online\, in-store\, or by phone at 831-265-7039. \n— \nThe Shakin’ Shamrock is smack dab in the heart of Dublin. This hopping hotspot is famous for putting on to-die-for celebrations. The highly-anticipated annual St. Patrick’s Day bash is drawing near\, and it’s almost time to bring out your inner leprechaun and enjoy delicious Irish offerings while partying with the most prominent\, beloved\, and trendy townsfolk.However\, you should proceed with caution at the gathering. Scandals\, feuds\, and mayhem plagued the last year like no other. People who didn’t have a mean bone in their body have become some of the most ruthless\, vengeful souls you’ve ever known. Nevertheless\, the pub management expects everyone to cast aside their differences – if only for one enjoyable evening. Then\, if all attendees comply\, everyone might be safe at the party.
URL:https://benitolink.com/event/murder-mystery-party-2/
LOCATION:The GardenShoppe\, 364 7th Street\, Hollister\, CA\, 95023\, United States
ATTACH;FMTTYPE=image/jpeg:https://benitolink.com/wp-content/uploads/2024/01/Newsletter-IG-2.jpg
ORGANIZER;CN="The GardenShoppe":MAILTO:hello@gardenshoppeandbar.com
END:VEVENT
END:VCALENDAR