BEGIN:VCALENDAR
VERSION:2.0
PRODID:-//BenitoLink - ECPv6.15.20//NONSGML v1.0//EN
CALSCALE:GREGORIAN
METHOD:PUBLISH
X-ORIGINAL-URL:https://benitolink.com
X-WR-CALDESC:Events for BenitoLink
REFRESH-INTERVAL;VALUE=DURATION:PT1H
X-Robots-Tag:noindex
X-PUBLISHED-TTL:PT1H
BEGIN:VTIMEZONE
TZID:America/Los_Angeles
BEGIN:DAYLIGHT
TZOFFSETFROM:-0800
TZOFFSETTO:-0700
TZNAME:PDT
DTSTART:20230312T100000
END:DAYLIGHT
BEGIN:STANDARD
TZOFFSETFROM:-0700
TZOFFSETTO:-0800
TZNAME:PST
DTSTART:20231105T090000
END:STANDARD
BEGIN:DAYLIGHT
TZOFFSETFROM:-0800
TZOFFSETTO:-0700
TZNAME:PDT
DTSTART:20240310T100000
END:DAYLIGHT
BEGIN:STANDARD
TZOFFSETFROM:-0700
TZOFFSETTO:-0800
TZNAME:PST
DTSTART:20241103T090000
END:STANDARD
BEGIN:DAYLIGHT
TZOFFSETFROM:-0800
TZOFFSETTO:-0700
TZNAME:PDT
DTSTART:20250309T100000
END:DAYLIGHT
BEGIN:STANDARD
TZOFFSETFROM:-0700
TZOFFSETTO:-0800
TZNAME:PST
DTSTART:20251102T090000
END:STANDARD
END:VTIMEZONE
BEGIN:VEVENT
DTSTART;TZID=America/Los_Angeles:20240504T053000
DTEND;TZID=America/Los_Angeles:20240504T200000
DTSTAMP:20260420T030627
CREATED:20240504T154241Z
LAST-MODIFIED:20240504T154241Z
UID:10004281-1714800600-1714852800@benitolink.com
SUMMARY:Girls Inc. Fundraiser Location Changed - Tastes and Treasures 2024 on Saturday\, May 4\, 2024
DESCRIPTION:The NEW location for the Girls Inc. Tastes and Treasures is 3016 Cienega Rd\, Hollister\, CA 95023. Please share the information with your friends and guests! \nAt the event you will hear directly from the girls who have participated in the programs\, listen to great music from Moondance\, taste delicious wines\, foods\, deserts and have the opportunity to bid on silent auction items. All funds raised at the event will go directly to support the Girls Inc. programs in San Benito County. \nYou can still purchase tickets HERE: https://www.eventbrite.com/e/tastes-treasures-tickets-795506861437?aff=oddtdtcreator \nGirls Inc. Tastes and Treasures event\n• When: Saturday\, May 4\, 2024\n• Time: 5:30PM-8:00Pm\n• Where: 3016 Cienega Rd\, Hollister\, CA 95023 \nHope to see you there!
URL:https://benitolink.com/event/girls-inc-fundraiser-location-changed-tastes-and-treasures-2024-on-saturday-may-4-2024/
ATTACH;FMTTYPE=image/png:https://benitolink.com/wp-content/uploads/2024/05/Publication1.png
END:VEVENT
BEGIN:VEVENT
DTSTART;TZID=America/Los_Angeles:20240504T100000
DTEND;TZID=America/Los_Angeles:20240504T200000
DTSTAMP:20260420T030627
CREATED:20240227T160124Z
LAST-MODIFIED:20240227T160124Z
UID:10004134-1714816800-1714852800@benitolink.com
SUMMARY:Free Comic Book Day 2024
DESCRIPTION:MAY 4th 2024 IS FREE COMIC BOOK DAY AT BILL’S BULLPEN\nWorldwide Free Comic Book Day Comes to Hollister with Comics for All! \nBill’s Bullpen in Hollister is one of the thousands of comic book shops around the world celebrating the largest event in the comic book industry on Saturday\, May 4th: Free Comic Book Day (FCBD). Each year\, thousands of participating stores give over six million comic books to millions of fans to introduce them to the wonders of comics.\n“Free Comic Book Day is a great event for the whole community. Bringing everyone together\, finding books for everyone to enjoy\, and seeing people of all ages—children\, teens\, and adults—sharing our passion for comics is incredible”\, said Bill Mifsud\, owner of Bill’s Bullpen. “Even if you’ve never picked up a comic book\, we want to welcome everyone to Bill’s Bullpen on May 4th\, because there are so many amazing comics this year and we can’t wait to share them.”\nThis is the 23rd year Bill’s Bullpen celebrates FCBD\, offering the community a fun\, family-oriented event where everyone can find a comic they’ll enjoy. Including taking pictures with your favorite superheroes and a raffle with great prizes.\n“With awesome titles like Avengers and Spider-man\, we’re sure there’s a comic book for everyone\,” Mifsud continued. “Comics are a fun and enduring form of entertainment for readers of all ages to dive into as imagination comes to life. Whether it be popular comics\, film\, television shows\, or video games\, there’s something for everyone to enjoy.”\nRegular updates\, information about comic books\, and a list of participating publishers and their free comics are all online at www.freecomicbookday.com. Please also visit our Facebook page at https://www.facebook.com/Bills-Bullpen-Baseball-Cards-Comics-156226584409624\nFree Comic Book Day kicks off at 10 a.m. and runs until 8 p.m. at Bill’s Bullpen 207 4th St . Call (831) 636-1180 or follow us on Facebook for more information. \nABOUT FREE COMIC BOOK DAY—Celebrating its 23rd year\, Free Comic Book Day is the comic book specialty market’s annual event where participating comic book shops across North America and around the world give away comic books absolutely free to anyone who comes into their comic shops. The event is held the first Saturday in May and is the perfect opportunity to introduce friends and family to the many worlds of wonder available at local comic book shops. From super-heroes to slice-of-life to action/adventure and beyond\, Free Comic Book Day has a comic book for everyone!
URL:https://benitolink.com/event/free-comic-book-day-2024/
CATEGORIES:Arts-Entertainment
ATTACH;FMTTYPE=image/jpeg:https://benitolink.com/wp-content/uploads/2024/02/Free-Comic-Book-Day-2023.jpg
END:VEVENT
BEGIN:VEVENT
DTSTART;TZID=America/Los_Angeles:20240504T130000
DTEND;TZID=America/Los_Angeles:20240504T170000
DTSTAMP:20260420T030627
CREATED:20240423T024227Z
LAST-MODIFIED:20240423T024227Z
UID:10004262-1714827600-1714842000@benitolink.com
SUMMARY:HDA: Wine and Beer Stroll
DESCRIPTION:Enjoy a lovely afternoon in Downtown Hollister as you sip on a taste of wine or beer while visiting our wonderful local businesses! Check in at the Hollister Veterans’ Memorial Building starting at 12:00 pm.Tickets are $45 through 4 pm on April 20\, 2024.Tickets available online at: https://downtownhollister.org/wine-beer-stroll-store/tickets
URL:https://benitolink.com/event/hda-wine-and-beer-stroll/
CATEGORIES:Fairs-Festivals
ATTACH;FMTTYPE=image/jpeg:https://benitolink.com/wp-content/uploads/2024/04/434924098_438675862066928_8604681403730109690_n.jpg
END:VEVENT
BEGIN:VEVENT
DTSTART;TZID=America/Los_Angeles:20240504T170000
DTEND;TZID=America/Los_Angeles:20240504T220000
DTSTAMP:20260420T030627
CREATED:20240415T211935Z
LAST-MODIFIED:20240415T211935Z
UID:10004257-1714842000-1714860000@benitolink.com
SUMMARY:Little Joe Y La Familia event
DESCRIPTION:
URL:https://benitolink.com/event/little-joe-y-la-familia-event/
LOCATION:The Barn\, 4751 Pacheco Hwy\, Hollister
END:VEVENT
BEGIN:VEVENT
DTSTART;TZID=America/Los_Angeles:20240504T173000
DTEND;TZID=America/Los_Angeles:20240504T200000
DTSTAMP:20260420T030627
CREATED:20240423T023943Z
LAST-MODIFIED:20240423T023943Z
UID:10004261-1714843800-1714852800@benitolink.com
SUMMARY:Girls Inc. Fundraiser – Tastes and Treasures 2024 on Saturday\, May 4\, 2024
DESCRIPTION:Girls Inc. of the Central Coast is hosting a Spring Fundraiser\, Tastes and Treasures 2024 on Saturday\, May 4\, 2024\, from 5:30 PM-8:00PM\, tickets are $65. Event will be held at Lone Tree Events in Hollister\, 1192 Lone Tree Road\, Hollister\, CA. \nJoin us for a fun evening of food\, beer & wine by local vendors as well as music by Moondance. \nGirls Inc. of the Central Coast delivers life-changing programs and experiences that equip girls to overcome serious barriers to grow up strong\, smart\, and bold. Funds will be used to support our local programs in Hollister!
URL:https://benitolink.com/event/girls-inc-fundraiser-tastes-and-treasures-2024-on-saturday-may-4-2024/
CATEGORIES:Fundraiser
ATTACH;FMTTYPE=image/jpeg:https://benitolink.com/wp-content/uploads/2024/04/GirlsInc-TasteTreasures-Invite2024-1-1.jpeg
END:VEVENT
END:VCALENDAR