BEGIN:VCALENDAR
VERSION:2.0
PRODID:-//BenitoLink - ECPv6.15.20//NONSGML v1.0//EN
CALSCALE:GREGORIAN
METHOD:PUBLISH
X-WR-CALNAME:BenitoLink
X-ORIGINAL-URL:https://benitolink.com
X-WR-CALDESC:Events for BenitoLink
REFRESH-INTERVAL;VALUE=DURATION:PT1H
X-Robots-Tag:noindex
X-PUBLISHED-TTL:PT1H
BEGIN:VTIMEZONE
TZID:America/Los_Angeles
BEGIN:DAYLIGHT
TZOFFSETFROM:-0800
TZOFFSETTO:-0700
TZNAME:PDT
DTSTART:20240310T100000
END:DAYLIGHT
BEGIN:STANDARD
TZOFFSETFROM:-0700
TZOFFSETTO:-0800
TZNAME:PST
DTSTART:20241103T090000
END:STANDARD
BEGIN:DAYLIGHT
TZOFFSETFROM:-0800
TZOFFSETTO:-0700
TZNAME:PDT
DTSTART:20250309T100000
END:DAYLIGHT
BEGIN:STANDARD
TZOFFSETFROM:-0700
TZOFFSETTO:-0800
TZNAME:PST
DTSTART:20251102T090000
END:STANDARD
BEGIN:DAYLIGHT
TZOFFSETFROM:-0800
TZOFFSETTO:-0700
TZNAME:PDT
DTSTART:20260308T100000
END:DAYLIGHT
BEGIN:STANDARD
TZOFFSETFROM:-0700
TZOFFSETTO:-0800
TZNAME:PST
DTSTART:20261101T090000
END:STANDARD
END:VTIMEZONE
BEGIN:VEVENT
DTSTART;TZID=America/Los_Angeles:20250926T170000
DTEND;TZID=America/Los_Angeles:20251102T220000
DTSTAMP:20260424T030411
CREATED:20250819T202219Z
LAST-MODIFIED:20250826T202930Z
UID:10013835-1758906000-1762120800@benitolink.com
SUMMARY:The Great Big BOO!
DESCRIPTION:The Great Big BOO at Gilroy Gardens Family Theme Park is full of sweet\, silly\, and not-too-spooky Halloween fun for the whole family. Step into the wacky world of BOO Alley to help friends like Vinnie the Vampire and Wolfgang Werewolf save Halloween from the curse of Wendella the Witch. Enjoy live musical shows\, themed rides\, trick-or-treating along the BOO Trail\, frightfully fun food and drinks\, dazzling light displays\, and more. Open select dates\, September 26 through November 2.
URL:https://benitolink.com/event/the-great-big-boo/
LOCATION:Gilroy Gardens Family Theme Park\, 3050 Hecker Pass Hwy\, Gilroy\, 95020\, United States
CATEGORIES:Arts-Entertainment
ATTACH;FMTTYPE=image/jpeg:https://benitolink.com/wp-content/uploads/2025/08/IMG_0792-scaled.jpg
ORGANIZER;CN="Gilroy Gardens Family Theme Park":MAILTO:learnmore@gilroygardens.org
END:VEVENT
BEGIN:VEVENT
DTSTART;TZID=America/Los_Angeles:20251003T120000
DTEND;TZID=America/Los_Angeles:20251005T160000
DTSTAMP:20260424T030411
CREATED:20250929T161533Z
LAST-MODIFIED:20250929T161533Z
UID:10015271-1759492800-1759680000@benitolink.com
SUMMARY:San Benito County Fair
DESCRIPTION:The 102nd San Benito County Fair is going to be super fun! It all starts with\nour whimsical theme\, Who Let the Cows Out? Moo! Moo! Moo!\nThe 2025 Fair opens Friday October 3rd at Noon! Kids under 12 get FREE admission on Friday. \nFair Hours:\nFriday Oct. 3rd – Noon – 10pm\nSaturday Oct. 4th – 10am – 10pm\nSunday Oct. 5th – 10am – 6pm \nFriday Highlights:\n7pm – Bucking Bash\n8:30pm – Justin Lawrence and the Double Average Band \nSaturday Highlights:\n9:30am – Junior Livestock Auction\nApprox. 5:30pm – Chili Pepper Eating Contest (follows auction)\n8pm – The Outlaw Mariachi \nSunday Highlights:\n10:30am – Tribute to Heroes\nNoon-4pm – Truck Pulls \nDaily entertainment includes: The Birdman\, The Junebugs\, Kelly McDonald Duo\, Hillia Hula Hoop Extraordinaire\, POWERHOUSE!!! Percussive Dance\, Rebecca Fireplug and Ventriloquist Vikki! Daily schedules at sanbenitocountyfair.com.\nDon’t miss our Exhibit Halls featuring baked goods\, preserved foods\, textiles\, art\, crafts and more. Plus\, the Fair features your favorite sweet and savory treats and carnival rides.\nOnline ticket sales at sanbenitocountyfair.com.
URL:https://benitolink.com/event/san-benito-county-fair-3/
ATTACH;FMTTYPE=image/jpeg:https://benitolink.com/wp-content/uploads/2023/09/Photo-Sep-30-2023-1-04-54-PM-scaled.jpg
END:VEVENT
END:VCALENDAR