BEGIN:VCALENDAR
VERSION:2.0
PRODID:-//BenitoLink - ECPv6.15.20//NONSGML v1.0//EN
CALSCALE:GREGORIAN
METHOD:PUBLISH
X-ORIGINAL-URL:https://benitolink.com
X-WR-CALDESC:Events for BenitoLink
REFRESH-INTERVAL;VALUE=DURATION:PT1H
X-Robots-Tag:noindex
X-PUBLISHED-TTL:PT1H
BEGIN:VTIMEZONE
TZID:America/Los_Angeles
BEGIN:DAYLIGHT
TZOFFSETFROM:-0800
TZOFFSETTO:-0700
TZNAME:PDT
DTSTART:20240310T100000
END:DAYLIGHT
BEGIN:STANDARD
TZOFFSETFROM:-0700
TZOFFSETTO:-0800
TZNAME:PST
DTSTART:20241103T090000
END:STANDARD
BEGIN:DAYLIGHT
TZOFFSETFROM:-0800
TZOFFSETTO:-0700
TZNAME:PDT
DTSTART:20250309T100000
END:DAYLIGHT
BEGIN:STANDARD
TZOFFSETFROM:-0700
TZOFFSETTO:-0800
TZNAME:PST
DTSTART:20251102T090000
END:STANDARD
BEGIN:DAYLIGHT
TZOFFSETFROM:-0800
TZOFFSETTO:-0700
TZNAME:PDT
DTSTART:20260308T100000
END:DAYLIGHT
BEGIN:STANDARD
TZOFFSETFROM:-0700
TZOFFSETTO:-0800
TZNAME:PST
DTSTART:20261101T090000
END:STANDARD
END:VTIMEZONE
BEGIN:VEVENT
DTSTART;TZID=America/Los_Angeles:20251107T100000
DTEND;TZID=America/Los_Angeles:20251109T220000
DTSTAMP:20260422T032202
CREATED:20251007T174713Z
LAST-MODIFIED:20251007T174713Z
UID:10015279-1762509600-1762725600@benitolink.com
SUMMARY:3rd Annual Hollister Powwow & Native Gathering
DESCRIPTION:The Indigenous Nations Diversity Network and Youth Alliance invite Hollister and its surrounding communities to join us for the 3rd Annual Hollister Powwow & Native Gathering\, a vibrant three-day celebration of Indigenous cultures\, traditions\, and heritage. This free community event will take place November 7-9\, 2025 at Bolado Park Event Center in Tres Pinos\, California on the ancestral land of the Mutsun Ohlone people.\n\n \n\nEVENT SCHEDULE:\n\n \n\n 	Friday\, November 7 at 6:00 PM: Ceremonial Evening & Bear Dance\n \n 	Saturday\, November 8\, 10:00 AM – 9:45 PM: Powwow & Indigenous Fashion Show\n \n 	Sunday\, November 9\, 10:00 AM – 6:00 PM: Powwow\n\n \n\nThe Hollister Powwow & Native Gathering will provide a platform to honor veterans who have selflessly served their country\, while offering attendees the opportunity to participate in various activities and experiences that showcase diverse Indigenous culture\, art\, and dance throughout the weekend.\n\n \n\nHISTORIC FIRST: Indigenous Fashion Show\n\n \n\nWe are thrilled to announce the first-ever Indigenous Fashion Show in San Benito County\, taking place Saturday\, November 8th at 6:30 PM. This groundbreaking event will showcase the artistry and creativity of Indigenous designers\, bringing powerful cultural expression to life through contemporary and traditional Native fashion.\n\n \n\nThis three-day event promises to be a true celebration of community\, culture\, and ceremony\, featuring:\n\n \n\n 	Traditional Powwow & Ceremonial Dances\n \n 	Indigenous Fashion Show\n \n 	Traditional Games & Activities\n \n 	Poetry Readings\n \n 	Arts & Crafts vendors\n \n 	Children’s Activities\n \n 	Raffle with Prizes\n \n 	Local food vendors throughout the weekend\n\n \n\nCAMPING AVAILABLE ON-SITE\n\n \n\nAttendees are invited to extend their Pow Wow experience with on-site camping at Bolado Park Event Center on the nights of November 7 & 8.\n\n \n\nTent Camping: FREE for all attendees. For questions about tent camping\, contact (831) 801-5530.\n\n \n\nRV Camping: $48 per night. Bolado Park offers 38 RV spaces (first come\, first served) with full hookups including 50 amp electrical service\, water\, and sewer. Charcoal and gas BBQs are allowed.\n\n \n\nAmenities: Restrooms and water access are available on-site for all campers throughout the weekend.\n\n \n\nRV Camping Reservations: Contact Bolado Park at (831) 628-3421 during weekday business hours to register.\n\n \n\nExperience the complete gathering\, wake up to ceremony\, stay for the whole celebration\, and connect with community under the stars.\n\n \n\nAs a free\, family-friendly event\, the Hollister Powwow & Native Gathering welcomes individuals of all ages to come and celebrate together.\n\n \n\nWe would like to acknowledge Youth Alliance\, Tara Diane Stein\, Gavilan College\,  Granite Rock\, Gavilan College ASGC\, the Jachimowicz Law Group\, Youth Recovery Connections\, C. Diane Christensen\, The Christensen Fund\, Hollister Rotary Club\, Edward Boss Prado Foundation\, Heritage Bank as event sponsors and supporters. Without their generous donations this historic event would not be possible.\n\n \n\nWe are still seeking additional sponsors\, donations\, and volunteers to help make the 3rd Annual Hollister Powwow & Native Gathering a success. For details on sponsorship opportunities\, donations\, or volunteering\, please contact us at HollisterNativeAmerican@gmail.com or (831) 801-5530. All donations are tax deductible.\n\n \n\nWe look forward to welcoming you and your family for a memorable celebration of community\, culture\, and ceremony!\n\n \n\nContact:\nIndigenous Nations Diversity Network
URL:https://benitolink.com/event/3rd-annual-hollister-powwow-native-gathering/
ATTACH;FMTTYPE=image/jpeg:https://benitolink.com/wp-content/uploads/2025/10/HNAG-2025-Flyer-232x300-1.jpg
END:VEVENT
BEGIN:VEVENT
DTSTART;TZID=America/Los_Angeles:20251108T090000
DTEND;TZID=America/Los_Angeles:20251108T113000
DTSTAMP:20260422T032202
CREATED:20251106T221105Z
LAST-MODIFIED:20251106T221105Z
UID:10015318-1762592400-1762601400@benitolink.com
SUMMARY:Friends of the San Benito Library Book Sale
DESCRIPTION:This month’s sale will be from 9 to 11:30 a.m. on Saturday\, November 8th. \nWe have many books for both kids and adults. Fiction\, non-fiction\, cookbooks\, audio books\, you name it\, we probably have it. Plenty of new donations\, all at bargain prices. \nThe sale will be behind the library\, which is at 470 5th St. in Downtown Hollister. Look for the signs.
URL:https://benitolink.com/event/friends-of-the-san-benito-library-book-sale-6/
LOCATION:san benito library\, 470 5th Street\, Hollister\, CA\, 95023\, United States
CATEGORIES:Fundraiser
ATTACH;FMTTYPE=image/jpeg:https://benitolink.com/wp-content/uploads/2025/11/FSBCFL-BookSale-Flyer-Feb-Nov2025-Social_Nov-Eng.jpg
ORGANIZER;CN="Friends of the San Benito County Free Library":MAILTO:sbcfriends.org@gmail.com
END:VEVENT
BEGIN:VEVENT
DTSTART;TZID=America/Los_Angeles:20251108T090000
DTEND;TZID=America/Los_Angeles:20251108T120000
DTSTAMP:20260422T032202
CREATED:20251014T170550Z
LAST-MODIFIED:20251014T170550Z
UID:10015295-1762592400-1762603200@benitolink.com
SUMMARY:Comstock Community Farm Days
DESCRIPTION:Join Comstock Community Farm fortheir upcoming community farm event in Hollister! Activities will include tending plants\, weeding\, harvesting vegetables for the community\, and caring for the chickens. Volunteers of all ages are welcome\, and community service credits are available for those who are interested. Please contact Frida at 831-537-5802 for event location. See flyer for additional details.
URL:https://benitolink.com/event/comstock-community-farm-days/2025-11-08/
CATEGORIES:Volunteer
ATTACH;FMTTYPE=image/png:https://benitolink.com/wp-content/uploads/2025/10/Community-Farm-Event-3-1.png
END:VEVENT
BEGIN:VEVENT
DTSTART;TZID=America/Los_Angeles:20251108T130000
DTEND;TZID=America/Los_Angeles:20251108T143000
DTSTAMP:20260422T032202
CREATED:20251010T205859Z
LAST-MODIFIED:20251010T205940Z
UID:10015287-1762606800-1762612200@benitolink.com
SUMMARY:San Benito Stage Company presents Beetlejuice Jr.
DESCRIPTION:It’s Showtime! San Benito Stage Company Presents… Beetlejuice Jr \nGet ready to laugh\, scream\, and dance in your seat — because things are about to get strange and unusual in San Benito. The San Benito Stage Company is proud (and a little spooky) to present the delightfully creepy and totally hilarious Beetlejuice Jr\, running select dates this October and November. \nPerformance Dates: \n\nEvening Shows at 7:00 PM:\nOctober 24 & 25\, October 31\, November 1\, November 7 & 8\nMatinee Shows at 1:00 PM:\nOctober 25 & November 8\n\nPerformances will take place at San Benito Stage Company\, 549 San Benito St.\, Hollister. \nThis ghostly good time features a talented cast of local teen performers ages 13–19\, bringing Broadway-style energy and plenty of spooky charm to the stage. \nFollow the story of Lydia Deetz (played by Tiana Torrecillas)\, a gothic teen who moves into a haunted house and discovers a quirky ghost couple… and the wildest demon you’ve ever met — the one and only Beetlejuice (played by Brody Thiessen and Matthew Young) \nExpect laughs\, chills\, killer songs\, and a few surprises that’ll leave you shouting “It’s showtime” \nTickets & Info:\nVisit www.sanbenitostage.org to grab your seats before they vanish into the Netherworld. \n 
URL:https://benitolink.com/event/beetlejuice-jr-presented-by-san-benito-stage-company/2025-11-08/1/
LOCATION:San Benito Stage Company\, 549 San Benito st\, Hollister\, CA\, 95032
CATEGORIES:Arts-Entertainment,Schools
ATTACH;FMTTYPE=image/webp:https://benitolink.com/wp-content/uploads/2025/10/BJ-Social-Media-2-1-300x300-1.webp
END:VEVENT
BEGIN:VEVENT
DTSTART;TZID=America/Los_Angeles:20251108T190000
DTEND;TZID=America/Los_Angeles:20251108T203000
DTSTAMP:20260422T032202
CREATED:20251010T205859Z
LAST-MODIFIED:20251010T205940Z
UID:10015288-1762628400-1762633800@benitolink.com
SUMMARY:San Benito Stage Company presents Beetlejuice Jr.
DESCRIPTION:It’s Showtime! San Benito Stage Company Presents… Beetlejuice Jr \nGet ready to laugh\, scream\, and dance in your seat — because things are about to get strange and unusual in San Benito. The San Benito Stage Company is proud (and a little spooky) to present the delightfully creepy and totally hilarious Beetlejuice Jr\, running select dates this October and November. \nPerformance Dates: \n\nEvening Shows at 7:00 PM:\nOctober 24 & 25\, October 31\, November 1\, November 7 & 8\nMatinee Shows at 1:00 PM:\nOctober 25 & November 8\n\nPerformances will take place at San Benito Stage Company\, 549 San Benito St.\, Hollister. \nThis ghostly good time features a talented cast of local teen performers ages 13–19\, bringing Broadway-style energy and plenty of spooky charm to the stage. \nFollow the story of Lydia Deetz (played by Tiana Torrecillas)\, a gothic teen who moves into a haunted house and discovers a quirky ghost couple… and the wildest demon you’ve ever met — the one and only Beetlejuice (played by Brody Thiessen and Matthew Young) \nExpect laughs\, chills\, killer songs\, and a few surprises that’ll leave you shouting “It’s showtime” \nTickets & Info:\nVisit www.sanbenitostage.org to grab your seats before they vanish into the Netherworld. \n 
URL:https://benitolink.com/event/beetlejuice-jr-presented-by-san-benito-stage-company/2025-11-08/2/
LOCATION:San Benito Stage Company\, 549 San Benito st\, Hollister\, CA\, 95032
CATEGORIES:Arts-Entertainment,Schools
ATTACH;FMTTYPE=image/webp:https://benitolink.com/wp-content/uploads/2025/10/BJ-Social-Media-2-1-300x300-1.webp
END:VEVENT
END:VCALENDAR