BEGIN:VCALENDAR
VERSION:2.0
PRODID:-//BenitoLink - ECPv6.15.20//NONSGML v1.0//EN
CALSCALE:GREGORIAN
METHOD:PUBLISH
X-ORIGINAL-URL:https://benitolink.com
X-WR-CALDESC:Events for BenitoLink
REFRESH-INTERVAL;VALUE=DURATION:PT1H
X-Robots-Tag:noindex
X-PUBLISHED-TTL:PT1H
BEGIN:VTIMEZONE
TZID:America/Los_Angeles
BEGIN:DAYLIGHT
TZOFFSETFROM:-0800
TZOFFSETTO:-0700
TZNAME:PDT
DTSTART:20240310T100000
END:DAYLIGHT
BEGIN:STANDARD
TZOFFSETFROM:-0700
TZOFFSETTO:-0800
TZNAME:PST
DTSTART:20241103T090000
END:STANDARD
BEGIN:DAYLIGHT
TZOFFSETFROM:-0800
TZOFFSETTO:-0700
TZNAME:PDT
DTSTART:20250309T100000
END:DAYLIGHT
BEGIN:STANDARD
TZOFFSETFROM:-0700
TZOFFSETTO:-0800
TZNAME:PST
DTSTART:20251102T090000
END:STANDARD
BEGIN:DAYLIGHT
TZOFFSETFROM:-0800
TZOFFSETTO:-0700
TZNAME:PDT
DTSTART:20260308T100000
END:DAYLIGHT
BEGIN:STANDARD
TZOFFSETFROM:-0700
TZOFFSETTO:-0800
TZNAME:PST
DTSTART:20261101T090000
END:STANDARD
END:VTIMEZONE
BEGIN:VEVENT
DTSTART;TZID=America/Los_Angeles:20251118T090000
DTEND;TZID=America/Los_Angeles:20251118T170000
DTSTAMP:20260422T021522
CREATED:20251114T203105Z
LAST-MODIFIED:20251114T203124Z
UID:10015327-1763456400-1763485200@benitolink.com
SUMMARY:SBC Board of Supervisors Meeting
DESCRIPTION:Board of Supervisors Chambers 481 Fourth Street\, Hollister. \nStarts 9 a.m.
URL:https://benitolink.com/event/sbc-board-of-supervisors-meeting-2/
ATTACH;FMTTYPE=image/jpeg:https://benitolink.com/wp-content/uploads/2020/03/SanBenito_seal_1.jpg
END:VEVENT
BEGIN:VEVENT
DTSTART;TZID=America/Los_Angeles:20251118T170000
DTEND;TZID=America/Los_Angeles:20251118T210000
DTSTAMP:20260422T021522
CREATED:20251114T204147Z
LAST-MODIFIED:20251114T204147Z
UID:10015330-1763485200-1763499600@benitolink.com
SUMMARY:San Juan Bautista City Council Meeting
DESCRIPTION:Nov. 18\, 2025\, 5 p.m.\nCity Hall\, Council Chambers\n311 Second Street\, San Juan Bautista\, California \nAgenda
URL:https://benitolink.com/event/san-juan-bautista-city-council-meeting-13/
ATTACH;FMTTYPE=image/jpeg:https://benitolink.com/wp-content/uploads/2019/05/san-juan-city-hall_6_1_0_0.jpg
END:VEVENT
END:VCALENDAR