BEGIN:VCALENDAR
VERSION:2.0
PRODID:-//BenitoLink - ECPv6.15.20//NONSGML v1.0//EN
CALSCALE:GREGORIAN
METHOD:PUBLISH
X-WR-CALNAME:BenitoLink
X-ORIGINAL-URL:https://benitolink.com
X-WR-CALDESC:Events for BenitoLink
REFRESH-INTERVAL;VALUE=DURATION:PT1H
X-Robots-Tag:noindex
X-PUBLISHED-TTL:PT1H
BEGIN:VTIMEZONE
TZID:America/Los_Angeles
BEGIN:DAYLIGHT
TZOFFSETFROM:-0800
TZOFFSETTO:-0700
TZNAME:PDT
DTSTART:20240310T100000
END:DAYLIGHT
BEGIN:STANDARD
TZOFFSETFROM:-0700
TZOFFSETTO:-0800
TZNAME:PST
DTSTART:20241103T090000
END:STANDARD
BEGIN:DAYLIGHT
TZOFFSETFROM:-0800
TZOFFSETTO:-0700
TZNAME:PDT
DTSTART:20250309T100000
END:DAYLIGHT
BEGIN:STANDARD
TZOFFSETFROM:-0700
TZOFFSETTO:-0800
TZNAME:PST
DTSTART:20251102T090000
END:STANDARD
BEGIN:DAYLIGHT
TZOFFSETFROM:-0800
TZOFFSETTO:-0700
TZNAME:PDT
DTSTART:20260308T100000
END:DAYLIGHT
BEGIN:STANDARD
TZOFFSETFROM:-0700
TZOFFSETTO:-0800
TZNAME:PST
DTSTART:20261101T090000
END:STANDARD
END:VTIMEZONE
BEGIN:VEVENT
DTSTART;TZID=America/Los_Angeles:20251202T080000
DTEND;TZID=America/Los_Angeles:20251202T130000
DTSTAMP:20260422T044637
CREATED:20251125T180950Z
LAST-MODIFIED:20251125T180950Z
UID:10015335-1764662400-1764680400@benitolink.com
SUMMARY:San Benito County Weed Management Area’s Continuing Education Seminar for Ranchers
DESCRIPTION:Please join the San Benito County Weed Management Area for the 24th Annual Continuing Education Seminar for Ranchers. The seminar will take place in-person\, at the Veterans Memorial Building in Hollister. \nThree (3) hours of pesticide continuing education credit (including 1/2 hour of Laws and Regulations and 2.5\nhours other) have been approved by the Department of Pesticide Regulation \nTopics will include: \n-Pesticide recordkeeping requirements for ranching operations\n-Controlling the spread of stinkwort\, yellow starthistle\, and medusahead\n-Using early detection and rapid response weed management methods\n-Equipment calibration for rangeland weed control\n-Using grazing and fire as tools for weed management\n-Controlling ground squirrels\n-The New World screwworm disease\n-Partner updates from agencies and organizations that work with ranchers in San Benito County and nearby areas
URL:https://benitolink.com/event/san-benito-county-weed-management-areas-continuing-education-seminar-for-ranchers/
LOCATION:Hollister Veterans Memorial Building\, 649 San Benito Street\, Hollister\, 95023\, United States America
ATTACH;FMTTYPE=image/jpeg:https://benitolink.com/wp-content/uploads/2025/11/2025-Ranchers-Seminar-Flyer.jpg
END:VEVENT
END:VCALENDAR