BEGIN:VCALENDAR
VERSION:2.0
PRODID:-//BenitoLink - ECPv6.15.20//NONSGML v1.0//EN
CALSCALE:GREGORIAN
METHOD:PUBLISH
X-ORIGINAL-URL:https://benitolink.com
X-WR-CALDESC:Events for BenitoLink
REFRESH-INTERVAL;VALUE=DURATION:PT1H
X-Robots-Tag:noindex
X-PUBLISHED-TTL:PT1H
BEGIN:VTIMEZONE
TZID:America/Los_Angeles
BEGIN:DAYLIGHT
TZOFFSETFROM:-0800
TZOFFSETTO:-0700
TZNAME:PDT
DTSTART:20240310T100000
END:DAYLIGHT
BEGIN:STANDARD
TZOFFSETFROM:-0700
TZOFFSETTO:-0800
TZNAME:PST
DTSTART:20241103T090000
END:STANDARD
BEGIN:DAYLIGHT
TZOFFSETFROM:-0800
TZOFFSETTO:-0700
TZNAME:PDT
DTSTART:20250309T100000
END:DAYLIGHT
BEGIN:STANDARD
TZOFFSETFROM:-0700
TZOFFSETTO:-0800
TZNAME:PST
DTSTART:20251102T090000
END:STANDARD
BEGIN:DAYLIGHT
TZOFFSETFROM:-0800
TZOFFSETTO:-0700
TZNAME:PDT
DTSTART:20260308T100000
END:DAYLIGHT
BEGIN:STANDARD
TZOFFSETFROM:-0700
TZOFFSETTO:-0800
TZNAME:PST
DTSTART:20261101T090000
END:STANDARD
END:VTIMEZONE
BEGIN:VEVENT
DTSTART;TZID=America/Los_Angeles:20251212T193000
DTEND;TZID=America/Los_Angeles:20251212T213000
DTSTAMP:20260422T032117
CREATED:20251118T220659Z
LAST-MODIFIED:20251118T220659Z
UID:10015331-1765567800-1765575000@benitolink.com
SUMMARY:San Benito Oriana Chorale presents "Home for the Holidays"
DESCRIPTION:San Benito Oriana Chorale\, San Benito County’s 68 member community choir\, sings “Home for the Holidays” this season. The three concerts will be held on Friday\, December 12 at 7:30 p.m. and Sunday\, December 14 at 3:00 p.m.\, both at Christ Fellowship Church 2066 San Benito Street in Hollister\, followed by Wednesday\, December 17 at 7:30 p.m. at Mission San Juan Bautista 406 Second Street San Juan Bautista.\nFrom the shimmering harmonies of “Lux Aurumque” and holiday classics and carols to the lighthearted “A Charlie Brown Christmas” and quirky “You’re a Mean One\, Mr. Grinch\, there is a wide variety of songs to enjoy. \nTickets are $25 for adults\, $15 for students\, age 12 and under free and are available at Postal Graphics in Hollister or at the door.
URL:https://benitolink.com/event/san-benito-oriana-chorale-presents-home-for-the-holidays-3/
LOCATION:Christ Fellowship Church\, 2066 San Benito Street\, Hollister\, CA\, 95023\, United States
CATEGORIES:Arts-Entertainment
ATTACH;FMTTYPE=image/jpeg:https://benitolink.com/wp-content/uploads/2025/11/2025-Oriana-Holiday-Concert-Flyer-final-jpeg-scaled.jpg
END:VEVENT
END:VCALENDAR