BEGIN:VCALENDAR
VERSION:2.0
PRODID:-//BenitoLink - ECPv6.15.20//NONSGML v1.0//EN
CALSCALE:GREGORIAN
METHOD:PUBLISH
X-WR-CALNAME:BenitoLink
X-ORIGINAL-URL:https://benitolink.com
X-WR-CALDESC:Events for BenitoLink
REFRESH-INTERVAL;VALUE=DURATION:PT1H
X-Robots-Tag:noindex
X-PUBLISHED-TTL:PT1H
BEGIN:VTIMEZONE
TZID:America/Los_Angeles
BEGIN:DAYLIGHT
TZOFFSETFROM:-0800
TZOFFSETTO:-0700
TZNAME:PDT
DTSTART:20240310T100000
END:DAYLIGHT
BEGIN:STANDARD
TZOFFSETFROM:-0700
TZOFFSETTO:-0800
TZNAME:PST
DTSTART:20241103T090000
END:STANDARD
BEGIN:DAYLIGHT
TZOFFSETFROM:-0800
TZOFFSETTO:-0700
TZNAME:PDT
DTSTART:20250309T100000
END:DAYLIGHT
BEGIN:STANDARD
TZOFFSETFROM:-0700
TZOFFSETTO:-0800
TZNAME:PST
DTSTART:20251102T090000
END:STANDARD
BEGIN:DAYLIGHT
TZOFFSETFROM:-0800
TZOFFSETTO:-0700
TZNAME:PDT
DTSTART:20260308T100000
END:DAYLIGHT
BEGIN:STANDARD
TZOFFSETFROM:-0700
TZOFFSETTO:-0800
TZNAME:PST
DTSTART:20261101T090000
END:STANDARD
END:VTIMEZONE
BEGIN:VEVENT
DTSTART;TZID=America/Los_Angeles:20251216T103000
DTEND;TZID=America/Los_Angeles:20251216T120000
DTSTAMP:20260422T044522
CREATED:20251216T000128Z
LAST-MODIFIED:20251216T000128Z
UID:10015342-1765881000-1765886400@benitolink.com
SUMMARY:Cell phone/tablet workshop-Atelier téléphone portable ou tablette
DESCRIPTION:Date: Dec 16 \nLocation/Emplacement: Community Foundation\, 470 San Benito Street Hollister. \nTime/Temps: 10:30 to Noon/Midi
URL:https://benitolink.com/event/cell-phone-tablet-workshop-atelier-telephone-portable-ou-tablette/
ATTACH;FMTTYPE=image/png:https://benitolink.com/wp-content/uploads/2025/12/Need-help-with-your-cell-phone-or-tablet-December-16.png
END:VEVENT
END:VCALENDAR