BEGIN:VCALENDAR
VERSION:2.0
PRODID:-//BenitoLink - ECPv6.15.20//NONSGML v1.0//EN
CALSCALE:GREGORIAN
METHOD:PUBLISH
X-ORIGINAL-URL:https://benitolink.com
X-WR-CALDESC:Events for BenitoLink
REFRESH-INTERVAL;VALUE=DURATION:PT1H
X-Robots-Tag:noindex
X-PUBLISHED-TTL:PT1H
BEGIN:VTIMEZONE
TZID:America/Los_Angeles
BEGIN:DAYLIGHT
TZOFFSETFROM:-0800
TZOFFSETTO:-0700
TZNAME:PDT
DTSTART:20240310T100000
END:DAYLIGHT
BEGIN:STANDARD
TZOFFSETFROM:-0700
TZOFFSETTO:-0800
TZNAME:PST
DTSTART:20241103T090000
END:STANDARD
BEGIN:DAYLIGHT
TZOFFSETFROM:-0800
TZOFFSETTO:-0700
TZNAME:PDT
DTSTART:20250309T100000
END:DAYLIGHT
BEGIN:STANDARD
TZOFFSETFROM:-0700
TZOFFSETTO:-0800
TZNAME:PST
DTSTART:20251102T090000
END:STANDARD
BEGIN:DAYLIGHT
TZOFFSETFROM:-0800
TZOFFSETTO:-0700
TZNAME:PDT
DTSTART:20260308T100000
END:DAYLIGHT
BEGIN:STANDARD
TZOFFSETFROM:-0700
TZOFFSETTO:-0800
TZNAME:PST
DTSTART:20261101T090000
END:STANDARD
END:VTIMEZONE
BEGIN:VEVENT
DTSTART;TZID=America/Los_Angeles:20251229T160000
DTEND;TZID=America/Los_Angeles:20251229T170000
DTSTAMP:20260421T073528
CREATED:20250814T220804Z
LAST-MODIFIED:20250814T220804Z
UID:10013827-1767024000-1767027600@benitolink.com
SUMMARY:Group Core Class
DESCRIPTION:SBJ core exercises Mondays at 4pm but more of a relationship builder with your significant other or BFF. \nCheck it out and sign up here: https://www.mystichealthwellness.com/private-sessions at 410 Third St\, in San Juan Bautista.
URL:https://benitolink.com/event/group-core-class/2025-12-29/
LOCATION:410 Third St\, San Juan Bautista\, CA 95045\, 410 Third St.\, San Juan Bautista\, CA\, 95045\, United States
CATEGORIES:Sports-Recreation
ATTACH;FMTTYPE=image/avif:https://benitolink.com/wp-content/uploads/2025/08/897cdd_ce2d0b00d18c4dbdb8a0ccd190037ed7mv2.avif
END:VEVENT
END:VCALENDAR