BEGIN:VCALENDAR
VERSION:2.0
PRODID:-//BenitoLink - ECPv6.15.20//NONSGML v1.0//EN
CALSCALE:GREGORIAN
METHOD:PUBLISH
X-WR-CALNAME:BenitoLink
X-ORIGINAL-URL:https://benitolink.com
X-WR-CALDESC:Events for BenitoLink
REFRESH-INTERVAL;VALUE=DURATION:PT1H
X-Robots-Tag:noindex
X-PUBLISHED-TTL:PT1H
BEGIN:VTIMEZONE
TZID:America/Los_Angeles
BEGIN:DAYLIGHT
TZOFFSETFROM:-0800
TZOFFSETTO:-0700
TZNAME:PDT
DTSTART:20250309T100000
END:DAYLIGHT
BEGIN:STANDARD
TZOFFSETFROM:-0700
TZOFFSETTO:-0800
TZNAME:PST
DTSTART:20251102T090000
END:STANDARD
BEGIN:DAYLIGHT
TZOFFSETFROM:-0800
TZOFFSETTO:-0700
TZNAME:PDT
DTSTART:20260308T100000
END:DAYLIGHT
BEGIN:STANDARD
TZOFFSETFROM:-0700
TZOFFSETTO:-0800
TZNAME:PST
DTSTART:20261101T090000
END:STANDARD
BEGIN:DAYLIGHT
TZOFFSETFROM:-0800
TZOFFSETTO:-0700
TZNAME:PDT
DTSTART:20270314T100000
END:DAYLIGHT
BEGIN:STANDARD
TZOFFSETFROM:-0700
TZOFFSETTO:-0800
TZNAME:PST
DTSTART:20271107T090000
END:STANDARD
END:VTIMEZONE
BEGIN:VEVENT
DTSTART;TZID=America/Los_Angeles:20260124T130000
DTEND;TZID=America/Los_Angeles:20260124T150000
DTSTAMP:20260421T054927
CREATED:20260113T202111Z
LAST-MODIFIED:20260113T202111Z
UID:10015349-1769259600-1769266800@benitolink.com
SUMMARY:Ink\, Land\, and Ancestral Knowledge:  A Natural Ink-Making Workshop with Kirti Bassendine
DESCRIPTION:Join eco-artist and documentarian Kirti Bassendine for a hands-on workshop that explores the rich history and process of making natural inks from local materials. This workshop builds on Kirti’s highly successful Adult Indigenous Crafts & Introduction to Inks session at Luna Gallery last spring\, offering a deeper dive into the cultural significance of natural inks and sustainable practices used across the world for art\, writing\, and documentation.  \nDiscover how ancient Indigenous practices of ink-making are connected to local ecology\, and learn the history of materials like Oak Gall ink\, still used in Britain today for official document signing. Kirti will demonstrate the ink making process\, guiding participants in making their own Oak Gall ink and sampling other inks\, and experimenting with locally sourced pens\, brushes\, and other tools.  \nKirti’s artistic practices are deeply influenced by her ancestral heritage in Gujarat\, India\, where traditional eco–art techniques like block printing and natural dyeing have been passed down for generations. Through discussion and demonstration\, Kirti emphasizes the importance of acknowledging Indigenous stewardship and honoring the communities who have lived on and cared for this land.  \nLearn the history and cultural significance of natural inks Observe demonstrations of Oak Gall ink-making  \nCreate their own ink to take home  \nExperiment with drawing and mark-making using handmade inks\, pens\, and brushes created from local materials  \nWith over four years of experience teaching eco-art practices to rural schools in San Benito County\, Kirti brings a thoughtful\, inclusive\, and story-driven approach to teaching. Her workshops create space for learning\, reflection\, and hands-on exploration\, encouraging participants to deepen their awareness of local ecology and ancestral knowledge systems.  \nREGISTER AT EVENTBRITE HTTPS://BIT.LY/4ASO2Z2 $130 by January 20 $150 January 20-23
URL:https://benitolink.com/event/ink-land-and-ancestral-knowledge-a-natural-ink-making-workshop-with-kirti-bassendine/
ATTACH;FMTTYPE=image/jpeg:https://benitolink.com/wp-content/uploads/2026/01/1.jpg
END:VEVENT
END:VCALENDAR