BEGIN:VCALENDAR
VERSION:2.0
PRODID:-//BenitoLink - ECPv6.15.20//NONSGML v1.0//EN
CALSCALE:GREGORIAN
METHOD:PUBLISH
X-ORIGINAL-URL:https://benitolink.com
X-WR-CALDESC:Events for BenitoLink
REFRESH-INTERVAL;VALUE=DURATION:PT1H
X-Robots-Tag:noindex
X-PUBLISHED-TTL:PT1H
BEGIN:VTIMEZONE
TZID:America/Los_Angeles
BEGIN:DAYLIGHT
TZOFFSETFROM:-0800
TZOFFSETTO:-0700
TZNAME:PDT
DTSTART:20240310T100000
END:DAYLIGHT
BEGIN:STANDARD
TZOFFSETFROM:-0700
TZOFFSETTO:-0800
TZNAME:PST
DTSTART:20241103T090000
END:STANDARD
BEGIN:DAYLIGHT
TZOFFSETFROM:-0800
TZOFFSETTO:-0700
TZNAME:PDT
DTSTART:20250309T100000
END:DAYLIGHT
BEGIN:STANDARD
TZOFFSETFROM:-0700
TZOFFSETTO:-0800
TZNAME:PST
DTSTART:20251102T090000
END:STANDARD
BEGIN:DAYLIGHT
TZOFFSETFROM:-0800
TZOFFSETTO:-0700
TZNAME:PDT
DTSTART:20260308T100000
END:DAYLIGHT
BEGIN:STANDARD
TZOFFSETFROM:-0700
TZOFFSETTO:-0800
TZNAME:PST
DTSTART:20261101T090000
END:STANDARD
END:VTIMEZONE
BEGIN:VEVENT
DTSTART;TZID=America/Los_Angeles:20250913T100000
DTEND;TZID=America/Los_Angeles:20250913T130000
DTSTAMP:20260422T235532
CREATED:20250812T170014Z
LAST-MODIFIED:20250812T170014Z
UID:10013803-1757757600-1757768400@benitolink.com
SUMMARY:Chitactac Family Day-Free Event
DESCRIPTION:Chitactac Family Day\nFREE Event!\nSaturday\, September 13 | 10:00am – 1:00pm\nLocation: Chitactac-Adams Heritage County Park 10001 Watsonville Road\, Gilroy\, CA 95020 \nCome play traditional games\, view the ancient petroglyphs\, create unique crafts and more! Discover what has made this place so special to Indigenous people for thousands of years. For more information\, email interp@prk.sccgov.org
URL:https://benitolink.com/event/chitactac-family-day-free-event/
LOCATION:CA
CATEGORIES:Arts-Entertainment,Fairs-Festivals,Sports-Recreation
ATTACH;FMTTYPE=image/png:https://benitolink.com/wp-content/uploads/2025/08/Chitactac-Family-Day-2025-Flyer-FINAL.png
END:VEVENT
END:VCALENDAR