BEGIN:VCALENDAR
VERSION:2.0
PRODID:-//BenitoLink - ECPv6.15.20//NONSGML v1.0//EN
CALSCALE:GREGORIAN
METHOD:PUBLISH
X-WR-CALNAME:BenitoLink
X-ORIGINAL-URL:https://benitolink.com
X-WR-CALDESC:Events for BenitoLink
REFRESH-INTERVAL;VALUE=DURATION:PT1H
X-Robots-Tag:noindex
X-PUBLISHED-TTL:PT1H
BEGIN:VTIMEZONE
TZID:America/Los_Angeles
BEGIN:DAYLIGHT
TZOFFSETFROM:-0800
TZOFFSETTO:-0700
TZNAME:PDT
DTSTART:20240310T100000
END:DAYLIGHT
BEGIN:STANDARD
TZOFFSETFROM:-0700
TZOFFSETTO:-0800
TZNAME:PST
DTSTART:20241103T090000
END:STANDARD
BEGIN:DAYLIGHT
TZOFFSETFROM:-0800
TZOFFSETTO:-0700
TZNAME:PDT
DTSTART:20250309T100000
END:DAYLIGHT
BEGIN:STANDARD
TZOFFSETFROM:-0700
TZOFFSETTO:-0800
TZNAME:PST
DTSTART:20251102T090000
END:STANDARD
BEGIN:DAYLIGHT
TZOFFSETFROM:-0800
TZOFFSETTO:-0700
TZNAME:PDT
DTSTART:20260308T100000
END:DAYLIGHT
BEGIN:STANDARD
TZOFFSETFROM:-0700
TZOFFSETTO:-0800
TZNAME:PST
DTSTART:20261101T090000
END:STANDARD
END:VTIMEZONE
BEGIN:VEVENT
DTSTART;TZID=America/Los_Angeles:20251115T100000
DTEND;TZID=America/Los_Angeles:20251115T150000
DTSTAMP:20260420T133059
CREATED:20251014T170515Z
LAST-MODIFIED:20251014T170515Z
UID:10015296-1763200800-1763218800@benitolink.com
SUMMARY:Heartfelt Handcrafted Holiday
DESCRIPTION:Shop local this season! Browse handmade arts and crafts\, unique holiday gifts\, and festive décor. Enjoy seasonal treats and a special visit from Santa Claus. Bring the whole family for a day of creativity and cheer!\nWe will be accepting donations of socks and blankets for local seniors on behalf of American Legion Post 69.
URL:https://benitolink.com/event/heartfelt-handcrafted-holiday/
LOCATION:Hollister Veterans Memorial Building\, 649 San Benito Street\, Hollister\, 95023\, United States America
CATEGORIES:Arts-Entertainment,Fairs-Festivals
ATTACH;FMTTYPE=image/png:https://benitolink.com/wp-content/uploads/2025/10/HHH-ad-700-x-500-px.png
ORGANIZER;CN="Hollister Homecrafters":MAILTO:hollisterhomecrafters@gmail.com
END:VEVENT
END:VCALENDAR