BEGIN:VCALENDAR
VERSION:2.0
PRODID:-//BenitoLink - ECPv6.15.20//NONSGML v1.0//EN
CALSCALE:GREGORIAN
METHOD:PUBLISH
X-ORIGINAL-URL:https://benitolink.com
X-WR-CALDESC:Events for BenitoLink
REFRESH-INTERVAL;VALUE=DURATION:PT1H
X-Robots-Tag:noindex
X-PUBLISHED-TTL:PT1H
BEGIN:VTIMEZONE
TZID:America/Los_Angeles
BEGIN:DAYLIGHT
TZOFFSETFROM:-0800
TZOFFSETTO:-0700
TZNAME:PDT
DTSTART:20230312T100000
END:DAYLIGHT
BEGIN:STANDARD
TZOFFSETFROM:-0700
TZOFFSETTO:-0800
TZNAME:PST
DTSTART:20231105T090000
END:STANDARD
BEGIN:DAYLIGHT
TZOFFSETFROM:-0800
TZOFFSETTO:-0700
TZNAME:PDT
DTSTART:20240310T100000
END:DAYLIGHT
BEGIN:STANDARD
TZOFFSETFROM:-0700
TZOFFSETTO:-0800
TZNAME:PST
DTSTART:20241103T090000
END:STANDARD
BEGIN:DAYLIGHT
TZOFFSETFROM:-0800
TZOFFSETTO:-0700
TZNAME:PDT
DTSTART:20250309T100000
END:DAYLIGHT
BEGIN:STANDARD
TZOFFSETFROM:-0700
TZOFFSETTO:-0800
TZNAME:PST
DTSTART:20251102T090000
END:STANDARD
END:VTIMEZONE
BEGIN:VEVENT
DTSTART;TZID=America/Los_Angeles:20241019T080000
DTEND;TZID=America/Los_Angeles:20241019T110000
DTSTAMP:20260421T143017
CREATED:20240828T195732Z
LAST-MODIFIED:20240828T220734Z
UID:10004812-1729324800-1729335600@benitolink.com
SUMMARY:34th Annual Red Ribbon Run & Festival
DESCRIPTION:DESCRIPTION:  Festivities will kick off at 8am\, with the 3k Fun Run and 5k Competitive Run starting at 8:15 a.m. and 8:20 a.m. respectively.  There will be resource booths\, entertainment\, food\, raffles and prizes.  The event kicks off locally the national Red Ribbon Week (October 23-31) campaign that encourages kids and families to live drug free.  Red Ribbon Campaign | Largest drug-use prevention campaign in the U.S. \nThis year’s theme is “Life is a Movie.  Film Drug Free.” Registration for the run is now open at https://rb.gy/05802v. \nTIME & DATE: Saturday\, October 19\, 2024 at 8:00 a.m. – 11:00 a.m. \nIMAGE: Please see attached event flyer \nSTATUS: Scheduled \nVENUE: Veterans Memorial Building in Downtown Hollister (649 San Benito Street\, Hollister\, CA 95023) \nORGANIZER: San Benito County Behavioral Health and City of Hollister Parks and Recreation \nWEBSITE: Events | San Benito County\, CA (sanbenitocountyca.gov) \nCOST: Freeresd
URL:https://benitolink.com/event/34th-annual-red-ribbon-run-festival/
CATEGORIES:Fairs-Festivals,Fundraiser
ATTACH;FMTTYPE=image/png:https://benitolink.com/wp-content/uploads/2024/08/34TH-ANNUAL-RED-RIBBON-Flyer-Final-.png
END:VEVENT
END:VCALENDAR