BEGIN:VCALENDAR
VERSION:2.0
PRODID:-//BenitoLink - ECPv6.15.20//NONSGML v1.0//EN
CALSCALE:GREGORIAN
METHOD:PUBLISH
X-ORIGINAL-URL:https://benitolink.com
X-WR-CALDESC:Events for BenitoLink
REFRESH-INTERVAL;VALUE=DURATION:PT1H
X-Robots-Tag:noindex
X-PUBLISHED-TTL:PT1H
BEGIN:VTIMEZONE
TZID:America/Los_Angeles
BEGIN:DAYLIGHT
TZOFFSETFROM:-0800
TZOFFSETTO:-0700
TZNAME:PDT
DTSTART:20230312T100000
END:DAYLIGHT
BEGIN:STANDARD
TZOFFSETFROM:-0700
TZOFFSETTO:-0800
TZNAME:PST
DTSTART:20231105T090000
END:STANDARD
BEGIN:DAYLIGHT
TZOFFSETFROM:-0800
TZOFFSETTO:-0700
TZNAME:PDT
DTSTART:20240310T100000
END:DAYLIGHT
BEGIN:STANDARD
TZOFFSETFROM:-0700
TZOFFSETTO:-0800
TZNAME:PST
DTSTART:20241103T090000
END:STANDARD
BEGIN:DAYLIGHT
TZOFFSETFROM:-0800
TZOFFSETTO:-0700
TZNAME:PDT
DTSTART:20250309T100000
END:DAYLIGHT
BEGIN:STANDARD
TZOFFSETFROM:-0700
TZOFFSETTO:-0800
TZNAME:PST
DTSTART:20251102T090000
END:STANDARD
END:VTIMEZONE
BEGIN:VEVENT
DTSTART;TZID=America/Los_Angeles:20241026T100000
DTEND;TZID=America/Los_Angeles:20241026T140000
DTSTAMP:20260421T044210
CREATED:20241024T171256Z
LAST-MODIFIED:20241024T231148Z
UID:10005038-1729936800-1729951200@benitolink.com
SUMMARY:Revving Up For A Good Cause: San Benito County Scouting's Corporate Pinewood Derby
DESCRIPTION:Date: October 26th \nTime: 10 a.m. to 2 p.m. \nLocation:  Greenwood Ford in Hollister \nWhat is the Pinewood Derby?\nFor those unfamiliar\, the Pinewood Derby is a time-honored tradition in scouting where participants design and build their own miniature wooden race cars. Each car is crafted from a block of wood\, wheels\, and axles provided by the organizers\, allowing for boundless creativity and innovation. \nOnce completed\, the cars race down a specially designed track\, and the excitement is palpable as they zoom toward the finish line. \nWhy Participate?\n1. Support Local Scouting: Proceeds from the event will directly benefit San Benito County Scouts\,\nfunding programs\, camps\, and educational opportunities that foster leadership and teamwork in our youth.\n2. Team Building: This event is an excellent opportunity for local businesses to foster camaraderie among employees. Collaborating on a Pinewood Derby car encourages creativity and teamwork in a\nrelaxed setting.\n3. Community Engagement: Join fellow community members in a celebration of creativity and fun. The event will include food\, music\, and activities for families\, making it a great outing for everyone.\nHow to Get Involved\n● Register Your Team: Businesses are invited to form teams of up to five members. Each team will receive a Pinewood Derby kit and a set of guidelines to help you get started. You also have the opportunity to have a local scout build your car. We have scouts that are willing to build your car and race it on your behalf.\n● Car Design and Build: Teams will have the chance to showcase their ingenuity! We encourage all participants to think outside the box. Prizes will be awarded for speed\, design\, and creativity.\n● Attend Race Day: Mark your calendars for October 26th! Bring your family and friends to cheer on the racers at Greenwood Ford in Hollister and participate in fun activities for all ages. \nWant to support Scouting?\nWe are also seeking local businesses to partner with us as sponsors. Sponsorship packages are available and include various benefits\, such as advertising at the event\, recognition in our newsletters\, and more. If you’re interested\, please contact us at 831-801-1203 or at kristykb@charter.net.
URL:https://benitolink.com/event/revving-up-for-a-good-cause-san-benito-county-scoutings-corporate-pinewood/
CATEGORIES:Arts-Entertainment,Fundraiser
ATTACH;FMTTYPE=image/png:https://benitolink.com/wp-content/uploads/2024/10/Boy_Scouts_of_America_1911.svg_-910x1024-1.png
END:VEVENT
END:VCALENDAR