BEGIN:VCALENDAR
VERSION:2.0
PRODID:-//BenitoLink - ECPv6.15.20//NONSGML v1.0//EN
CALSCALE:GREGORIAN
METHOD:PUBLISH
X-ORIGINAL-URL:https://benitolink.com
X-WR-CALDESC:Events for BenitoLink
REFRESH-INTERVAL;VALUE=DURATION:PT1H
X-Robots-Tag:noindex
X-PUBLISHED-TTL:PT1H
BEGIN:VTIMEZONE
TZID:America/Los_Angeles
BEGIN:DAYLIGHT
TZOFFSETFROM:-0800
TZOFFSETTO:-0700
TZNAME:PDT
DTSTART:20110313T100000
END:DAYLIGHT
BEGIN:STANDARD
TZOFFSETFROM:-0700
TZOFFSETTO:-0800
TZNAME:PST
DTSTART:20111106T090000
END:STANDARD
BEGIN:DAYLIGHT
TZOFFSETFROM:-0800
TZOFFSETTO:-0700
TZNAME:PDT
DTSTART:20120311T100000
END:DAYLIGHT
BEGIN:STANDARD
TZOFFSETFROM:-0700
TZOFFSETTO:-0800
TZNAME:PST
DTSTART:20121104T090000
END:STANDARD
BEGIN:DAYLIGHT
TZOFFSETFROM:-0800
TZOFFSETTO:-0700
TZNAME:PDT
DTSTART:20130310T100000
END:DAYLIGHT
BEGIN:STANDARD
TZOFFSETFROM:-0700
TZOFFSETTO:-0800
TZNAME:PST
DTSTART:20131103T090000
END:STANDARD
BEGIN:DAYLIGHT
TZOFFSETFROM:-0800
TZOFFSETTO:-0700
TZNAME:PDT
DTSTART:20140309T100000
END:DAYLIGHT
BEGIN:STANDARD
TZOFFSETFROM:-0700
TZOFFSETTO:-0800
TZNAME:PST
DTSTART:20141102T090000
END:STANDARD
END:VTIMEZONE
BEGIN:VEVENT
DTSTART;TZID=America/Los_Angeles:20130522T000000
DTEND;TZID=America/Los_Angeles:20130522T235959
DTSTAMP:20260422T103709
CREATED:20130426T041826Z
LAST-MODIFIED:20130426T041826Z
UID:10001023-1369180800-1369267199@benitolink.com
SUMMARY:Public Hearing
DESCRIPTION:Public Hearing\nYour Voice Counts! \nThe San Benito County Community Action Board (CAB) is holding a Public Hearing  to seek PUBLIC INPUT into the\nDraft Community Action Plan (CAP) for proposed services to be made available to LOW-INCOME HOUSEHOLDS\nPersons interested in providing public comments are urged to attend.  \nIf you are unable to attend the meeting please visit our website at www.sbccab.wix.com/cab\nand click on the “CONTACTS” tab to provide your valuable input\,\nOr send your input to our office at 1111 San Felipe Road\, Ste 108\, Hollister\, CA 95023\nFor further information please call (831) 637-9293
URL:https://benitolink.com/event/public-hearing/
CATEGORIES:Government,Meetings,Neighborhood Associations,Schools
END:VEVENT
BEGIN:VEVENT
DTSTART;TZID=America/Los_Angeles:20130127T000000
DTEND;TZID=America/Los_Angeles:20130127T235959
DTSTAMP:20260422T103709
CREATED:20130113T092928Z
LAST-MODIFIED:20130113T092928Z
UID:10000945-1359244800-1359331199@benitolink.com
SUMMARY:Chris Webster and Nina Gerber in Concert at the Aromas Grange
DESCRIPTION:Tickets available at Marshall's Grocery\, or brownbagtickets.com
URL:https://benitolink.com/event/chris-webster-and-nina-gerber-in-concert-at-the-aromas-grange/
CATEGORIES:Arts-Entertainment,Neighborhood Associations
ATTACH;FMTTYPE=image/jpeg:https://benitolink.com/wp-content/uploads/2013/01/Webster_Gerber2013.jpg
END:VEVENT
BEGIN:VEVENT
DTSTART;TZID=America/Los_Angeles:20130122T000000
DTEND;TZID=America/Los_Angeles:20130122T235959
DTSTAMP:20260422T103709
CREATED:20130113T092422Z
LAST-MODIFIED:20130113T092422Z
UID:10000944-1358812800-1358899199@benitolink.com
SUMMARY:Song Circle
DESCRIPTION:Everyone Welcome!
URL:https://benitolink.com/event/song-circle/
CATEGORIES:Arts-Entertainment,Neighborhood Associations
END:VEVENT
BEGIN:VEVENT
DTSTART;TZID=America/Los_Angeles:20130119T000000
DTEND;TZID=America/Los_Angeles:20130119T235959
DTSTAMP:20260422T103709
CREATED:20130113T091820Z
LAST-MODIFIED:20130113T091820Z
UID:10000943-1358553600-1358639999@benitolink.com
SUMMARY:Movie Night "The Vanishing of the Bees"
DESCRIPTION:The film will be The Vanishing of the Bees presented by Transition Aromas. The film will be shown at 7:00\, potluck at 6:00pm.
URL:https://benitolink.com/event/movie-night-the-vanishing-of-the-bees/
CATEGORIES:Arts-Entertainment,Lectures,Neighborhood Associations
END:VEVENT
BEGIN:VEVENT
DTSTART;TZID=America/Los_Angeles:20130114T000000
DTEND;TZID=America/Los_Angeles:20130114T235959
DTSTAMP:20260422T103709
CREATED:20130113T091134Z
LAST-MODIFIED:20130113T091134Z
UID:10000942-1358121600-1358207999@benitolink.com
SUMMARY:Aromas Grange Centennial Celebration
DESCRIPTION:The Aromas Grange will celebrate it's Centennial on January 13\, 2013 at 5:30 at the Aromas Grange at Bardue and Rose in Aromas. The event is sold out and promises to be a significant event.
URL:https://benitolink.com/event/aromas-grange-centennial-celebration/
CATEGORIES:Neighborhood Associations
END:VEVENT
BEGIN:VEVENT
DTSTART;TZID=America/Los_Angeles:20130111T000000
DTEND;TZID=America/Los_Angeles:20130111T235959
DTSTAMP:20260422T103709
CREATED:20130110T065639Z
LAST-MODIFIED:20130110T065639Z
UID:10000939-1357862400-1357948799@benitolink.com
SUMMARY:Community Action Board Meeting
DESCRIPTION:The Community Action Board (CAB) presents an opportunity for residents\, service providers\, educational institutions and business interests serving San Benito County's low income people and neighborhoods to actively participate and be involved in resolving issues relating to the use of federal Community Services Block Grant (CSBG) funds received by the County. An advisory body to Community Services & Workforce Development (CSWD) and the Board of Supervisors (BOS) on such matters\, the CAB draws its 15 members in equal numbers from three distinct sectors of the community: poverty\, public and private. While CSWD and the BOS comprise the final authority on the conduct and administration of the County's Community Action Program\, which the CSBG funds\, the CAB is an important medium through which community concerns can be aired. Services such as food\, shelter\, weatherization and utility payment assistance\, help low income individuals and families achieve self reliance and attain financial self sufficiency. \nMembership on the CAB is achieved either by appointment or through a democratic selection process. The BOS appoints Council Members\, or their respective designees\, to serve as public sector representatives. CSWD selects the private sector representatives from business\, institutions and organizations that reflect the broad San Benito County community. The poverty and public sector members must confirm private sector nominees to the CAB. Poverty sector representatives are elected from each of the County's five (5) Districts\, or neighborhood service areas. \nThe Community Services & Workforce Development (CSWD) administers the Community Services Block Grant contract with the State of California\, through which CSBG funds are allocated to the County. The CSWD\, acting through its Health & Human Services Agency\, is designated as the County's Community Action Agency (CAA) for this purpose.\nThe CAB regularly meets at the Community Services & Workforce Development located at 1111 San Felipe Road\, Ste 108\, Hollister\, CA 95023. CAB meetings are held on the second Thursday every month at 5:30 P.M. and are open for public comment.  \nEnrique Arreola\nDeputy Director\nCommunity Services & Workforce Development \nhttp://sbccab.wix.com/cab
URL:https://benitolink.com/event/community-action-board-meeting/
CATEGORIES:Government,Meetings,Neighborhood Associations,Volunteer
ATTACH;FMTTYPE=image/jpeg:https://benitolink.com/wp-content/uploads/2013/01/Community-Action-Logo.JPG
END:VEVENT
BEGIN:VEVENT
DTSTART;TZID=America/Los_Angeles:20121229T000000
DTEND;TZID=America/Los_Angeles:20121229T235959
DTSTAMP:20260422T103709
CREATED:20121210T072724Z
LAST-MODIFIED:20121210T072724Z
UID:10000938-1356739200-1356825599@benitolink.com
SUMMARY:Christmas Tree Pick-up
DESCRIPTION:On Saturday December 29\, Sunday December 30\, Saturday\, January 5 and Sunday January 6\, 2013\, Boy Scout troops 436 (Hollister) and troop 428 (San Juan Bautista) will pick up your tree for a $8.00 donation. \nLeave your tree curbside by 9:00am
URL:https://benitolink.com/event/christmas-tree-pick-up/
CATEGORIES:Neighborhood Associations
END:VEVENT
END:VCALENDAR