BEGIN:VCALENDAR
VERSION:2.0
PRODID:-//BenitoLink - ECPv6.15.20//NONSGML v1.0//EN
CALSCALE:GREGORIAN
METHOD:PUBLISH
X-WR-CALNAME:BenitoLink
X-ORIGINAL-URL:https://benitolink.com
X-WR-CALDESC:Events for BenitoLink
REFRESH-INTERVAL;VALUE=DURATION:PT1H
X-Robots-Tag:noindex
X-PUBLISHED-TTL:PT1H
BEGIN:VTIMEZONE
TZID:America/Los_Angeles
BEGIN:DAYLIGHT
TZOFFSETFROM:-0800
TZOFFSETTO:-0700
TZNAME:PDT
DTSTART:20250309T100000
END:DAYLIGHT
BEGIN:STANDARD
TZOFFSETFROM:-0700
TZOFFSETTO:-0800
TZNAME:PST
DTSTART:20251102T090000
END:STANDARD
BEGIN:DAYLIGHT
TZOFFSETFROM:-0800
TZOFFSETTO:-0700
TZNAME:PDT
DTSTART:20260308T100000
END:DAYLIGHT
BEGIN:STANDARD
TZOFFSETFROM:-0700
TZOFFSETTO:-0800
TZNAME:PST
DTSTART:20261101T090000
END:STANDARD
BEGIN:DAYLIGHT
TZOFFSETFROM:-0800
TZOFFSETTO:-0700
TZNAME:PDT
DTSTART:20270314T100000
END:DAYLIGHT
BEGIN:STANDARD
TZOFFSETFROM:-0700
TZOFFSETTO:-0800
TZNAME:PST
DTSTART:20271107T090000
END:STANDARD
END:VTIMEZONE
BEGIN:VEVENT
DTSTART;TZID=America/Los_Angeles:20260115T180000
DTEND;TZID=America/Los_Angeles:20260115T200000
DTSTAMP:20260422T095830
CREATED:20260113T180245Z
LAST-MODIFIED:20260113T180245Z
UID:10015348-1768500000-1768507200@benitolink.com
SUMMARY:Gavilan College Hollister Campus One Year Anniversary Celebration
DESCRIPTION:Come to Gavilan College Hollister Campus one year anniversary celebration and open house. Tour the campus and learn about course offerings. Open to all community members. We’d love to see you!
URL:https://benitolink.com/event/gavilan-college-hollister-campus-one-year-anniversary-celebration/
LOCATION:CA
CATEGORIES:Schools
ATTACH;FMTTYPE=image/jpeg:https://benitolink.com/wp-content/uploads/2026/01/First-Hollister-Class-Monday-Jan.-27-2025-scaled.jpg
END:VEVENT
BEGIN:VEVENT
DTSTART;TZID=America/Los_Angeles:20260131T100000
DTEND;TZID=America/Los_Angeles:20260131T120000
DTSTAMP:20260422T095830
CREATED:20260116T185542Z
LAST-MODIFIED:20260116T185542Z
UID:10015350-1769853600-1769860800@benitolink.com
SUMMARY:Open House at Hollister Montessori School
DESCRIPTION:Come by for a meet and greet with HMS staff\, a tour of the grounds\, and an introduction to our AMI Montessori program! \nHMS Highlights:\n– Serving our community since 1998\n– Certified AMI Montessori teachers\n– Bi-Lingual education program\n– Low teacher to child ratio\n– Expansive indoor and outdoor learning spaces
URL:https://benitolink.com/event/open-house-at-hollister-montessori-school/
LOCATION:Hollister Montessori School\, 2300 Southside Rd\, Hollister\, CA\, 95023\, United States
CATEGORIES:Schools
ATTACH;FMTTYPE=image/png:https://benitolink.com/wp-content/uploads/2026/01/FINAL-A-side.png
ORGANIZER;CN="Hollister Montessori School":MAILTO:info@hollistermontessori.com
END:VEVENT
END:VCALENDAR