BEGIN:VCALENDAR
VERSION:2.0
PRODID:-//BenitoLink - ECPv6.15.20//NONSGML v1.0//EN
CALSCALE:GREGORIAN
METHOD:PUBLISH
X-ORIGINAL-URL:https://benitolink.com
X-WR-CALDESC:Events for BenitoLink
REFRESH-INTERVAL;VALUE=DURATION:PT1H
X-Robots-Tag:noindex
X-PUBLISHED-TTL:PT1H
BEGIN:VTIMEZONE
TZID:America/Los_Angeles
BEGIN:DAYLIGHT
TZOFFSETFROM:-0800
TZOFFSETTO:-0700
TZNAME:PDT
DTSTART:20250309T100000
END:DAYLIGHT
BEGIN:STANDARD
TZOFFSETFROM:-0700
TZOFFSETTO:-0800
TZNAME:PST
DTSTART:20251102T090000
END:STANDARD
BEGIN:DAYLIGHT
TZOFFSETFROM:-0800
TZOFFSETTO:-0700
TZNAME:PDT
DTSTART:20260308T100000
END:DAYLIGHT
BEGIN:STANDARD
TZOFFSETFROM:-0700
TZOFFSETTO:-0800
TZNAME:PST
DTSTART:20261101T090000
END:STANDARD
BEGIN:DAYLIGHT
TZOFFSETFROM:-0800
TZOFFSETTO:-0700
TZNAME:PDT
DTSTART:20270314T100000
END:DAYLIGHT
BEGIN:STANDARD
TZOFFSETFROM:-0700
TZOFFSETTO:-0800
TZNAME:PST
DTSTART:20271107T090000
END:STANDARD
END:VTIMEZONE
BEGIN:VEVENT
DTSTART;TZID=America/Los_Angeles:20260328T100000
DTEND;TZID=America/Los_Angeles:20260328T120000
DTSTAMP:20260420T103101
CREATED:20260310T214422Z
LAST-MODIFIED:20260310T214422Z
UID:10015760-1774692000-1774699200@benitolink.com
SUMMARY:Hollister Montessori School Open House
DESCRIPTION:Hollister Montessori School (HMS) will be opening its doors for the public to experience the facility first hand\, meet staff\, and get an introduction to their AMI Montessori program. Enrollment for the 2026 – 2027 school year is officially here. This is the perfect time for new parents to ask questions and plan ahead for their child’s education. \nHMS has been serving the community for over 28 years\, educating children 2.5 years of age to entry into first grade. The school offers a mixed aged classroom and bilingual education. HMS is focused on laying the foundation for young minds to grow while staying true to Maria Montessori’s AMI philosophies and values. \nFor more information\, email info@hollistermontessori.com or visit the website here: www.hollistermontessori.com
URL:https://benitolink.com/event/hollister-montessori-school-open-house/
LOCATION:Hollister Montessori School\, 2300 Southside Rd\, Hollister\, CA\, 95023\, United States
CATEGORIES:Schools
ATTACH;FMTTYPE=image/png:https://benitolink.com/wp-content/uploads/2026/03/HMS-small-flyer.png
ORGANIZER;CN="Hollister Montessori School":MAILTO:info@hollistermontessori.com
END:VEVENT
END:VCALENDAR