BEGIN:VCALENDAR
VERSION:2.0
PRODID:-//BenitoLink - ECPv6.15.20//NONSGML v1.0//EN
CALSCALE:GREGORIAN
METHOD:PUBLISH
X-WR-CALNAME:BenitoLink
X-ORIGINAL-URL:https://benitolink.com
X-WR-CALDESC:Events for BenitoLink
REFRESH-INTERVAL;VALUE=DURATION:PT1H
X-Robots-Tag:noindex
X-PUBLISHED-TTL:PT1H
BEGIN:VTIMEZONE
TZID:America/Los_Angeles
BEGIN:DAYLIGHT
TZOFFSETFROM:-0800
TZOFFSETTO:-0700
TZNAME:PDT
DTSTART:20250309T100000
END:DAYLIGHT
BEGIN:STANDARD
TZOFFSETFROM:-0700
TZOFFSETTO:-0800
TZNAME:PST
DTSTART:20251102T090000
END:STANDARD
BEGIN:DAYLIGHT
TZOFFSETFROM:-0800
TZOFFSETTO:-0700
TZNAME:PDT
DTSTART:20260308T100000
END:DAYLIGHT
BEGIN:STANDARD
TZOFFSETFROM:-0700
TZOFFSETTO:-0800
TZNAME:PST
DTSTART:20261101T090000
END:STANDARD
BEGIN:DAYLIGHT
TZOFFSETFROM:-0800
TZOFFSETTO:-0700
TZNAME:PDT
DTSTART:20270314T100000
END:DAYLIGHT
BEGIN:STANDARD
TZOFFSETFROM:-0700
TZOFFSETTO:-0800
TZNAME:PST
DTSTART:20271107T090000
END:STANDARD
END:VTIMEZONE
BEGIN:VEVENT
DTSTART;TZID=America/Los_Angeles:20260228T090000
DTEND;TZID=America/Los_Angeles:20260228T100000
DTSTAMP:20260422T173229
CREATED:20260217T210646Z
LAST-MODIFIED:20260217T210646Z
UID:10015370-1772269200-1772272800@benitolink.com
SUMMARY:Meet the Rancher
DESCRIPTION:Meet the Rancher\nSaturday\, February 28 at 9-10am\nMudstone Ranch\, Hollister Hills SVRA \nJoin us on Saturday\, February 28\, 9-10am at Mudstone Ranch to stroll with Joe Morris (contract grazer) to discover the wonders of cattle grazing on parklands. The hike will focus how the cattle grazing program balances recreational opportunities and fuel reduction while enhancing natural plant communities. Dress appropriately for the free outing (easy to moderate\, 1-mile hike) at Mudstone Ranch\, park entrance fee of $5 per vehicle applies. Email Hollister.Hills@parks.ca.gov or call Hollister Hills SVRA at 831-636-2065 for more information.
URL:https://benitolink.com/event/meet-the-rancher/
LOCATION:Hollister Hills State Vehicular Recreation Area\, 7800 Cienega Road\, Hollister\, 95023\, United States America
CATEGORIES:Sports-Recreation
ATTACH;FMTTYPE=image/jpeg:https://benitolink.com/wp-content/uploads/2015/03/hollister-hills-sign.jpg
ORGANIZER;CN="Hollister Hills SVRA":MAILTO:michelle.armijo@parks.ca.gov
END:VEVENT
END:VCALENDAR