BEGIN:VCALENDAR
VERSION:2.0
PRODID:-//BenitoLink - ECPv6.15.20//NONSGML v1.0//EN
CALSCALE:GREGORIAN
METHOD:PUBLISH
X-ORIGINAL-URL:https://benitolink.com
X-WR-CALDESC:Events for BenitoLink
REFRESH-INTERVAL;VALUE=DURATION:PT1H
X-Robots-Tag:noindex
X-PUBLISHED-TTL:PT1H
BEGIN:VTIMEZONE
TZID:America/Los_Angeles
BEGIN:DAYLIGHT
TZOFFSETFROM:-0800
TZOFFSETTO:-0700
TZNAME:PDT
DTSTART:20250309T100000
END:DAYLIGHT
BEGIN:STANDARD
TZOFFSETFROM:-0700
TZOFFSETTO:-0800
TZNAME:PST
DTSTART:20251102T090000
END:STANDARD
BEGIN:DAYLIGHT
TZOFFSETFROM:-0800
TZOFFSETTO:-0700
TZNAME:PDT
DTSTART:20260308T100000
END:DAYLIGHT
BEGIN:STANDARD
TZOFFSETFROM:-0700
TZOFFSETTO:-0800
TZNAME:PST
DTSTART:20261101T090000
END:STANDARD
BEGIN:DAYLIGHT
TZOFFSETFROM:-0800
TZOFFSETTO:-0700
TZNAME:PDT
DTSTART:20270314T100000
END:DAYLIGHT
BEGIN:STANDARD
TZOFFSETFROM:-0700
TZOFFSETTO:-0800
TZNAME:PST
DTSTART:20271107T090000
END:STANDARD
BEGIN:DAYLIGHT
TZOFFSETFROM:-0800
TZOFFSETTO:-0700
TZNAME:PDT
DTSTART:20280312T100000
END:DAYLIGHT
BEGIN:STANDARD
TZOFFSETFROM:-0700
TZOFFSETTO:-0800
TZNAME:PST
DTSTART:20281105T090000
END:STANDARD
BEGIN:DAYLIGHT
TZOFFSETFROM:-0800
TZOFFSETTO:-0700
TZNAME:PDT
DTSTART:20290311T100000
END:DAYLIGHT
BEGIN:STANDARD
TZOFFSETFROM:-0700
TZOFFSETTO:-0800
TZNAME:PST
DTSTART:20291104T090000
END:STANDARD
END:VTIMEZONE
BEGIN:VEVENT
DTSTART;TZID=America/Los_Angeles:20260503T090000
DTEND;TZID=America/Los_Angeles:20260503T120000
DTSTAMP:20260422T132459
CREATED:20231221T172435Z
LAST-MODIFIED:20231221T172435Z
UID:10004013-1777798800-1777809600@benitolink.com
SUMMARY:SBALT Ranch Day
DESCRIPTION:Work parties and/or hikes on Nyland and Rancho Larios Protected Lands in San Juan Bautista.
URL:https://benitolink.com/event/sbalt-ranch-day-3/2026-05-03/
LOCATION:San Juan Bautista\, CA
CATEGORIES:Sports-Recreation,Volunteer
ATTACH;FMTTYPE=image/jpeg:https://benitolink.com/wp-content/uploads/2023/12/Ranch-Days-Flier.jpg
ORGANIZER;CN="San Benito Agricultural Land Trust":MAILTO:info@sanbenitolandtrust.org
END:VEVENT
BEGIN:VEVENT
DTSTART;TZID=America/Los_Angeles:20260509T090000
DTEND;TZID=America/Los_Angeles:20260509T120000
DTSTAMP:20260422T132459
CREATED:20260421T183514Z
LAST-MODIFIED:20260421T183514Z
UID:10016164-1778317200-1778328000@benitolink.com
SUMMARY:Community Planting Day
DESCRIPTION:Join Wildlife Conservation Board\, SBALT\, Point Blue\, Grassroots Ecology\, and Amah Mutsun Land Trust for a Community Planting Day Help restore wildlife habit. \nSaturday\, May 9\, 9:00 a.m.-12:00 p.m. on the Nyland Property in San Juan Bautista.
URL:https://benitolink.com/event/community-planting-day/
CATEGORIES:Sports-Recreation
ATTACH;FMTTYPE=image/jpeg:https://benitolink.com/wp-content/uploads/2021/04/IMG_0030.jpg
ORGANIZER;CN="San Benito Agricultural Land Trust":MAILTO:info@sanbenitolandtrust.org
END:VEVENT
BEGIN:VEVENT
DTSTART;TZID=America/Los_Angeles:20260607T090000
DTEND;TZID=America/Los_Angeles:20260607T120000
DTSTAMP:20260422T132459
CREATED:20231221T172435Z
LAST-MODIFIED:20231221T172435Z
UID:10004014-1780822800-1780833600@benitolink.com
SUMMARY:SBALT Ranch Day
DESCRIPTION:Work parties and/or hikes on Nyland and Rancho Larios Protected Lands in San Juan Bautista.
URL:https://benitolink.com/event/sbalt-ranch-day-3/2026-06-07/
LOCATION:San Juan Bautista\, CA
CATEGORIES:Sports-Recreation,Volunteer
ATTACH;FMTTYPE=image/jpeg:https://benitolink.com/wp-content/uploads/2023/12/Ranch-Days-Flier.jpg
ORGANIZER;CN="San Benito Agricultural Land Trust":MAILTO:info@sanbenitolandtrust.org
END:VEVENT
BEGIN:VEVENT
DTSTART;TZID=America/Los_Angeles:20260705T090000
DTEND;TZID=America/Los_Angeles:20260705T120000
DTSTAMP:20260422T132459
CREATED:20231221T172435Z
LAST-MODIFIED:20231221T172435Z
UID:10004015-1783242000-1783252800@benitolink.com
SUMMARY:SBALT Ranch Day
DESCRIPTION:Work parties and/or hikes on Nyland and Rancho Larios Protected Lands in San Juan Bautista.
URL:https://benitolink.com/event/sbalt-ranch-day-3/2026-07-05/
LOCATION:San Juan Bautista\, CA
CATEGORIES:Sports-Recreation,Volunteer
ATTACH;FMTTYPE=image/jpeg:https://benitolink.com/wp-content/uploads/2023/12/Ranch-Days-Flier.jpg
ORGANIZER;CN="San Benito Agricultural Land Trust":MAILTO:info@sanbenitolandtrust.org
END:VEVENT
BEGIN:VEVENT
DTSTART;TZID=America/Los_Angeles:20260802T090000
DTEND;TZID=America/Los_Angeles:20260802T120000
DTSTAMP:20260422T132459
CREATED:20231221T172435Z
LAST-MODIFIED:20231221T172435Z
UID:10004016-1785661200-1785672000@benitolink.com
SUMMARY:SBALT Ranch Day
DESCRIPTION:Work parties and/or hikes on Nyland and Rancho Larios Protected Lands in San Juan Bautista.
URL:https://benitolink.com/event/sbalt-ranch-day-3/2026-08-02/
LOCATION:San Juan Bautista\, CA
CATEGORIES:Sports-Recreation,Volunteer
ATTACH;FMTTYPE=image/jpeg:https://benitolink.com/wp-content/uploads/2023/12/Ranch-Days-Flier.jpg
ORGANIZER;CN="San Benito Agricultural Land Trust":MAILTO:info@sanbenitolandtrust.org
END:VEVENT
BEGIN:VEVENT
DTSTART;TZID=America/Los_Angeles:20260906T090000
DTEND;TZID=America/Los_Angeles:20260906T120000
DTSTAMP:20260422T132459
CREATED:20231221T172435Z
LAST-MODIFIED:20231221T172435Z
UID:10004017-1788685200-1788696000@benitolink.com
SUMMARY:SBALT Ranch Day
DESCRIPTION:Work parties and/or hikes on Nyland and Rancho Larios Protected Lands in San Juan Bautista.
URL:https://benitolink.com/event/sbalt-ranch-day-3/2026-09-06/
LOCATION:San Juan Bautista\, CA
CATEGORIES:Sports-Recreation,Volunteer
ATTACH;FMTTYPE=image/jpeg:https://benitolink.com/wp-content/uploads/2023/12/Ranch-Days-Flier.jpg
ORGANIZER;CN="San Benito Agricultural Land Trust":MAILTO:info@sanbenitolandtrust.org
END:VEVENT
BEGIN:VEVENT
DTSTART;TZID=America/Los_Angeles:20260912T070000
DTEND;TZID=America/Los_Angeles:20260912T103000
DTSTAMP:20260422T132459
CREATED:20260219T233245Z
LAST-MODIFIED:20260219T233245Z
UID:10015377-1789196400-1789209000@benitolink.com
SUMMARY:The River Run
DESCRIPTION:Please join us for the River Run\, back for a great 6th year in 2026. A family-friendly event that will be fun for everyone! You’ll be able to run or walk a 5K distance or a 1-mile untimed fun run. The River Run 2026 is a unique experience that meanders through a working sand and gravel quarry. The event takes you inside the Southside Sand and Gravel Quarry to see the working quarry site\, the banks of the San Benito River\, specialized equipment that processes the rock\, and beautiful natural surroundings. \nRiver Run benefits the YMCA of San Benito and begins at 8:00 a.m. on Saturday\, September 12\, 2026. \nPricing is available for individuals or families. The family pricing option is available for families/groups of 4 or more participants. \nThe event is located the Graniterock Sand and Gravel Quarry at 5632 Airline Highway\, Hollister\, CA 95023. Free parking is available at the race site.
URL:https://benitolink.com/event/the-river-run-2/
LOCATION:Graniterock Southside Sand & Gravel Quarry\, 5632 Airline Highway\, Hollister\, CA\, 95023\, United States
CATEGORIES:Rally-Causes,Sports-Recreation
ATTACH;FMTTYPE=image/png:https://benitolink.com/wp-content/uploads/2026/02/Screenshot-2024-06-06-124238.png
ORGANIZER;CN="YMCA of San Benito County":MAILTO:ymcasanbenito@ymcacentralcoast.org
END:VEVENT
BEGIN:VEVENT
DTSTART;TZID=America/Los_Angeles:20261004T090000
DTEND;TZID=America/Los_Angeles:20261004T120000
DTSTAMP:20260422T132459
CREATED:20231221T172435Z
LAST-MODIFIED:20231221T172435Z
UID:10004018-1791104400-1791115200@benitolink.com
SUMMARY:SBALT Ranch Day
DESCRIPTION:Work parties and/or hikes on Nyland and Rancho Larios Protected Lands in San Juan Bautista.
URL:https://benitolink.com/event/sbalt-ranch-day-3/2026-10-04/
LOCATION:San Juan Bautista\, CA
CATEGORIES:Sports-Recreation,Volunteer
ATTACH;FMTTYPE=image/jpeg:https://benitolink.com/wp-content/uploads/2023/12/Ranch-Days-Flier.jpg
ORGANIZER;CN="San Benito Agricultural Land Trust":MAILTO:info@sanbenitolandtrust.org
END:VEVENT
BEGIN:VEVENT
DTSTART;TZID=America/Los_Angeles:20261101T090000
DTEND;TZID=America/Los_Angeles:20261101T120000
DTSTAMP:20260422T132459
CREATED:20231221T172435Z
LAST-MODIFIED:20231221T172435Z
UID:10004019-1793523600-1793534400@benitolink.com
SUMMARY:SBALT Ranch Day
DESCRIPTION:Work parties and/or hikes on Nyland and Rancho Larios Protected Lands in San Juan Bautista.
URL:https://benitolink.com/event/sbalt-ranch-day-3/2026-11-01/
LOCATION:San Juan Bautista\, CA
CATEGORIES:Sports-Recreation,Volunteer
ATTACH;FMTTYPE=image/jpeg:https://benitolink.com/wp-content/uploads/2023/12/Ranch-Days-Flier.jpg
ORGANIZER;CN="San Benito Agricultural Land Trust":MAILTO:info@sanbenitolandtrust.org
END:VEVENT
BEGIN:VEVENT
DTSTART;TZID=America/Los_Angeles:20261206T090000
DTEND;TZID=America/Los_Angeles:20261206T120000
DTSTAMP:20260422T132459
CREATED:20231221T172435Z
LAST-MODIFIED:20231221T172435Z
UID:10004020-1796547600-1796558400@benitolink.com
SUMMARY:SBALT Ranch Day
DESCRIPTION:Work parties and/or hikes on Nyland and Rancho Larios Protected Lands in San Juan Bautista.
URL:https://benitolink.com/event/sbalt-ranch-day-3/2026-12-06/
LOCATION:San Juan Bautista\, CA
CATEGORIES:Sports-Recreation,Volunteer
ATTACH;FMTTYPE=image/jpeg:https://benitolink.com/wp-content/uploads/2023/12/Ranch-Days-Flier.jpg
ORGANIZER;CN="San Benito Agricultural Land Trust":MAILTO:info@sanbenitolandtrust.org
END:VEVENT
BEGIN:VEVENT
DTSTART;TZID=America/Los_Angeles:20270103T090000
DTEND;TZID=America/Los_Angeles:20270103T120000
DTSTAMP:20260422T132459
CREATED:20231221T172435Z
LAST-MODIFIED:20231221T172435Z
UID:10004021-1798966800-1798977600@benitolink.com
SUMMARY:SBALT Ranch Day
DESCRIPTION:Work parties and/or hikes on Nyland and Rancho Larios Protected Lands in San Juan Bautista.
URL:https://benitolink.com/event/sbalt-ranch-day-3/2027-01-03/
LOCATION:San Juan Bautista\, CA
CATEGORIES:Sports-Recreation,Volunteer
ATTACH;FMTTYPE=image/jpeg:https://benitolink.com/wp-content/uploads/2023/12/Ranch-Days-Flier.jpg
ORGANIZER;CN="San Benito Agricultural Land Trust":MAILTO:info@sanbenitolandtrust.org
END:VEVENT
BEGIN:VEVENT
DTSTART;TZID=America/Los_Angeles:20270207T090000
DTEND;TZID=America/Los_Angeles:20270207T120000
DTSTAMP:20260422T132459
CREATED:20231221T172435Z
LAST-MODIFIED:20231221T172435Z
UID:10004022-1801990800-1802001600@benitolink.com
SUMMARY:SBALT Ranch Day
DESCRIPTION:Work parties and/or hikes on Nyland and Rancho Larios Protected Lands in San Juan Bautista.
URL:https://benitolink.com/event/sbalt-ranch-day-3/2027-02-07/
LOCATION:San Juan Bautista\, CA
CATEGORIES:Sports-Recreation,Volunteer
ATTACH;FMTTYPE=image/jpeg:https://benitolink.com/wp-content/uploads/2023/12/Ranch-Days-Flier.jpg
ORGANIZER;CN="San Benito Agricultural Land Trust":MAILTO:info@sanbenitolandtrust.org
END:VEVENT
BEGIN:VEVENT
DTSTART;TZID=America/Los_Angeles:20270307T090000
DTEND;TZID=America/Los_Angeles:20270307T120000
DTSTAMP:20260422T132459
CREATED:20231221T172435Z
LAST-MODIFIED:20231221T172435Z
UID:10004023-1804410000-1804420800@benitolink.com
SUMMARY:SBALT Ranch Day
DESCRIPTION:Work parties and/or hikes on Nyland and Rancho Larios Protected Lands in San Juan Bautista.
URL:https://benitolink.com/event/sbalt-ranch-day-3/2027-03-07/
LOCATION:San Juan Bautista\, CA
CATEGORIES:Sports-Recreation,Volunteer
ATTACH;FMTTYPE=image/jpeg:https://benitolink.com/wp-content/uploads/2023/12/Ranch-Days-Flier.jpg
ORGANIZER;CN="San Benito Agricultural Land Trust":MAILTO:info@sanbenitolandtrust.org
END:VEVENT
BEGIN:VEVENT
DTSTART;TZID=America/Los_Angeles:20270404T090000
DTEND;TZID=America/Los_Angeles:20270404T120000
DTSTAMP:20260422T132459
CREATED:20231221T172435Z
LAST-MODIFIED:20231221T172435Z
UID:10004024-1806829200-1806840000@benitolink.com
SUMMARY:SBALT Ranch Day
DESCRIPTION:Work parties and/or hikes on Nyland and Rancho Larios Protected Lands in San Juan Bautista.
URL:https://benitolink.com/event/sbalt-ranch-day-3/2027-04-04/
LOCATION:San Juan Bautista\, CA
CATEGORIES:Sports-Recreation,Volunteer
ATTACH;FMTTYPE=image/jpeg:https://benitolink.com/wp-content/uploads/2023/12/Ranch-Days-Flier.jpg
ORGANIZER;CN="San Benito Agricultural Land Trust":MAILTO:info@sanbenitolandtrust.org
END:VEVENT
BEGIN:VEVENT
DTSTART;TZID=America/Los_Angeles:20270502T090000
DTEND;TZID=America/Los_Angeles:20270502T120000
DTSTAMP:20260422T132459
CREATED:20231221T172435Z
LAST-MODIFIED:20231221T172435Z
UID:10004025-1809248400-1809259200@benitolink.com
SUMMARY:SBALT Ranch Day
DESCRIPTION:Work parties and/or hikes on Nyland and Rancho Larios Protected Lands in San Juan Bautista.
URL:https://benitolink.com/event/sbalt-ranch-day-3/2027-05-02/
LOCATION:San Juan Bautista\, CA
CATEGORIES:Sports-Recreation,Volunteer
ATTACH;FMTTYPE=image/jpeg:https://benitolink.com/wp-content/uploads/2023/12/Ranch-Days-Flier.jpg
ORGANIZER;CN="San Benito Agricultural Land Trust":MAILTO:info@sanbenitolandtrust.org
END:VEVENT
BEGIN:VEVENT
DTSTART;TZID=America/Los_Angeles:20270606T090000
DTEND;TZID=America/Los_Angeles:20270606T120000
DTSTAMP:20260422T132459
CREATED:20231221T172435Z
LAST-MODIFIED:20231221T172435Z
UID:10004026-1812272400-1812283200@benitolink.com
SUMMARY:SBALT Ranch Day
DESCRIPTION:Work parties and/or hikes on Nyland and Rancho Larios Protected Lands in San Juan Bautista.
URL:https://benitolink.com/event/sbalt-ranch-day-3/2027-06-06/
LOCATION:San Juan Bautista\, CA
CATEGORIES:Sports-Recreation,Volunteer
ATTACH;FMTTYPE=image/jpeg:https://benitolink.com/wp-content/uploads/2023/12/Ranch-Days-Flier.jpg
ORGANIZER;CN="San Benito Agricultural Land Trust":MAILTO:info@sanbenitolandtrust.org
END:VEVENT
BEGIN:VEVENT
DTSTART;TZID=America/Los_Angeles:20270704T090000
DTEND;TZID=America/Los_Angeles:20270704T120000
DTSTAMP:20260422T132459
CREATED:20231221T172435Z
LAST-MODIFIED:20231221T172435Z
UID:10004027-1814691600-1814702400@benitolink.com
SUMMARY:SBALT Ranch Day
DESCRIPTION:Work parties and/or hikes on Nyland and Rancho Larios Protected Lands in San Juan Bautista.
URL:https://benitolink.com/event/sbalt-ranch-day-3/2027-07-04/
LOCATION:San Juan Bautista\, CA
CATEGORIES:Sports-Recreation,Volunteer
ATTACH;FMTTYPE=image/jpeg:https://benitolink.com/wp-content/uploads/2023/12/Ranch-Days-Flier.jpg
ORGANIZER;CN="San Benito Agricultural Land Trust":MAILTO:info@sanbenitolandtrust.org
END:VEVENT
BEGIN:VEVENT
DTSTART;TZID=America/Los_Angeles:20270801T090000
DTEND;TZID=America/Los_Angeles:20270801T120000
DTSTAMP:20260422T132459
CREATED:20231221T172435Z
LAST-MODIFIED:20231221T172435Z
UID:10004028-1817110800-1817121600@benitolink.com
SUMMARY:SBALT Ranch Day
DESCRIPTION:Work parties and/or hikes on Nyland and Rancho Larios Protected Lands in San Juan Bautista.
URL:https://benitolink.com/event/sbalt-ranch-day-3/2027-08-01/
LOCATION:San Juan Bautista\, CA
CATEGORIES:Sports-Recreation,Volunteer
ATTACH;FMTTYPE=image/jpeg:https://benitolink.com/wp-content/uploads/2023/12/Ranch-Days-Flier.jpg
ORGANIZER;CN="San Benito Agricultural Land Trust":MAILTO:info@sanbenitolandtrust.org
END:VEVENT
BEGIN:VEVENT
DTSTART;TZID=America/Los_Angeles:20270905T090000
DTEND;TZID=America/Los_Angeles:20270905T120000
DTSTAMP:20260422T132459
CREATED:20231221T172435Z
LAST-MODIFIED:20231221T172435Z
UID:10004029-1820134800-1820145600@benitolink.com
SUMMARY:SBALT Ranch Day
DESCRIPTION:Work parties and/or hikes on Nyland and Rancho Larios Protected Lands in San Juan Bautista.
URL:https://benitolink.com/event/sbalt-ranch-day-3/2027-09-05/
LOCATION:San Juan Bautista\, CA
CATEGORIES:Sports-Recreation,Volunteer
ATTACH;FMTTYPE=image/jpeg:https://benitolink.com/wp-content/uploads/2023/12/Ranch-Days-Flier.jpg
ORGANIZER;CN="San Benito Agricultural Land Trust":MAILTO:info@sanbenitolandtrust.org
END:VEVENT
BEGIN:VEVENT
DTSTART;TZID=America/Los_Angeles:20271003T090000
DTEND;TZID=America/Los_Angeles:20271003T120000
DTSTAMP:20260422T132459
CREATED:20231221T172435Z
LAST-MODIFIED:20231221T172435Z
UID:10004030-1822554000-1822564800@benitolink.com
SUMMARY:SBALT Ranch Day
DESCRIPTION:Work parties and/or hikes on Nyland and Rancho Larios Protected Lands in San Juan Bautista.
URL:https://benitolink.com/event/sbalt-ranch-day-3/2027-10-03/
LOCATION:San Juan Bautista\, CA
CATEGORIES:Sports-Recreation,Volunteer
ATTACH;FMTTYPE=image/jpeg:https://benitolink.com/wp-content/uploads/2023/12/Ranch-Days-Flier.jpg
ORGANIZER;CN="San Benito Agricultural Land Trust":MAILTO:info@sanbenitolandtrust.org
END:VEVENT
BEGIN:VEVENT
DTSTART;TZID=America/Los_Angeles:20271107T090000
DTEND;TZID=America/Los_Angeles:20271107T120000
DTSTAMP:20260422T132459
CREATED:20231221T172435Z
LAST-MODIFIED:20231221T172435Z
UID:10004031-1825578000-1825588800@benitolink.com
SUMMARY:SBALT Ranch Day
DESCRIPTION:Work parties and/or hikes on Nyland and Rancho Larios Protected Lands in San Juan Bautista.
URL:https://benitolink.com/event/sbalt-ranch-day-3/2027-11-07/
LOCATION:San Juan Bautista\, CA
CATEGORIES:Sports-Recreation,Volunteer
ATTACH;FMTTYPE=image/jpeg:https://benitolink.com/wp-content/uploads/2023/12/Ranch-Days-Flier.jpg
ORGANIZER;CN="San Benito Agricultural Land Trust":MAILTO:info@sanbenitolandtrust.org
END:VEVENT
BEGIN:VEVENT
DTSTART;TZID=America/Los_Angeles:20271205T090000
DTEND;TZID=America/Los_Angeles:20271205T120000
DTSTAMP:20260422T132459
CREATED:20231221T172435Z
LAST-MODIFIED:20231221T172435Z
UID:10004032-1827997200-1828008000@benitolink.com
SUMMARY:SBALT Ranch Day
DESCRIPTION:Work parties and/or hikes on Nyland and Rancho Larios Protected Lands in San Juan Bautista.
URL:https://benitolink.com/event/sbalt-ranch-day-3/2027-12-05/
LOCATION:San Juan Bautista\, CA
CATEGORIES:Sports-Recreation,Volunteer
ATTACH;FMTTYPE=image/jpeg:https://benitolink.com/wp-content/uploads/2023/12/Ranch-Days-Flier.jpg
ORGANIZER;CN="San Benito Agricultural Land Trust":MAILTO:info@sanbenitolandtrust.org
END:VEVENT
BEGIN:VEVENT
DTSTART;TZID=America/Los_Angeles:20280102T090000
DTEND;TZID=America/Los_Angeles:20280102T120000
DTSTAMP:20260422T132459
CREATED:20231221T172435Z
LAST-MODIFIED:20231221T172435Z
UID:10004033-1830416400-1830427200@benitolink.com
SUMMARY:SBALT Ranch Day
DESCRIPTION:Work parties and/or hikes on Nyland and Rancho Larios Protected Lands in San Juan Bautista.
URL:https://benitolink.com/event/sbalt-ranch-day-3/2028-01-02/
LOCATION:San Juan Bautista\, CA
CATEGORIES:Sports-Recreation,Volunteer
ATTACH;FMTTYPE=image/jpeg:https://benitolink.com/wp-content/uploads/2023/12/Ranch-Days-Flier.jpg
ORGANIZER;CN="San Benito Agricultural Land Trust":MAILTO:info@sanbenitolandtrust.org
END:VEVENT
BEGIN:VEVENT
DTSTART;TZID=America/Los_Angeles:20280206T090000
DTEND;TZID=America/Los_Angeles:20280206T120000
DTSTAMP:20260422T132459
CREATED:20231221T172435Z
LAST-MODIFIED:20231221T172435Z
UID:10004034-1833440400-1833451200@benitolink.com
SUMMARY:SBALT Ranch Day
DESCRIPTION:Work parties and/or hikes on Nyland and Rancho Larios Protected Lands in San Juan Bautista.
URL:https://benitolink.com/event/sbalt-ranch-day-3/2028-02-06/
LOCATION:San Juan Bautista\, CA
CATEGORIES:Sports-Recreation,Volunteer
ATTACH;FMTTYPE=image/jpeg:https://benitolink.com/wp-content/uploads/2023/12/Ranch-Days-Flier.jpg
ORGANIZER;CN="San Benito Agricultural Land Trust":MAILTO:info@sanbenitolandtrust.org
END:VEVENT
BEGIN:VEVENT
DTSTART;TZID=America/Los_Angeles:20280305T090000
DTEND;TZID=America/Los_Angeles:20280305T120000
DTSTAMP:20260422T132459
CREATED:20231221T172435Z
LAST-MODIFIED:20231221T172435Z
UID:10004035-1835859600-1835870400@benitolink.com
SUMMARY:SBALT Ranch Day
DESCRIPTION:Work parties and/or hikes on Nyland and Rancho Larios Protected Lands in San Juan Bautista.
URL:https://benitolink.com/event/sbalt-ranch-day-3/2028-03-05/
LOCATION:San Juan Bautista\, CA
CATEGORIES:Sports-Recreation,Volunteer
ATTACH;FMTTYPE=image/jpeg:https://benitolink.com/wp-content/uploads/2023/12/Ranch-Days-Flier.jpg
ORGANIZER;CN="San Benito Agricultural Land Trust":MAILTO:info@sanbenitolandtrust.org
END:VEVENT
BEGIN:VEVENT
DTSTART;TZID=America/Los_Angeles:20280402T090000
DTEND;TZID=America/Los_Angeles:20280402T120000
DTSTAMP:20260422T132459
CREATED:20231221T172435Z
LAST-MODIFIED:20231221T172435Z
UID:10004036-1838278800-1838289600@benitolink.com
SUMMARY:SBALT Ranch Day
DESCRIPTION:Work parties and/or hikes on Nyland and Rancho Larios Protected Lands in San Juan Bautista.
URL:https://benitolink.com/event/sbalt-ranch-day-3/2028-04-02/
LOCATION:San Juan Bautista\, CA
CATEGORIES:Sports-Recreation,Volunteer
ATTACH;FMTTYPE=image/jpeg:https://benitolink.com/wp-content/uploads/2023/12/Ranch-Days-Flier.jpg
ORGANIZER;CN="San Benito Agricultural Land Trust":MAILTO:info@sanbenitolandtrust.org
END:VEVENT
BEGIN:VEVENT
DTSTART;TZID=America/Los_Angeles:20280507T090000
DTEND;TZID=America/Los_Angeles:20280507T120000
DTSTAMP:20260422T132459
CREATED:20231221T172435Z
LAST-MODIFIED:20231221T172435Z
UID:10004037-1841302800-1841313600@benitolink.com
SUMMARY:SBALT Ranch Day
DESCRIPTION:Work parties and/or hikes on Nyland and Rancho Larios Protected Lands in San Juan Bautista.
URL:https://benitolink.com/event/sbalt-ranch-day-3/2028-05-07/
LOCATION:San Juan Bautista\, CA
CATEGORIES:Sports-Recreation,Volunteer
ATTACH;FMTTYPE=image/jpeg:https://benitolink.com/wp-content/uploads/2023/12/Ranch-Days-Flier.jpg
ORGANIZER;CN="San Benito Agricultural Land Trust":MAILTO:info@sanbenitolandtrust.org
END:VEVENT
BEGIN:VEVENT
DTSTART;TZID=America/Los_Angeles:20280604T090000
DTEND;TZID=America/Los_Angeles:20280604T120000
DTSTAMP:20260422T132459
CREATED:20231221T172435Z
LAST-MODIFIED:20231221T172435Z
UID:10004038-1843722000-1843732800@benitolink.com
SUMMARY:SBALT Ranch Day
DESCRIPTION:Work parties and/or hikes on Nyland and Rancho Larios Protected Lands in San Juan Bautista.
URL:https://benitolink.com/event/sbalt-ranch-day-3/2028-06-04/
LOCATION:San Juan Bautista\, CA
CATEGORIES:Sports-Recreation,Volunteer
ATTACH;FMTTYPE=image/jpeg:https://benitolink.com/wp-content/uploads/2023/12/Ranch-Days-Flier.jpg
ORGANIZER;CN="San Benito Agricultural Land Trust":MAILTO:info@sanbenitolandtrust.org
END:VEVENT
BEGIN:VEVENT
DTSTART;TZID=America/Los_Angeles:20280702T090000
DTEND;TZID=America/Los_Angeles:20280702T120000
DTSTAMP:20260422T132459
CREATED:20231221T172435Z
LAST-MODIFIED:20231221T172435Z
UID:10004039-1846141200-1846152000@benitolink.com
SUMMARY:SBALT Ranch Day
DESCRIPTION:Work parties and/or hikes on Nyland and Rancho Larios Protected Lands in San Juan Bautista.
URL:https://benitolink.com/event/sbalt-ranch-day-3/2028-07-02/
LOCATION:San Juan Bautista\, CA
CATEGORIES:Sports-Recreation,Volunteer
ATTACH;FMTTYPE=image/jpeg:https://benitolink.com/wp-content/uploads/2023/12/Ranch-Days-Flier.jpg
ORGANIZER;CN="San Benito Agricultural Land Trust":MAILTO:info@sanbenitolandtrust.org
END:VEVENT
BEGIN:VEVENT
DTSTART;TZID=America/Los_Angeles:20280806T090000
DTEND;TZID=America/Los_Angeles:20280806T120000
DTSTAMP:20260422T132459
CREATED:20231221T172435Z
LAST-MODIFIED:20231221T172435Z
UID:10004040-1849165200-1849176000@benitolink.com
SUMMARY:SBALT Ranch Day
DESCRIPTION:Work parties and/or hikes on Nyland and Rancho Larios Protected Lands in San Juan Bautista.
URL:https://benitolink.com/event/sbalt-ranch-day-3/2028-08-06/
LOCATION:San Juan Bautista\, CA
CATEGORIES:Sports-Recreation,Volunteer
ATTACH;FMTTYPE=image/jpeg:https://benitolink.com/wp-content/uploads/2023/12/Ranch-Days-Flier.jpg
ORGANIZER;CN="San Benito Agricultural Land Trust":MAILTO:info@sanbenitolandtrust.org
END:VEVENT
END:VCALENDAR