BEGIN:VCALENDAR
VERSION:2.0
PRODID:-//BenitoLink - ECPv6.15.20//NONSGML v1.0//EN
CALSCALE:GREGORIAN
METHOD:PUBLISH
X-ORIGINAL-URL:https://benitolink.com
X-WR-CALDESC:Events for BenitoLink
REFRESH-INTERVAL;VALUE=DURATION:PT1H
X-Robots-Tag:noindex
X-PUBLISHED-TTL:PT1H
BEGIN:VTIMEZONE
TZID:America/Los_Angeles
BEGIN:DAYLIGHT
TZOFFSETFROM:-0800
TZOFFSETTO:-0700
TZNAME:PDT
DTSTART:20240310T100000
END:DAYLIGHT
BEGIN:STANDARD
TZOFFSETFROM:-0700
TZOFFSETTO:-0800
TZNAME:PST
DTSTART:20241103T090000
END:STANDARD
BEGIN:DAYLIGHT
TZOFFSETFROM:-0800
TZOFFSETTO:-0700
TZNAME:PDT
DTSTART:20250309T100000
END:DAYLIGHT
BEGIN:STANDARD
TZOFFSETFROM:-0700
TZOFFSETTO:-0800
TZNAME:PST
DTSTART:20251102T090000
END:STANDARD
BEGIN:DAYLIGHT
TZOFFSETFROM:-0800
TZOFFSETTO:-0700
TZNAME:PDT
DTSTART:20260308T100000
END:DAYLIGHT
BEGIN:STANDARD
TZOFFSETFROM:-0700
TZOFFSETTO:-0800
TZNAME:PST
DTSTART:20261101T090000
END:STANDARD
END:VTIMEZONE
BEGIN:VEVENT
DTSTART;TZID=America/Los_Angeles:20251124T160000
DTEND;TZID=America/Los_Angeles:20251124T170000
DTSTAMP:20260422T235614
CREATED:20250814T220804Z
LAST-MODIFIED:20250814T220804Z
UID:10013822-1764000000-1764003600@benitolink.com
SUMMARY:Group Core Class
DESCRIPTION:SBJ core exercises Mondays at 4pm but more of a relationship builder with your significant other or BFF. \nCheck it out and sign up here: https://www.mystichealthwellness.com/private-sessions at 410 Third St\, in San Juan Bautista.
URL:https://benitolink.com/event/group-core-class/2025-11-24/
LOCATION:410 Third St\, San Juan Bautista\, CA 95045\, 410 Third St.\, San Juan Bautista\, CA\, 95045\, United States
CATEGORIES:Sports-Recreation
ATTACH;FMTTYPE=image/avif:https://benitolink.com/wp-content/uploads/2025/08/897cdd_ce2d0b00d18c4dbdb8a0ccd190037ed7mv2.avif
END:VEVENT
BEGIN:VEVENT
DTSTART;TZID=America/Los_Angeles:20251117T160000
DTEND;TZID=America/Los_Angeles:20251117T170000
DTSTAMP:20260422T235614
CREATED:20250814T220804Z
LAST-MODIFIED:20250814T220804Z
UID:10013821-1763395200-1763398800@benitolink.com
SUMMARY:Group Core Class
DESCRIPTION:SBJ core exercises Mondays at 4pm but more of a relationship builder with your significant other or BFF. \nCheck it out and sign up here: https://www.mystichealthwellness.com/private-sessions at 410 Third St\, in San Juan Bautista.
URL:https://benitolink.com/event/group-core-class/2025-11-17/
LOCATION:410 Third St\, San Juan Bautista\, CA 95045\, 410 Third St.\, San Juan Bautista\, CA\, 95045\, United States
CATEGORIES:Sports-Recreation
ATTACH;FMTTYPE=image/avif:https://benitolink.com/wp-content/uploads/2025/08/897cdd_ce2d0b00d18c4dbdb8a0ccd190037ed7mv2.avif
END:VEVENT
BEGIN:VEVENT
DTSTART;TZID=America/Los_Angeles:20251110T160000
DTEND;TZID=America/Los_Angeles:20251110T170000
DTSTAMP:20260422T235614
CREATED:20250814T220804Z
LAST-MODIFIED:20250814T220804Z
UID:10013820-1762790400-1762794000@benitolink.com
SUMMARY:Group Core Class
DESCRIPTION:SBJ core exercises Mondays at 4pm but more of a relationship builder with your significant other or BFF. \nCheck it out and sign up here: https://www.mystichealthwellness.com/private-sessions at 410 Third St\, in San Juan Bautista.
URL:https://benitolink.com/event/group-core-class/2025-11-10/
LOCATION:410 Third St\, San Juan Bautista\, CA 95045\, 410 Third St.\, San Juan Bautista\, CA\, 95045\, United States
CATEGORIES:Sports-Recreation
ATTACH;FMTTYPE=image/avif:https://benitolink.com/wp-content/uploads/2025/08/897cdd_ce2d0b00d18c4dbdb8a0ccd190037ed7mv2.avif
END:VEVENT
BEGIN:VEVENT
DTSTART;TZID=America/Los_Angeles:20251103T160000
DTEND;TZID=America/Los_Angeles:20251103T170000
DTSTAMP:20260422T235614
CREATED:20250814T220804Z
LAST-MODIFIED:20250814T220804Z
UID:10013819-1762185600-1762189200@benitolink.com
SUMMARY:Group Core Class
DESCRIPTION:SBJ core exercises Mondays at 4pm but more of a relationship builder with your significant other or BFF. \nCheck it out and sign up here: https://www.mystichealthwellness.com/private-sessions at 410 Third St\, in San Juan Bautista.
URL:https://benitolink.com/event/group-core-class/2025-11-03/
LOCATION:410 Third St\, San Juan Bautista\, CA 95045\, 410 Third St.\, San Juan Bautista\, CA\, 95045\, United States
CATEGORIES:Sports-Recreation
ATTACH;FMTTYPE=image/avif:https://benitolink.com/wp-content/uploads/2025/08/897cdd_ce2d0b00d18c4dbdb8a0ccd190037ed7mv2.avif
END:VEVENT
BEGIN:VEVENT
DTSTART;TZID=America/Los_Angeles:20251102T090000
DTEND;TZID=America/Los_Angeles:20251102T120000
DTSTAMP:20260422T235614
CREATED:20231221T172435Z
LAST-MODIFIED:20231221T172435Z
UID:10004007-1762074000-1762084800@benitolink.com
SUMMARY:SBALT Ranch Day
DESCRIPTION:Work parties and/or hikes on Nyland and Rancho Larios Protected Lands in San Juan Bautista.
URL:https://benitolink.com/event/sbalt-ranch-day-3/2025-11-02/
LOCATION:San Juan Bautista\, CA
CATEGORIES:Sports-Recreation,Volunteer
ATTACH;FMTTYPE=image/jpeg:https://benitolink.com/wp-content/uploads/2023/12/Ranch-Days-Flier.jpg
ORGANIZER;CN="San Benito Agricultural Land Trust":MAILTO:info@sanbenitolandtrust.org
END:VEVENT
BEGIN:VEVENT
DTSTART;TZID=America/Los_Angeles:20251027T160000
DTEND;TZID=America/Los_Angeles:20251027T170000
DTSTAMP:20260422T235614
CREATED:20250814T220804Z
LAST-MODIFIED:20250814T220804Z
UID:10013818-1761580800-1761584400@benitolink.com
SUMMARY:Group Core Class
DESCRIPTION:SBJ core exercises Mondays at 4pm but more of a relationship builder with your significant other or BFF. \nCheck it out and sign up here: https://www.mystichealthwellness.com/private-sessions at 410 Third St\, in San Juan Bautista.
URL:https://benitolink.com/event/group-core-class/2025-10-27/
LOCATION:410 Third St\, San Juan Bautista\, CA 95045\, 410 Third St.\, San Juan Bautista\, CA\, 95045\, United States
CATEGORIES:Sports-Recreation
ATTACH;FMTTYPE=image/avif:https://benitolink.com/wp-content/uploads/2025/08/897cdd_ce2d0b00d18c4dbdb8a0ccd190037ed7mv2.avif
END:VEVENT
BEGIN:VEVENT
DTSTART;TZID=America/Los_Angeles:20251025T090000
DTEND;TZID=America/Los_Angeles:20251025T130000
DTSTAMP:20260422T235614
CREATED:20250826T171356Z
LAST-MODIFIED:20250826T171356Z
UID:10014014-1761382800-1761397200@benitolink.com
SUMMARY:Hollister Hills SVRA Clean Wheeling
DESCRIPTION:Hollister Hills SVRA Clean Wheeling\nPlease join us on Saturday\, October 25 from 9:00 am to 1:00 pm for the Hollister Hills SVRA Clean Wheeling event. Registration for this free event begins at 8:30am at the Hollister Hills Area 5 campground. Volunteers will participate in our annual clean wheeling trash pick-up in the Upper Ranch. The Hollister Hills Off-Road Association will provide lunch at noon. Please bring gloves\, water\, sun block and a hat. \nCOST: event is free; park entrance is free for volunteers for the event. \nPlease contact Hollister.Hills@parks.ca.gov or call 831-636-2065 for more information about the event.
URL:https://benitolink.com/event/hollister-hills-svra-clean-wheeling-3/
LOCATION:Hollister Hills State Vehicular Recreation Area\, 7800 Cienega Road\, Hollister\, 95023\, United States America
CATEGORIES:Sports-Recreation,Volunteer
ATTACH;FMTTYPE=image/jpeg:https://benitolink.com/wp-content/uploads/2015/03/hollister-hills-sign.jpg
ORGANIZER;CN="Hollister Hills SVRA":MAILTO:michelle.armijo@parks.ca.gov
END:VEVENT
BEGIN:VEVENT
DTSTART;TZID=America/Los_Angeles:20251020T160000
DTEND;TZID=America/Los_Angeles:20251020T170000
DTSTAMP:20260422T235614
CREATED:20250814T220804Z
LAST-MODIFIED:20250814T220804Z
UID:10013817-1760976000-1760979600@benitolink.com
SUMMARY:Group Core Class
DESCRIPTION:SBJ core exercises Mondays at 4pm but more of a relationship builder with your significant other or BFF. \nCheck it out and sign up here: https://www.mystichealthwellness.com/private-sessions at 410 Third St\, in San Juan Bautista.
URL:https://benitolink.com/event/group-core-class/2025-10-20/
LOCATION:410 Third St\, San Juan Bautista\, CA 95045\, 410 Third St.\, San Juan Bautista\, CA\, 95045\, United States
CATEGORIES:Sports-Recreation
ATTACH;FMTTYPE=image/avif:https://benitolink.com/wp-content/uploads/2025/08/897cdd_ce2d0b00d18c4dbdb8a0ccd190037ed7mv2.avif
END:VEVENT
BEGIN:VEVENT
DTSTART;TZID=America/Los_Angeles:20251013T160000
DTEND;TZID=America/Los_Angeles:20251013T170000
DTSTAMP:20260422T235614
CREATED:20250814T220804Z
LAST-MODIFIED:20250814T220804Z
UID:10013816-1760371200-1760374800@benitolink.com
SUMMARY:Group Core Class
DESCRIPTION:SBJ core exercises Mondays at 4pm but more of a relationship builder with your significant other or BFF. \nCheck it out and sign up here: https://www.mystichealthwellness.com/private-sessions at 410 Third St\, in San Juan Bautista.
URL:https://benitolink.com/event/group-core-class/2025-10-13/
LOCATION:410 Third St\, San Juan Bautista\, CA 95045\, 410 Third St.\, San Juan Bautista\, CA\, 95045\, United States
CATEGORIES:Sports-Recreation
ATTACH;FMTTYPE=image/avif:https://benitolink.com/wp-content/uploads/2025/08/897cdd_ce2d0b00d18c4dbdb8a0ccd190037ed7mv2.avif
END:VEVENT
BEGIN:VEVENT
DTSTART;TZID=America/Los_Angeles:20251011T100000
DTEND;TZID=America/Los_Angeles:20251011T140000
DTSTAMP:20260422T235614
CREATED:20250826T171254Z
LAST-MODIFIED:20250826T171254Z
UID:10014013-1760176800-1760191200@benitolink.com
SUMMARY:Hollister Hills SVRA 50th Anniversary Celebration
DESCRIPTION:Hollister Hills SVRA 50th Anniversary Celebration\nEmail Hollister.Hills@parks.ca.gov or call (831) 638-2065 for more information \nHollister Hills State Vehicular Recreation Area (SVRA) invites the whole family to its 50th Anniversary Celebration! Join us on Saturday\, October 11\, 2025\, from 10 a.m. to 2 p.m. at the Lower Ranch\, Lodge Campground before or after you come out to play! \nOn this special day\, the park will offer free day use access however normal camping fees will apply. Come stroll through rows of OHV related exhibitors and vendors\, view vintage motorcycles\, enjoy family-oriented activities\, food sold on site and more! As one of California’s first SVRA’s\, opening in 1975 the park has grown to be a valuable part of the OHV and surrounding communities. \nHollister Hills SVRA is commitment to protecting our natural and cultural resources through active resource management. As well as providing high-quality sustainable OHV recreational opportunities for generations to come. \nHope to see you for the 50th Anniversary celebration of this unique park and bring the whole family to play in the dirt!
URL:https://benitolink.com/event/hollister-hills-svra-50th-anniversary-celebration/
LOCATION:Hollister Hills SVRA\, California State Parks\, 7800 Cienega Road\, Hollister\, 95023\, United States America
CATEGORIES:Arts-Entertainment,Government,Sports-Recreation
ATTACH;FMTTYPE=image/jpeg:https://benitolink.com/wp-content/uploads/2025/08/OHV_50th_SavetheDate_edited-scaled.jpg
ORGANIZER;CN="Hollister Hills SVRA":MAILTO:michelle.armijo@parks.ca.gov
END:VEVENT
BEGIN:VEVENT
DTSTART;TZID=America/Los_Angeles:20251006T160000
DTEND;TZID=America/Los_Angeles:20251006T170000
DTSTAMP:20260422T235614
CREATED:20250814T220804Z
LAST-MODIFIED:20250814T220804Z
UID:10013815-1759766400-1759770000@benitolink.com
SUMMARY:Group Core Class
DESCRIPTION:SBJ core exercises Mondays at 4pm but more of a relationship builder with your significant other or BFF. \nCheck it out and sign up here: https://www.mystichealthwellness.com/private-sessions at 410 Third St\, in San Juan Bautista.
URL:https://benitolink.com/event/group-core-class/2025-10-06/
LOCATION:410 Third St\, San Juan Bautista\, CA 95045\, 410 Third St.\, San Juan Bautista\, CA\, 95045\, United States
CATEGORIES:Sports-Recreation
ATTACH;FMTTYPE=image/avif:https://benitolink.com/wp-content/uploads/2025/08/897cdd_ce2d0b00d18c4dbdb8a0ccd190037ed7mv2.avif
END:VEVENT
BEGIN:VEVENT
DTSTART;TZID=America/Los_Angeles:20251005T090000
DTEND;TZID=America/Los_Angeles:20251005T120000
DTSTAMP:20260422T235614
CREATED:20231221T172435Z
LAST-MODIFIED:20231221T172435Z
UID:10004006-1759654800-1759665600@benitolink.com
SUMMARY:SBALT Ranch Day
DESCRIPTION:Work parties and/or hikes on Nyland and Rancho Larios Protected Lands in San Juan Bautista.
URL:https://benitolink.com/event/sbalt-ranch-day-3/2025-10-05/
LOCATION:San Juan Bautista\, CA
CATEGORIES:Sports-Recreation,Volunteer
ATTACH;FMTTYPE=image/jpeg:https://benitolink.com/wp-content/uploads/2023/12/Ranch-Days-Flier.jpg
ORGANIZER;CN="San Benito Agricultural Land Trust":MAILTO:info@sanbenitolandtrust.org
END:VEVENT
BEGIN:VEVENT
DTSTART;TZID=America/Los_Angeles:20250929T160000
DTEND;TZID=America/Los_Angeles:20250929T170000
DTSTAMP:20260422T235614
CREATED:20250814T220804Z
LAST-MODIFIED:20250814T220804Z
UID:10013814-1759161600-1759165200@benitolink.com
SUMMARY:Group Core Class
DESCRIPTION:SBJ core exercises Mondays at 4pm but more of a relationship builder with your significant other or BFF. \nCheck it out and sign up here: https://www.mystichealthwellness.com/private-sessions at 410 Third St\, in San Juan Bautista.
URL:https://benitolink.com/event/group-core-class/2025-09-29/
LOCATION:410 Third St\, San Juan Bautista\, CA 95045\, 410 Third St.\, San Juan Bautista\, CA\, 95045\, United States
CATEGORIES:Sports-Recreation
ATTACH;FMTTYPE=image/avif:https://benitolink.com/wp-content/uploads/2025/08/897cdd_ce2d0b00d18c4dbdb8a0ccd190037ed7mv2.avif
END:VEVENT
BEGIN:VEVENT
DTSTART;TZID=America/Los_Angeles:20250922T160000
DTEND;TZID=America/Los_Angeles:20250922T170000
DTSTAMP:20260422T235614
CREATED:20250814T220804Z
LAST-MODIFIED:20250814T220804Z
UID:10013813-1758556800-1758560400@benitolink.com
SUMMARY:Group Core Class
DESCRIPTION:SBJ core exercises Mondays at 4pm but more of a relationship builder with your significant other or BFF. \nCheck it out and sign up here: https://www.mystichealthwellness.com/private-sessions at 410 Third St\, in San Juan Bautista.
URL:https://benitolink.com/event/group-core-class/2025-09-22/
LOCATION:410 Third St\, San Juan Bautista\, CA 95045\, 410 Third St.\, San Juan Bautista\, CA\, 95045\, United States
CATEGORIES:Sports-Recreation
ATTACH;FMTTYPE=image/avif:https://benitolink.com/wp-content/uploads/2025/08/897cdd_ce2d0b00d18c4dbdb8a0ccd190037ed7mv2.avif
END:VEVENT
BEGIN:VEVENT
DTSTART;TZID=America/Los_Angeles:20250915T160000
DTEND;TZID=America/Los_Angeles:20250915T170000
DTSTAMP:20260422T235614
CREATED:20250814T220804Z
LAST-MODIFIED:20250814T220804Z
UID:10013812-1757952000-1757955600@benitolink.com
SUMMARY:Group Core Class
DESCRIPTION:SBJ core exercises Mondays at 4pm but more of a relationship builder with your significant other or BFF. \nCheck it out and sign up here: https://www.mystichealthwellness.com/private-sessions at 410 Third St\, in San Juan Bautista.
URL:https://benitolink.com/event/group-core-class/2025-09-15/
LOCATION:410 Third St\, San Juan Bautista\, CA 95045\, 410 Third St.\, San Juan Bautista\, CA\, 95045\, United States
CATEGORIES:Sports-Recreation
ATTACH;FMTTYPE=image/avif:https://benitolink.com/wp-content/uploads/2025/08/897cdd_ce2d0b00d18c4dbdb8a0ccd190037ed7mv2.avif
END:VEVENT
BEGIN:VEVENT
DTSTART;TZID=America/Los_Angeles:20250913T100000
DTEND;TZID=America/Los_Angeles:20250913T130000
DTSTAMP:20260422T235614
CREATED:20250812T170014Z
LAST-MODIFIED:20250812T170014Z
UID:10013803-1757757600-1757768400@benitolink.com
SUMMARY:Chitactac Family Day-Free Event
DESCRIPTION:Chitactac Family Day\nFREE Event!\nSaturday\, September 13 | 10:00am – 1:00pm\nLocation: Chitactac-Adams Heritage County Park 10001 Watsonville Road\, Gilroy\, CA 95020 \nCome play traditional games\, view the ancient petroglyphs\, create unique crafts and more! Discover what has made this place so special to Indigenous people for thousands of years. For more information\, email interp@prk.sccgov.org
URL:https://benitolink.com/event/chitactac-family-day-free-event/
LOCATION:CA
CATEGORIES:Arts-Entertainment,Fairs-Festivals,Sports-Recreation
ATTACH;FMTTYPE=image/png:https://benitolink.com/wp-content/uploads/2025/08/Chitactac-Family-Day-2025-Flyer-FINAL.png
END:VEVENT
BEGIN:VEVENT
DTSTART;TZID=America/Los_Angeles:20250908T160000
DTEND;TZID=America/Los_Angeles:20250908T170000
DTSTAMP:20260422T235614
CREATED:20250814T220804Z
LAST-MODIFIED:20250814T220804Z
UID:10013811-1757347200-1757350800@benitolink.com
SUMMARY:Group Core Class
DESCRIPTION:SBJ core exercises Mondays at 4pm but more of a relationship builder with your significant other or BFF. \nCheck it out and sign up here: https://www.mystichealthwellness.com/private-sessions at 410 Third St\, in San Juan Bautista.
URL:https://benitolink.com/event/group-core-class/2025-09-08/
LOCATION:410 Third St\, San Juan Bautista\, CA 95045\, 410 Third St.\, San Juan Bautista\, CA\, 95045\, United States
CATEGORIES:Sports-Recreation
ATTACH;FMTTYPE=image/avif:https://benitolink.com/wp-content/uploads/2025/08/897cdd_ce2d0b00d18c4dbdb8a0ccd190037ed7mv2.avif
END:VEVENT
BEGIN:VEVENT
DTSTART;TZID=America/Los_Angeles:20250907T090000
DTEND;TZID=America/Los_Angeles:20250907T120000
DTSTAMP:20260422T235614
CREATED:20231221T172435Z
LAST-MODIFIED:20231221T172435Z
UID:10004005-1757235600-1757246400@benitolink.com
SUMMARY:SBALT Ranch Day
DESCRIPTION:Work parties and/or hikes on Nyland and Rancho Larios Protected Lands in San Juan Bautista.
URL:https://benitolink.com/event/sbalt-ranch-day-3/2025-09-07/
LOCATION:San Juan Bautista\, CA
CATEGORIES:Sports-Recreation,Volunteer
ATTACH;FMTTYPE=image/jpeg:https://benitolink.com/wp-content/uploads/2023/12/Ranch-Days-Flier.jpg
ORGANIZER;CN="San Benito Agricultural Land Trust":MAILTO:info@sanbenitolandtrust.org
END:VEVENT
BEGIN:VEVENT
DTSTART;TZID=America/Los_Angeles:20250906T070000
DTEND;TZID=America/Los_Angeles:20250906T110000
DTSTAMP:20260422T235614
CREATED:20250814T220910Z
LAST-MODIFIED:20250814T220910Z
UID:10013808-1757142000-1757156400@benitolink.com
SUMMARY:The River Run
DESCRIPTION:Please join us for the River Run back for a great 5th year in 2025. A family-friendly event that will be fun for everyone! You’ll be able to run or walk a 5K distance or a 1Mile untimed fun run. \nThe River Run 2025 is a unique experience that meanders through a working sand and gravel quarry. The events take you inside the Southside Sand and Gravel Quarry to see the working quarry site\, the banks of the San Benito River\, specialized equipment that processes the rock\, and beautiful natural surroundings. \nRiver Run benefits the YMCA of San Benito County and begins promptly at 8:00 a.m. on Saturday\, September 6th 2025. Check in begins at 7:15am. \nPricing is available for individuals or families. The family pricing option is available for families/groups of 4 or more participants. \nThe event is located the Graniterock Sand and Gravel Quarry at 5632 Airline Highway\, Hollister\, CA 95023. Free parking is available at the race site.
URL:https://benitolink.com/event/the-river-run-3/
LOCATION:Graniterock Southside Sand & Gravel Quarry\, 5632 Airline Highway\, Hollister\, CA\, 95023\, United States
CATEGORIES:Fundraiser,Sports-Recreation
ATTACH;FMTTYPE=image/jpeg:https://benitolink.com/wp-content/uploads/2025/08/20240914_0801070-scaled.jpg
ORGANIZER;CN="YMCA of San Benito County":MAILTO:ymcasanbenito@ymcacentralcoast.org
END:VEVENT
BEGIN:VEVENT
DTSTART;TZID=America/Los_Angeles:20250825T160000
DTEND;TZID=America/Los_Angeles:20250825T170000
DTSTAMP:20260422T235614
CREATED:20250814T220804Z
LAST-MODIFIED:20250814T220804Z
UID:10013810-1756137600-1756141200@benitolink.com
SUMMARY:Group Core Class
DESCRIPTION:SBJ core exercises Mondays at 4pm but more of a relationship builder with your significant other or BFF. \nCheck it out and sign up here: https://www.mystichealthwellness.com/private-sessions at 410 Third St\, in San Juan Bautista.
URL:https://benitolink.com/event/group-core-class/2025-08-25/
LOCATION:410 Third St\, San Juan Bautista\, CA 95045\, 410 Third St.\, San Juan Bautista\, CA\, 95045\, United States
CATEGORIES:Sports-Recreation
ATTACH;FMTTYPE=image/avif:https://benitolink.com/wp-content/uploads/2025/08/897cdd_ce2d0b00d18c4dbdb8a0ccd190037ed7mv2.avif
END:VEVENT
BEGIN:VEVENT
DTSTART;TZID=America/Los_Angeles:20250818T160000
DTEND;TZID=America/Los_Angeles:20250818T170000
DTSTAMP:20260422T235614
CREATED:20250814T220804Z
LAST-MODIFIED:20250814T220804Z
UID:10013809-1755532800-1755536400@benitolink.com
SUMMARY:Group Core Class
DESCRIPTION:SBJ core exercises Mondays at 4pm but more of a relationship builder with your significant other or BFF. \nCheck it out and sign up here: https://www.mystichealthwellness.com/private-sessions at 410 Third St\, in San Juan Bautista.
URL:https://benitolink.com/event/group-core-class/2025-08-18/
LOCATION:410 Third St\, San Juan Bautista\, CA 95045\, 410 Third St.\, San Juan Bautista\, CA\, 95045\, United States
CATEGORIES:Sports-Recreation
ATTACH;FMTTYPE=image/avif:https://benitolink.com/wp-content/uploads/2025/08/897cdd_ce2d0b00d18c4dbdb8a0ccd190037ed7mv2.avif
END:VEVENT
BEGIN:VEVENT
DTSTART;TZID=America/Los_Angeles:20250803T090000
DTEND;TZID=America/Los_Angeles:20250803T120000
DTSTAMP:20260422T235614
CREATED:20231221T172435Z
LAST-MODIFIED:20231221T172435Z
UID:10004004-1754211600-1754222400@benitolink.com
SUMMARY:SBALT Ranch Day
DESCRIPTION:Work parties and/or hikes on Nyland and Rancho Larios Protected Lands in San Juan Bautista.
URL:https://benitolink.com/event/sbalt-ranch-day-3/2025-08-03/
LOCATION:San Juan Bautista\, CA
CATEGORIES:Sports-Recreation,Volunteer
ATTACH;FMTTYPE=image/jpeg:https://benitolink.com/wp-content/uploads/2023/12/Ranch-Days-Flier.jpg
ORGANIZER;CN="San Benito Agricultural Land Trust":MAILTO:info@sanbenitolandtrust.org
END:VEVENT
BEGIN:VEVENT
DTSTART;TZID=America/Los_Angeles:20250724T173000
DTEND;TZID=America/Los_Angeles:20250724T193000
DTSTAMP:20260422T235614
CREATED:20250711T191413Z
LAST-MODIFIED:20250711T191413Z
UID:10013412-1753378200-1753385400@benitolink.com
SUMMARY:Join Cub Scouts Pack 444
DESCRIPTION:Cub Scouts Pack 444 is now registering boys and girls in grades K-5. Join us at Valley Pizzeria on July 24 from 5:30-7:30pm for information and to sign up!\nVisit us on our website at www.HollisterCubScoutsPack444.com to contact us and for more information!
URL:https://benitolink.com/event/join-cub-scouts-pack-444-2/
LOCATION:Valley Pizzeria\, 551 McCray St\, Hollister\, CA\, 95023\, United States
CATEGORIES:Sports-Recreation
ATTACH;FMTTYPE=image/jpeg:https://benitolink.com/wp-content/uploads/2025/07/Pack-444-Valley-Pizzeria-Flyer2.jpg
END:VEVENT
BEGIN:VEVENT
DTSTART;TZID=America/Los_Angeles:20250706T090000
DTEND;TZID=America/Los_Angeles:20250706T120000
DTSTAMP:20260422T235614
CREATED:20231221T172435Z
LAST-MODIFIED:20231221T172435Z
UID:10004003-1751792400-1751803200@benitolink.com
SUMMARY:SBALT Ranch Day
DESCRIPTION:Work parties and/or hikes on Nyland and Rancho Larios Protected Lands in San Juan Bautista.
URL:https://benitolink.com/event/sbalt-ranch-day-3/2025-07-06/
LOCATION:San Juan Bautista\, CA
CATEGORIES:Sports-Recreation,Volunteer
ATTACH;FMTTYPE=image/jpeg:https://benitolink.com/wp-content/uploads/2023/12/Ranch-Days-Flier.jpg
ORGANIZER;CN="San Benito Agricultural Land Trust":MAILTO:info@sanbenitolandtrust.org
END:VEVENT
BEGIN:VEVENT
DTSTART;TZID=America/Los_Angeles:20250618T100000
DTEND;TZID=America/Los_Angeles:20250618T140000
DTSTAMP:20260422T235614
CREATED:20250513T172031Z
LAST-MODIFIED:20250604T204835Z
UID:10010672-1750240800-1750255200@benitolink.com
SUMMARY:31st Annual Kids at the Park
DESCRIPTION:Date: Wednesday\, June 18th\, 2025\nTime: 10:00 AM – 2:00 PM\nLocation: Dunne Park 600 West St. Hollister CA \nGet ready for a day of family fun\, free resources\, raffles\, and prizes at this beloved annual event! Join the Safe Kids Coalition in collaboration with San Benito County agencies and community partners as we celebrate kids and families with exciting activities\, helpful information\, and entertainment for all ages. \n✅ Games & Activities\n✅ Community Resources\n✅ Giveaways & Raffles\n✅ Fun for the Whole Family! \n📞 For more information\, call: 831-637-5367 \n📲 Use the link below to Pre-Register and skip the lines! Registration for the event is Required. \nLink to Kids at the Park registration: https://bit.ly/4j4qz2p \nDon’t miss out on one of San Benito County’s favorite summer traditions—we can’t wait to see you at the park! \n#KidsAtThePark2025 #SanBenitoCounty #CityofHollister #FamilyFunDay #CommunityEvent #FreeFamilyEvent #SummerInSanBenito #LocalResources #FamilyRafflesAndPrizes #KidsActivities #SBCKidsEvent #HealthyFamiliesSBC #PlayLearnGrow #SanBenitoEvents #CelebrateCommunity #FunInThePark #ParksMakeLifeBetter
URL:https://benitolink.com/event/31st-annual-kids-at-the-park/
LOCATION:Dunne Park\, 600 West Street\, Hollister\, United States America
CATEGORIES:Arts-Entertainment,Exhibit,Fairs-Festivals,Government,Sports-Recreation,Volunteer
ATTACH;FMTTYPE=image/png:https://benitolink.com/wp-content/uploads/2025/05/Kids-at-the-Park-English-Flyer-.png
ORGANIZER;CN="Safe Kids Coalition":MAILTO:safekids@cosb.us
END:VEVENT
BEGIN:VEVENT
DTSTART;TZID=America/Los_Angeles:20250601T090000
DTEND;TZID=America/Los_Angeles:20250601T120000
DTSTAMP:20260422T235614
CREATED:20231221T172435Z
LAST-MODIFIED:20231221T172435Z
UID:10004002-1748768400-1748779200@benitolink.com
SUMMARY:SBALT Ranch Day
DESCRIPTION:Work parties and/or hikes on Nyland and Rancho Larios Protected Lands in San Juan Bautista.
URL:https://benitolink.com/event/sbalt-ranch-day-3/2025-06-01/
LOCATION:San Juan Bautista\, CA
CATEGORIES:Sports-Recreation,Volunteer
ATTACH;FMTTYPE=image/jpeg:https://benitolink.com/wp-content/uploads/2023/12/Ranch-Days-Flier.jpg
ORGANIZER;CN="San Benito Agricultural Land Trust":MAILTO:info@sanbenitolandtrust.org
END:VEVENT
BEGIN:VEVENT
DTSTART;TZID=America/Los_Angeles:20250517T090000
DTEND;TZID=America/Los_Angeles:20250517T130000
DTSTAMP:20260422T235614
CREATED:20250221T001639Z
LAST-MODIFIED:20250221T001639Z
UID:10005842-1747472400-1747486800@benitolink.com
SUMMARY:Discover Soap Lake Ranch Tour
DESCRIPTION:Immerse yourself in wildlife\, learn about the ranch’s rich history\, and discover its role in wetlands and conservation efforts. Thank you to our sponsors: Taylor Farms\, Church Brothers Farms\, San Juan Oaks Golf Club\, Brigantino Irrigation\, Brigantino Realty ($1\,000); J&S Farms\, Connolly Family Trust\, Paicines Ranch\, Los Gatos Birdwatcher ($500); Soap Lake Ranch\, LLC\, Filice Farms ($250); and Deleta Jones for their generous donations!
URL:https://benitolink.com/event/discover-soap-lake-ranch-tour/
LOCATION:CA
CATEGORIES:Fairs-Festivals,Fundraiser,Sports-Recreation,Volunteer
ATTACH;FMTTYPE=image/png:https://benitolink.com/wp-content/uploads/2025/02/Final-flyer.png
ORGANIZER;CN="San Benito Agricultural Land Trust":MAILTO:info@sanbenitolandtrust.org
END:VEVENT
BEGIN:VEVENT
DTSTART;TZID=America/Los_Angeles:20250504T090000
DTEND;TZID=America/Los_Angeles:20250504T120000
DTSTAMP:20260422T235614
CREATED:20231221T172435Z
LAST-MODIFIED:20231221T172435Z
UID:10004001-1746349200-1746360000@benitolink.com
SUMMARY:SBALT Ranch Day
DESCRIPTION:Work parties and/or hikes on Nyland and Rancho Larios Protected Lands in San Juan Bautista.
URL:https://benitolink.com/event/sbalt-ranch-day-3/2025-05-04/
LOCATION:San Juan Bautista\, CA
CATEGORIES:Sports-Recreation,Volunteer
ATTACH;FMTTYPE=image/jpeg:https://benitolink.com/wp-content/uploads/2023/12/Ranch-Days-Flier.jpg
ORGANIZER;CN="San Benito Agricultural Land Trust":MAILTO:info@sanbenitolandtrust.org
END:VEVENT
BEGIN:VEVENT
DTSTART;TZID=America/Los_Angeles:20250406T090000
DTEND;TZID=America/Los_Angeles:20250406T120000
DTSTAMP:20260422T235614
CREATED:20231221T172435Z
LAST-MODIFIED:20231221T172435Z
UID:10004000-1743930000-1743940800@benitolink.com
SUMMARY:SBALT Ranch Day
DESCRIPTION:Work parties and/or hikes on Nyland and Rancho Larios Protected Lands in San Juan Bautista.
URL:https://benitolink.com/event/sbalt-ranch-day-3/2025-04-06/
LOCATION:San Juan Bautista\, CA
CATEGORIES:Sports-Recreation,Volunteer
ATTACH;FMTTYPE=image/jpeg:https://benitolink.com/wp-content/uploads/2023/12/Ranch-Days-Flier.jpg
ORGANIZER;CN="San Benito Agricultural Land Trust":MAILTO:info@sanbenitolandtrust.org
END:VEVENT
BEGIN:VEVENT
DTSTART;TZID=America/Los_Angeles:20250302T090000
DTEND;TZID=America/Los_Angeles:20250302T120000
DTSTAMP:20260422T235614
CREATED:20231221T172435Z
LAST-MODIFIED:20231221T172435Z
UID:10003999-1740906000-1740916800@benitolink.com
SUMMARY:SBALT Ranch Day
DESCRIPTION:Work parties and/or hikes on Nyland and Rancho Larios Protected Lands in San Juan Bautista.
URL:https://benitolink.com/event/sbalt-ranch-day-3/2025-03-02/
LOCATION:San Juan Bautista\, CA
CATEGORIES:Sports-Recreation,Volunteer
ATTACH;FMTTYPE=image/jpeg:https://benitolink.com/wp-content/uploads/2023/12/Ranch-Days-Flier.jpg
ORGANIZER;CN="San Benito Agricultural Land Trust":MAILTO:info@sanbenitolandtrust.org
END:VEVENT
END:VCALENDAR