BEGIN:VCALENDAR
VERSION:2.0
PRODID:-//BenitoLink - ECPv6.15.20//NONSGML v1.0//EN
CALSCALE:GREGORIAN
METHOD:PUBLISH
X-WR-CALNAME:BenitoLink
X-ORIGINAL-URL:https://benitolink.com
X-WR-CALDESC:Events for BenitoLink
REFRESH-INTERVAL;VALUE=DURATION:PT1H
X-Robots-Tag:noindex
X-PUBLISHED-TTL:PT1H
BEGIN:VTIMEZONE
TZID:America/Los_Angeles
BEGIN:DAYLIGHT
TZOFFSETFROM:-0800
TZOFFSETTO:-0700
TZNAME:PDT
DTSTART:20240310T100000
END:DAYLIGHT
BEGIN:STANDARD
TZOFFSETFROM:-0700
TZOFFSETTO:-0800
TZNAME:PST
DTSTART:20241103T090000
END:STANDARD
BEGIN:DAYLIGHT
TZOFFSETFROM:-0800
TZOFFSETTO:-0700
TZNAME:PDT
DTSTART:20250309T100000
END:DAYLIGHT
BEGIN:STANDARD
TZOFFSETFROM:-0700
TZOFFSETTO:-0800
TZNAME:PST
DTSTART:20251102T090000
END:STANDARD
BEGIN:DAYLIGHT
TZOFFSETFROM:-0800
TZOFFSETTO:-0700
TZNAME:PDT
DTSTART:20260308T100000
END:DAYLIGHT
BEGIN:STANDARD
TZOFFSETFROM:-0700
TZOFFSETTO:-0800
TZNAME:PST
DTSTART:20261101T090000
END:STANDARD
END:VTIMEZONE
BEGIN:VEVENT
DTSTART;TZID=America/Los_Angeles:20250925T100000
DTEND;TZID=America/Los_Angeles:20250925T160000
DTSTAMP:20260422T125439
CREATED:20250904T204658Z
LAST-MODIFIED:20250904T204658Z
UID:10014196-1758794400-1758816000@benitolink.com
SUMMARY:Free Flu Vaccination Clinic
DESCRIPTION:Free flu vaccines at San Benito County\nPublic Health Every Wednesday & Thursday 10-12pm & 2-4pm\, get you and your family protected for this respiratory season.
URL:https://benitolink.com/event/free-flu-vaccination-clinic/2025-09-25/
ATTACH;FMTTYPE=image/jpeg:https://benitolink.com/wp-content/uploads/2024/10/weekly-Flu-Eng.jpg
END:VEVENT
BEGIN:VEVENT
DTSTART;VALUE=DATE:20250925
DTEND;VALUE=DATE:20250926
DTSTAMP:20260422T125439
CREATED:20250905T193558Z
LAST-MODIFIED:20250905T193558Z
UID:10014167-1758758400-1758844799@benitolink.com
SUMMARY:High School Speak Off Competition
DESCRIPTION:Bring your best public-speaking skills and knowledge of resource conservation to the annual CA Resource Conservation District Speak-Off Competition!\nSan Benito RCD is now accepting applications from San Benito residents in grades 9-12 for the Local competition. Local winner will advance to the Regional Contest in San Luis Obispo\, and regional winner will advance to the state level which takes place during California Association of Resource Conservation District’s Annual Conference in Sacramento\, CA. State level finalists will have a chance to win a $1000 cash prize! \nThis year’s speak off topic: How can you turn your talents and interests into a career in the Resource Conservation field? \nApplications Due by Sept. 19\, 2025. Local Speak Off Contest held in Hollister on Sept. 25\, 2025 at 4pm.\nTo apply\, please visit San Benito Resource Conservation District events page (www.rcdsanbenito.org/2025-high-school-speak-off-competition)
URL:https://benitolink.com/event/high-school-speak-off-competition/
LOCATION:San Benito Resource Conservation District\, 2337 Technology Pkwy\, Suite C\, Hollister\, CA\, 95023\, United States
CATEGORIES:Arts-Entertainment
ATTACH;FMTTYPE=image/jpeg:https://benitolink.com/wp-content/uploads/2019/06/public-speaking-3926344_1280.jpg
ORGANIZER;CN="San Benito Resource Conservation District":MAILTO:cameron@rcdsanbenito.org
END:VEVENT
BEGIN:VEVENT
DTSTART;TZID=America/Los_Angeles:20250924T133000
DTEND;TZID=America/Los_Angeles:20250924T143000
DTSTAMP:20260422T125439
CREATED:20240411T204114Z
LAST-MODIFIED:20240411T204114Z
UID:10004194-1758720600-1758724200@benitolink.com
SUMMARY:In Person Support Group
DESCRIPTION:
URL:https://benitolink.com/event/in-person-support-group/2025-09-24/
LOCATION:Pauline Valdivia Memorial Community Center\, 300 West St\, Hollister CA 95023
END:VEVENT
BEGIN:VEVENT
DTSTART;TZID=America/Los_Angeles:20250924T100000
DTEND;TZID=America/Los_Angeles:20250924T160000
DTSTAMP:20260422T125439
CREATED:20250904T204658Z
LAST-MODIFIED:20250904T204658Z
UID:10014195-1758708000-1758729600@benitolink.com
SUMMARY:Free Flu Vaccination Clinic
DESCRIPTION:Free flu vaccines at San Benito County\nPublic Health Every Wednesday & Thursday 10-12pm & 2-4pm\, get you and your family protected for this respiratory season.
URL:https://benitolink.com/event/free-flu-vaccination-clinic/2025-09-24/
ATTACH;FMTTYPE=image/jpeg:https://benitolink.com/wp-content/uploads/2024/10/weekly-Flu-Eng.jpg
END:VEVENT
BEGIN:VEVENT
DTSTART;TZID=America/Los_Angeles:20250923T180000
DTEND;TZID=America/Los_Angeles:20250923T200000
DTSTAMP:20260422T125439
CREATED:20250919T185339Z
LAST-MODIFIED:20250919T185411Z
UID:10015257-1758650400-1758657600@benitolink.com
SUMMARY:Special SJB Planning Commission Meeting
DESCRIPTION:PLANNING COMMISSION SPECIAL MEETING\nTUESDAY\, SEPTEMBER 23\, 2025\, 6:00 P.M.\nHYBRID MEETING\nCity Hall\, Council Chambers\n311 Second Street\, San Juan Bautista\, California \nAgenda
URL:https://benitolink.com/event/special-sjb-planning-commission-meeting/
ATTACH;FMTTYPE=image/jpeg:https://benitolink.com/wp-content/uploads/2017/06/Seal.jpg
END:VEVENT
BEGIN:VEVENT
DTSTART;TZID=America/Los_Angeles:20250923T090000
DTEND;TZID=America/Los_Angeles:20250923T170000
DTSTAMP:20260422T125439
CREATED:20250919T184734Z
LAST-MODIFIED:20250919T184734Z
UID:10015256-1758618000-1758646800@benitolink.com
SUMMARY:Board of Supervisors Meeting
DESCRIPTION:County Administration Building\nBoard Chambers\n481 Fourth Street\nHollister. \nAgenda
URL:https://benitolink.com/event/board-of-supervisors-meeting-5/
ATTACH;FMTTYPE=image/jpeg:https://benitolink.com/wp-content/uploads/2023/05/SanBenito_seal_1-copy-300x300-1.jpg
END:VEVENT
BEGIN:VEVENT
DTSTART;TZID=America/Los_Angeles:20250922T160000
DTEND;TZID=America/Los_Angeles:20250922T170000
DTSTAMP:20260422T125439
CREATED:20250814T220804Z
LAST-MODIFIED:20250814T220804Z
UID:10013813-1758556800-1758560400@benitolink.com
SUMMARY:Group Core Class
DESCRIPTION:SBJ core exercises Mondays at 4pm but more of a relationship builder with your significant other or BFF. \nCheck it out and sign up here: https://www.mystichealthwellness.com/private-sessions at 410 Third St\, in San Juan Bautista.
URL:https://benitolink.com/event/group-core-class/2025-09-22/
LOCATION:410 Third St\, San Juan Bautista\, CA 95045\, 410 Third St.\, San Juan Bautista\, CA\, 95045\, United States
CATEGORIES:Sports-Recreation
ATTACH;FMTTYPE=image/avif:https://benitolink.com/wp-content/uploads/2025/08/897cdd_ce2d0b00d18c4dbdb8a0ccd190037ed7mv2.avif
END:VEVENT
BEGIN:VEVENT
DTSTART;TZID=America/Los_Angeles:20250920T173000
DTEND;TZID=America/Los_Angeles:20250920T200000
DTSTAMP:20260422T125439
CREATED:20250919T234922Z
LAST-MODIFIED:20250919T234922Z
UID:10015258-1758389400-1758398400@benitolink.com
SUMMARY:2025 Fall Fundraiser “Tastes & Treasures”
DESCRIPTION:Saturday Sept. 20 San Benito Girls Inc. will be hosting their Fall 2025 fundraiser event “Tastes and Treasures” at Damm Vineyard from 5:30 to 8 PM.  \n  \nThe event will have a silent auction\, food\, beer\, and wine. There will also be a performance from The Last Minute Band. Tickets for the event cost $65. According to their website\, San Benito Girls Inc. is a non-profit organization with the mission to “inspire all girls to be strong\, smart\, and bold.” 
URL:https://benitolink.com/event/2025-fall-fundraiser-tastes-treasures/
LOCATION:Damm Vineyards\, 3028 Cienega Rd\, Hollister\, CA\, 95023\, United States
CATEGORIES:Fundraiser
ATTACH;FMTTYPE=image/png:https://benitolink.com/wp-content/uploads/2025/09/TTCa.png
END:VEVENT
BEGIN:VEVENT
DTSTART;TZID=America/Los_Angeles:20250920T073000
DTEND;TZID=America/Los_Angeles:20250920T120000
DTSTAMP:20260422T125439
CREATED:20250916T190635Z
LAST-MODIFIED:20250916T190635Z
UID:10015251-1758353400-1758369600@benitolink.com
SUMMARY:Every Step Matters: Sun Street Centers to Host Annual Recovery Run
DESCRIPTION:Every Step Matters: Sun Street Centers to Host Annual Recovery Run on September 20 Marina\, CA. September 12\, 2025. \nSun Street Centers is proud to announce the Annual Recovery Run\, taking place on Saturday\, September 20\, 2025\, at the Veterans Administration in Marina\, CA. This family-friendly community event will begin with registration at 7:30 AM\, followed by the start of the 5K and 2-\nmile run/walk at 9:00 AM. The course will partially wind through the scenic campus of California State University\, Monterey Bay (CSUMB).\nThe Recovery Run aims to raise awareness around Substance Use Disorder (SUD)\, promote healthy lifestyles\, and eliminate the stigma associated with SUD. It also serves to highlight individuals in long-term recovery and raise critical funds for treatment\, recovery\, and prevention services offered to those seeking help.\nThis year’s event will feature:\n• A timed 5K run and a 2-mile fun run/walk\n• Live music\, breakfast\, and family-friendly activities\n• Resource booths from local health and wellness organizations\n• A celebration of community\, resilience\, and recovery\nWe are especially honored to recognize Danny Dedmon as the 2025 Recovery Run Honoree. \nDanny’s inspiring story of hope\, perseverance\, and commitment to the field of recovery exemplifies the strength and courage at the heart of this event.\nJoin us as we run\, walk\, and come together to support recovery and wellness in our community. \nFor more information or sponsorship opportunities\, please visit:\nwww.SunStreetCenters.org/RecoveryRun2025\nTo register for the 2025 Recovery Run\, please visit:\nhttps://runsignup.com/Race/CA/Marina/MissionOfRecoveryRun
URL:https://benitolink.com/event/every-step-matters-sun-street-centers-to-host-annual-recovery-run/
ATTACH;FMTTYPE=image/jpeg:https://benitolink.com/wp-content/uploads/2023/11/SunStreetCenters_Photo_WomensResidentialTreatmentFacility_11.15.23.jpg
END:VEVENT
BEGIN:VEVENT
DTSTART;TZID=America/Los_Angeles:20250919T170000
DTEND;TZID=America/Los_Angeles:20250919T220000
DTSTAMP:20260422T125439
CREATED:20250812T165812Z
LAST-MODIFIED:20250826T203207Z
UID:10014022-1758301200-1758319200@benitolink.com
SUMMARY:Carnival Nights
DESCRIPTION:Carnival Nights are back at Gilroy Gardens Family Theme Park\, featuring dazzling performances and fabulous fun for the whole family. Discover magic shows\, juggling acts\, balloon artists\, carnival games\, specialty food and drinks—and all your favorite rides lit up at night. \nThis enchanting evening experience is on Friday nights only\, from July 25 through September 19\, from 5:00-10:00pm. Admission is FREE for Gilroy Gardens Premium Members.
URL:https://benitolink.com/event/carnival-nights/2025-09-19/
LOCATION:Gilroy Gardens Family Theme Park\, 3050 Hecker Pass Hwy\, Gilroy\, 95020\, United States
CATEGORIES:Arts-Entertainment
ATTACH;FMTTYPE=image/jpeg:https://benitolink.com/wp-content/uploads/2025/08/Gilroy_Gardens_Carnival_Nights_eDM.jpg
ORGANIZER;CN="Gilroy Gardens Family Theme Park":MAILTO:learnmore@gilroygardens.org
END:VEVENT
BEGIN:VEVENT
DTSTART;TZID=America/Los_Angeles:20250918T160000
DTEND;TZID=America/Los_Angeles:20250918T180000
DTSTAMP:20260422T125439
CREATED:20250912T193741Z
LAST-MODIFIED:20250912T193741Z
UID:10015247-1758211200-1758218400@benitolink.com
SUMMARY:COG Meeting
DESCRIPTION:Date: Sept. 18 \nTime: 4 p.m. \nLocation: Board of Supervisors Chambers
URL:https://benitolink.com/event/cog-meeting/
ATTACH;FMTTYPE=image/webp:https://benitolink.com/wp-content/uploads/2024/05/SanBenito.webp
END:VEVENT
BEGIN:VEVENT
DTSTART;TZID=America/Los_Angeles:20250918T120000
DTEND;TZID=America/Los_Angeles:20250918T140000
DTSTAMP:20260422T125439
CREATED:20250902T175027Z
LAST-MODIFIED:20250902T175027Z
UID:10014163-1758196800-1758204000@benitolink.com
SUMMARY:Reverse Mortgages: The Pros and Cons
DESCRIPTION:Thinking about tapping into your home equity during retirement?\nJoin us for a FREE Financial Literacy Workshop on Reverse Mortgages: The Pros and Cons\, hosted by the Community Foundation for San Benito County! \nThursday\, September 18th\n12:00 PM – 2:00 PM\nCommunity Foundation Epicenter – 440 San Benito Street\, Hollister\, CA 95023\n-Learn how reverse mortgages work\n-Understand the benefits\, risks\, and misconceptions\n-Hear real-life scenarios and expert advice \nPresented by Mark Taylan\, a 20+ year licensed financial advisor with Advisors 360.\nA meal will be provided!\nSeating is limited—RSVP to: marketing@givesanbenito.org
URL:https://benitolink.com/event/reverse-mortgages-the-pros-and-cons/
LOCATION:Community Foundation Epicenter\, 440 San Benito Street\, Hollister\, CA\, Hollister\, 95023\, United States America
CATEGORIES:Workshop-Training
ATTACH;FMTTYPE=image/png:https://benitolink.com/wp-content/uploads/2025/08/Financial-Literacy-Postcard.png
END:VEVENT
BEGIN:VEVENT
DTSTART;TZID=America/Los_Angeles:20250918T120000
DTEND;TZID=America/Los_Angeles:20250918T130000
DTSTAMP:20260422T125439
CREATED:20241119T225517Z
LAST-MODIFIED:20250417T170819Z
UID:10003507-1758196800-1758200400@benitolink.com
SUMMARY:Toastmasters of San Benito General Meetings
DESCRIPTION:Join us for our weekly meetings – every Thursday\, 12:00 to 1:00 at 440 San Benito Street in Hollister.\nToastmasters of San Benito is affiliated with Toastmasters International. Learn how to give a speech in a friendly\, easy-going\, non-judgemental environment. Build self-confidence and self-awareness as you learn new skills.
URL:https://benitolink.com/event/toastmasters-of-san-benito-general-meetings-2/2025-09-18/
LOCATION:Community Foundation Epicenter\, 440 San Benito Street\, Hollister\, CA\, Hollister\, 95023\, United States America
CATEGORIES:Meetings
ATTACH;FMTTYPE=image/jpeg:https://benitolink.com/wp-content/uploads/2023/08/376655792_10227727319360169_8547998125808627151_n.jpg
END:VEVENT
BEGIN:VEVENT
DTSTART;TZID=America/Los_Angeles:20250918T100000
DTEND;TZID=America/Los_Angeles:20250918T160000
DTSTAMP:20260422T125439
CREATED:20250904T204658Z
LAST-MODIFIED:20250904T204658Z
UID:10014194-1758189600-1758211200@benitolink.com
SUMMARY:Free Flu Vaccination Clinic
DESCRIPTION:Free flu vaccines at San Benito County\nPublic Health Every Wednesday & Thursday 10-12pm & 2-4pm\, get you and your family protected for this respiratory season.
URL:https://benitolink.com/event/free-flu-vaccination-clinic/2025-09-18/
ATTACH;FMTTYPE=image/jpeg:https://benitolink.com/wp-content/uploads/2024/10/weekly-Flu-Eng.jpg
END:VEVENT
BEGIN:VEVENT
DTSTART;TZID=America/Los_Angeles:20250917T180000
DTEND;TZID=America/Los_Angeles:20250917T200000
DTSTAMP:20260422T125439
CREATED:20250912T191239Z
LAST-MODIFIED:20250912T194248Z
UID:10015245-1758132000-1758139200@benitolink.com
SUMMARY:San Benito County Planning Commission Meeting
DESCRIPTION:Board of Supervisors Chambers 481 Fourth Street\, Hollister. \nDate: Aug. 17 \nTime: 6 p.m. \nAgenda
URL:https://benitolink.com/event/san-benito-county-planning-commission-meeting-4/
ATTACH;FMTTYPE=image/jpeg:https://benitolink.com/wp-content/uploads/2023/05/SanBenito_seal_1-copy-300x300-1.jpg
END:VEVENT
BEGIN:VEVENT
DTSTART;TZID=America/Los_Angeles:20250917T100000
DTEND;TZID=America/Los_Angeles:20250917T160000
DTSTAMP:20260422T125439
CREATED:20250904T204658Z
LAST-MODIFIED:20250904T204658Z
UID:10014193-1758103200-1758124800@benitolink.com
SUMMARY:Free Flu Vaccination Clinic
DESCRIPTION:Free flu vaccines at San Benito County\nPublic Health Every Wednesday & Thursday 10-12pm & 2-4pm\, get you and your family protected for this respiratory season.
URL:https://benitolink.com/event/free-flu-vaccination-clinic/2025-09-17/
ATTACH;FMTTYPE=image/jpeg:https://benitolink.com/wp-content/uploads/2024/10/weekly-Flu-Eng.jpg
END:VEVENT
BEGIN:VEVENT
DTSTART;TZID=America/Los_Angeles:20250916T170000
DTEND;TZID=America/Los_Angeles:20250916T190000
DTSTAMP:20260422T125439
CREATED:20250912T192438Z
LAST-MODIFIED:20250912T192438Z
UID:10015246-1758042000-1758049200@benitolink.com
SUMMARY:San Juan Bautista City Council Meeting
DESCRIPTION:HYBRID MEETING\nCity Hall\, Council Chambers\n311 Second Street\, San Juan Bautista. \nTime: 5 p.m. \nAgenda
URL:https://benitolink.com/event/san-juan-bautista-city-council-meeting-11/
ATTACH;FMTTYPE=image/jpeg:https://benitolink.com/wp-content/uploads/2019/06/IMG_9888.jpg.jpg
END:VEVENT
BEGIN:VEVENT
DTSTART;TZID=America/Los_Angeles:20250915T160000
DTEND;TZID=America/Los_Angeles:20250915T170000
DTSTAMP:20260422T125439
CREATED:20250814T220804Z
LAST-MODIFIED:20250814T220804Z
UID:10013812-1757952000-1757955600@benitolink.com
SUMMARY:Group Core Class
DESCRIPTION:SBJ core exercises Mondays at 4pm but more of a relationship builder with your significant other or BFF. \nCheck it out and sign up here: https://www.mystichealthwellness.com/private-sessions at 410 Third St\, in San Juan Bautista.
URL:https://benitolink.com/event/group-core-class/2025-09-15/
LOCATION:410 Third St\, San Juan Bautista\, CA 95045\, 410 Third St.\, San Juan Bautista\, CA\, 95045\, United States
CATEGORIES:Sports-Recreation
ATTACH;FMTTYPE=image/avif:https://benitolink.com/wp-content/uploads/2025/08/897cdd_ce2d0b00d18c4dbdb8a0ccd190037ed7mv2.avif
END:VEVENT
BEGIN:VEVENT
DTSTART;TZID=America/Los_Angeles:20250914T093000
DTEND;TZID=America/Los_Angeles:20250914T130000
DTSTAMP:20260422T125439
CREATED:20250826T204111Z
LAST-MODIFIED:20250826T210308Z
UID:10014142-1757842200-1757854800@benitolink.com
SUMMARY:Aromas Community Market
DESCRIPTION:The Aromas Community Market is back! \nStarting Sunday\, June 9th from 9:30am to 1:00pm\, and every second Sunday until October 12th\nOutside the Aromas Community Grange Hall: 361 Rose Ave.\, Aromas \nCome gather with neighbors and friends and enjoy great music\, delicious food\, and peruse all our local vendors have to offer! \nWhether you are looking for the freshest produce from local growers at great prices\, or a beautiful succulent arrangement to decorate your home\, freshly baked sourdough bread or the work of local artisans\, we have it all. \nA portion of your purchases will go towards supporting the Aromas Grange Pavilion Project. \nThe Aromas Community Market will be held the second Sunday of every month from 9:30am to 1:00pm June-October. \nHope to see you there!
URL:https://benitolink.com/event/aromas-community-market-3-2-2-2/2025-09-14/
LOCATION:Aromas Community Grange\, Corner of Rose and Bardue\, Aromas
END:VEVENT
BEGIN:VEVENT
DTSTART;TZID=America/Los_Angeles:20250913T100000
DTEND;TZID=America/Los_Angeles:20250913T130000
DTSTAMP:20260422T125439
CREATED:20250812T170014Z
LAST-MODIFIED:20250812T170014Z
UID:10013803-1757757600-1757768400@benitolink.com
SUMMARY:Chitactac Family Day-Free Event
DESCRIPTION:Chitactac Family Day\nFREE Event!\nSaturday\, September 13 | 10:00am – 1:00pm\nLocation: Chitactac-Adams Heritage County Park 10001 Watsonville Road\, Gilroy\, CA 95020 \nCome play traditional games\, view the ancient petroglyphs\, create unique crafts and more! Discover what has made this place so special to Indigenous people for thousands of years. For more information\, email interp@prk.sccgov.org
URL:https://benitolink.com/event/chitactac-family-day-free-event/
CATEGORIES:Arts-Entertainment,Fairs-Festivals,Sports-Recreation
ATTACH;FMTTYPE=image/png:https://benitolink.com/wp-content/uploads/2025/08/Chitactac-Family-Day-2025-Flyer-FINAL.png
END:VEVENT
BEGIN:VEVENT
DTSTART;TZID=America/Los_Angeles:20250913T090000
DTEND;TZID=America/Los_Angeles:20250913T113000
DTSTAMP:20260422T125439
CREATED:20250905T193358Z
LAST-MODIFIED:20250905T193358Z
UID:10015238-1757754000-1757763000@benitolink.com
SUMMARY:Friends of the San Benito Library Book Sale
DESCRIPTION:Friends of the San Benito Library Book Sale \nThis month’s sale will be from 9 AM to 11:30 AM on Saturday\, September 13th. \nWe have many books for both kids and adults. Fiction\, non-fiction\, cookbooks\, audio books\, you name it\, we probably have it. Plenty of new donations\, all at bargain prices. \nThe sale will be behind the library\, which is at 470 5th St. in Downtown Hollister. Look for the signs. \nHope to see you there!
URL:https://benitolink.com/event/friends-of-the-san-benito-library-book-sale-5/
LOCATION:Behind the San Benito County Free Library\, 470 5th Street\, Hollister\, 95023\, United States America
CATEGORIES:Fundraiser
ATTACH;FMTTYPE=image/jpeg:https://benitolink.com/wp-content/uploads/2025/09/FSBCFL-BookSale-Flyer-Feb-Nov2025-Social_Sep-Eng.jpg
ORGANIZER;CN="Friends of the San Benito County Free Library":MAILTO:sbcfriends.org@gmail.com
END:VEVENT
BEGIN:VEVENT
DTSTART;TZID=America/Los_Angeles:20250912T170000
DTEND;TZID=America/Los_Angeles:20250912T220000
DTSTAMP:20260422T125439
CREATED:20250812T165812Z
LAST-MODIFIED:20250826T203207Z
UID:10014021-1757696400-1757714400@benitolink.com
SUMMARY:Carnival Nights
DESCRIPTION:Carnival Nights are back at Gilroy Gardens Family Theme Park\, featuring dazzling performances and fabulous fun for the whole family. Discover magic shows\, juggling acts\, balloon artists\, carnival games\, specialty food and drinks—and all your favorite rides lit up at night. \nThis enchanting evening experience is on Friday nights only\, from July 25 through September 19\, from 5:00-10:00pm. Admission is FREE for Gilroy Gardens Premium Members.
URL:https://benitolink.com/event/carnival-nights/2025-09-12/
LOCATION:Gilroy Gardens Family Theme Park\, 3050 Hecker Pass Hwy\, Gilroy\, 95020\, United States
CATEGORIES:Arts-Entertainment
ATTACH;FMTTYPE=image/jpeg:https://benitolink.com/wp-content/uploads/2025/08/Gilroy_Gardens_Carnival_Nights_eDM.jpg
ORGANIZER;CN="Gilroy Gardens Family Theme Park":MAILTO:learnmore@gilroygardens.org
END:VEVENT
BEGIN:VEVENT
DTSTART;TZID=America/Los_Angeles:20250911T120000
DTEND;TZID=America/Los_Angeles:20250911T130000
DTSTAMP:20260422T125439
CREATED:20241119T225517Z
LAST-MODIFIED:20250417T170819Z
UID:10003506-1757592000-1757595600@benitolink.com
SUMMARY:Toastmasters of San Benito General Meetings
DESCRIPTION:Join us for our weekly meetings – every Thursday\, 12:00 to 1:00 at 440 San Benito Street in Hollister.\nToastmasters of San Benito is affiliated with Toastmasters International. Learn how to give a speech in a friendly\, easy-going\, non-judgemental environment. Build self-confidence and self-awareness as you learn new skills.
URL:https://benitolink.com/event/toastmasters-of-san-benito-general-meetings-2/2025-09-11/
LOCATION:Community Foundation Epicenter\, 440 San Benito Street\, Hollister\, CA\, Hollister\, 95023\, United States America
CATEGORIES:Meetings
ATTACH;FMTTYPE=image/jpeg:https://benitolink.com/wp-content/uploads/2023/08/376655792_10227727319360169_8547998125808627151_n.jpg
END:VEVENT
BEGIN:VEVENT
DTSTART;TZID=America/Los_Angeles:20250911T100000
DTEND;TZID=America/Los_Angeles:20250911T160000
DTSTAMP:20260422T125439
CREATED:20250904T204658Z
LAST-MODIFIED:20250904T204658Z
UID:10014192-1757584800-1757606400@benitolink.com
SUMMARY:Free Flu Vaccination Clinic
DESCRIPTION:Free flu vaccines at San Benito County\nPublic Health Every Wednesday & Thursday 10-12pm & 2-4pm\, get you and your family protected for this respiratory season.
URL:https://benitolink.com/event/free-flu-vaccination-clinic/2025-09-11/
ATTACH;FMTTYPE=image/jpeg:https://benitolink.com/wp-content/uploads/2024/10/weekly-Flu-Eng.jpg
END:VEVENT
BEGIN:VEVENT
DTSTART;TZID=America/Los_Angeles:20250910T180000
DTEND;TZID=America/Los_Angeles:20250910T210000
DTSTAMP:20260422T125439
CREATED:20250905T200626Z
LAST-MODIFIED:20250905T200626Z
UID:10015241-1757527200-1757538000@benitolink.com
SUMMARY:SBC Planning Commission Special Meeting
DESCRIPTION:Board of Supervisors Chambers 481 Fourth Street\, Hollister.\n\nAgenda\n 
URL:https://benitolink.com/event/sbc-planning-commission-special-meeting-2/
ATTACH;FMTTYPE=image/png:https://benitolink.com/wp-content/uploads/2020/03/SBClogo-Final-1-e1760121855674.png
END:VEVENT
BEGIN:VEVENT
DTSTART;TZID=America/Los_Angeles:20250910T180000
DTEND;TZID=America/Los_Angeles:20250910T200000
DTSTAMP:20260422T125439
CREATED:20250905T200846Z
LAST-MODIFIED:20250905T200846Z
UID:10015242-1757527200-1757534400@benitolink.com
SUMMARY:AMBAG Meeting
DESCRIPTION:September 10\, 2025\nTime: 6:00 p.m.\nLOCATION: Monterey Bay Air Resources District\, Board Room\, 3rd Floor\n24580 Silver Cloud Court\nMonterey\, CA 93940 \nAgenda
URL:https://benitolink.com/event/ambag-meeting-2/
ATTACH;FMTTYPE=image/jpeg:https://benitolink.com/wp-content/uploads/2023/05/AMBAG_newlogo.jpg
END:VEVENT
BEGIN:VEVENT
DTSTART;TZID=America/Los_Angeles:20250910T100000
DTEND;TZID=America/Los_Angeles:20250910T160000
DTSTAMP:20260422T125439
CREATED:20250904T204658Z
LAST-MODIFIED:20250904T204658Z
UID:10014191-1757498400-1757520000@benitolink.com
SUMMARY:Free Flu Vaccination Clinic
DESCRIPTION:Free flu vaccines at San Benito County\nPublic Health Every Wednesday & Thursday 10-12pm & 2-4pm\, get you and your family protected for this respiratory season.
URL:https://benitolink.com/event/free-flu-vaccination-clinic/2025-09-10/
ATTACH;FMTTYPE=image/jpeg:https://benitolink.com/wp-content/uploads/2024/10/weekly-Flu-Eng.jpg
END:VEVENT
BEGIN:VEVENT
DTSTART;TZID=America/Los_Angeles:20250909T090000
DTEND;TZID=America/Los_Angeles:20250909T170000
DTSTAMP:20260422T125439
CREATED:20250905T200023Z
LAST-MODIFIED:20250905T200023Z
UID:10015240-1757408400-1757437200@benitolink.com
SUMMARY:Board of Supervisors Meeting
DESCRIPTION:Board of Supervisors Chambers 481 Fourth Street\, Hollister.\n\nAgenda 
URL:https://benitolink.com/event/board-of-supervisors-meeting-4/
ATTACH;FMTTYPE=image/jpeg:https://benitolink.com/wp-content/uploads/2022/01/SanBenito_seal_1.jpg
END:VEVENT
BEGIN:VEVENT
DTSTART;TZID=America/Los_Angeles:20250908T160000
DTEND;TZID=America/Los_Angeles:20250908T170000
DTSTAMP:20260422T125439
CREATED:20250814T220804Z
LAST-MODIFIED:20250814T220804Z
UID:10013811-1757347200-1757350800@benitolink.com
SUMMARY:Group Core Class
DESCRIPTION:SBJ core exercises Mondays at 4pm but more of a relationship builder with your significant other or BFF. \nCheck it out and sign up here: https://www.mystichealthwellness.com/private-sessions at 410 Third St\, in San Juan Bautista.
URL:https://benitolink.com/event/group-core-class/2025-09-08/
LOCATION:410 Third St\, San Juan Bautista\, CA 95045\, 410 Third St.\, San Juan Bautista\, CA\, 95045\, United States
CATEGORIES:Sports-Recreation
ATTACH;FMTTYPE=image/avif:https://benitolink.com/wp-content/uploads/2025/08/897cdd_ce2d0b00d18c4dbdb8a0ccd190037ed7mv2.avif
END:VEVENT
BEGIN:VEVENT
DTSTART;TZID=America/Los_Angeles:20250907T090000
DTEND;TZID=America/Los_Angeles:20250907T120000
DTSTAMP:20260422T125439
CREATED:20231221T172435Z
LAST-MODIFIED:20231221T172435Z
UID:10004005-1757235600-1757246400@benitolink.com
SUMMARY:SBALT Ranch Day
DESCRIPTION:Work parties and/or hikes on Nyland and Rancho Larios Protected Lands in San Juan Bautista.
URL:https://benitolink.com/event/sbalt-ranch-day-3/2025-09-07/
LOCATION:San Juan Bautista\, CA
CATEGORIES:Sports-Recreation,Volunteer
ATTACH;FMTTYPE=image/jpeg:https://benitolink.com/wp-content/uploads/2023/12/Ranch-Days-Flier.jpg
ORGANIZER;CN="San Benito Agricultural Land Trust":MAILTO:info@sanbenitolandtrust.org
END:VEVENT
END:VCALENDAR