BEGIN:VCALENDAR
VERSION:2.0
PRODID:-//BenitoLink - ECPv6.15.20//NONSGML v1.0//EN
CALSCALE:GREGORIAN
METHOD:PUBLISH
X-WR-CALNAME:BenitoLink
X-ORIGINAL-URL:https://benitolink.com
X-WR-CALDESC:Events for BenitoLink
REFRESH-INTERVAL;VALUE=DURATION:PT1H
X-Robots-Tag:noindex
X-PUBLISHED-TTL:PT1H
BEGIN:VTIMEZONE
TZID:America/Los_Angeles
BEGIN:DAYLIGHT
TZOFFSETFROM:-0800
TZOFFSETTO:-0700
TZNAME:PDT
DTSTART:20240310T100000
END:DAYLIGHT
BEGIN:STANDARD
TZOFFSETFROM:-0700
TZOFFSETTO:-0800
TZNAME:PST
DTSTART:20241103T090000
END:STANDARD
BEGIN:DAYLIGHT
TZOFFSETFROM:-0800
TZOFFSETTO:-0700
TZNAME:PDT
DTSTART:20250309T100000
END:DAYLIGHT
BEGIN:STANDARD
TZOFFSETFROM:-0700
TZOFFSETTO:-0800
TZNAME:PST
DTSTART:20251102T090000
END:STANDARD
BEGIN:DAYLIGHT
TZOFFSETFROM:-0800
TZOFFSETTO:-0700
TZNAME:PDT
DTSTART:20260308T100000
END:DAYLIGHT
BEGIN:STANDARD
TZOFFSETFROM:-0700
TZOFFSETTO:-0800
TZNAME:PST
DTSTART:20261101T090000
END:STANDARD
END:VTIMEZONE
BEGIN:VEVENT
DTSTART;TZID=America/Los_Angeles:20250906T100000
DTEND;TZID=America/Los_Angeles:20250906T130000
DTSTAMP:20260423T000117
CREATED:20250903T233855Z
LAST-MODIFIED:20250903T233855Z
UID:10014165-1757152800-1757163600@benitolink.com
SUMMARY:Latino Generations Scholarship Brunch
DESCRIPTION:Date: Sept. 6 \nTime: 10 a.m. to 1 p.m. \nLocation: Paine’s Restaurant\, Hollister. \nPrice: General $45\, Student $30 \n  \n 
URL:https://benitolink.com/event/latino-generations-scholarship-brunch/
LOCATION:Paine’s Restaurant\, 421 East Street\, Hollister\, 95023\, United States America
CATEGORIES:Fundraiser,Schools
ATTACH;FMTTYPE=image/png:https://benitolink.com/wp-content/uploads/2025/09/Screenshot-2025-09-03-at-4.25.26-PM-e1756942672472.png
END:VEVENT
BEGIN:VEVENT
DTSTART;TZID=America/Los_Angeles:20250906T070000
DTEND;TZID=America/Los_Angeles:20250906T110000
DTSTAMP:20260423T000117
CREATED:20250814T220910Z
LAST-MODIFIED:20250814T220910Z
UID:10013808-1757142000-1757156400@benitolink.com
SUMMARY:The River Run
DESCRIPTION:Please join us for the River Run back for a great 5th year in 2025. A family-friendly event that will be fun for everyone! You’ll be able to run or walk a 5K distance or a 1Mile untimed fun run. \nThe River Run 2025 is a unique experience that meanders through a working sand and gravel quarry. The events take you inside the Southside Sand and Gravel Quarry to see the working quarry site\, the banks of the San Benito River\, specialized equipment that processes the rock\, and beautiful natural surroundings. \nRiver Run benefits the YMCA of San Benito County and begins promptly at 8:00 a.m. on Saturday\, September 6th 2025. Check in begins at 7:15am. \nPricing is available for individuals or families. The family pricing option is available for families/groups of 4 or more participants. \nThe event is located the Graniterock Sand and Gravel Quarry at 5632 Airline Highway\, Hollister\, CA 95023. Free parking is available at the race site.
URL:https://benitolink.com/event/the-river-run-3/
LOCATION:Graniterock Southside Sand & Gravel Quarry\, 5632 Airline Highway\, Hollister\, CA\, 95023\, United States
CATEGORIES:Fundraiser,Sports-Recreation
ATTACH;FMTTYPE=image/jpeg:https://benitolink.com/wp-content/uploads/2025/08/20240914_0801070-scaled.jpg
ORGANIZER;CN="YMCA of San Benito County":MAILTO:ymcasanbenito@ymcacentralcoast.org
END:VEVENT
BEGIN:VEVENT
DTSTART;TZID=America/Los_Angeles:20250905T170000
DTEND;TZID=America/Los_Angeles:20250905T220000
DTSTAMP:20260423T000117
CREATED:20250812T165812Z
LAST-MODIFIED:20250826T203207Z
UID:10014020-1757091600-1757109600@benitolink.com
SUMMARY:Carnival Nights
DESCRIPTION:Carnival Nights are back at Gilroy Gardens Family Theme Park\, featuring dazzling performances and fabulous fun for the whole family. Discover magic shows\, juggling acts\, balloon artists\, carnival games\, specialty food and drinks—and all your favorite rides lit up at night. \nThis enchanting evening experience is on Friday nights only\, from July 25 through September 19\, from 5:00-10:00pm. Admission is FREE for Gilroy Gardens Premium Members.
URL:https://benitolink.com/event/carnival-nights/2025-09-05/
LOCATION:Gilroy Gardens Family Theme Park\, 3050 Hecker Pass Hwy\, Gilroy\, 95020\, United States
CATEGORIES:Arts-Entertainment
ATTACH;FMTTYPE=image/jpeg:https://benitolink.com/wp-content/uploads/2025/08/Gilroy_Gardens_Carnival_Nights_eDM.jpg
ORGANIZER;CN="Gilroy Gardens Family Theme Park":MAILTO:learnmore@gilroygardens.org
END:VEVENT
BEGIN:VEVENT
DTSTART;TZID=America/Los_Angeles:20250904T134501
DTEND;TZID=America/Los_Angeles:20250904T134501
DTSTAMP:20260423T000117
CREATED:20250904T204227Z
LAST-MODIFIED:20250904T204459Z
UID:10014190-1756993501-1756993501@benitolink.com
SUMMARY:Free Vaccine Clinic
DESCRIPTION:FREE flu vaccines at San Benito County\nPublic Health Every Wednesday & Thursday 10-12pm &\n2-4pm\, get you and your family protected for this\nrespiratory season.
URL:https://benitolink.com/event/112415-2/2025-09-04/2/
ATTACH;FMTTYPE=image/png:https://benitolink.com/wp-content/uploads/2024/10/weekly-Flu-Eng-1.png
END:VEVENT
BEGIN:VEVENT
DTSTART;TZID=America/Los_Angeles:20250904T120000
DTEND;TZID=America/Los_Angeles:20250904T130000
DTSTAMP:20260423T000117
CREATED:20241119T225517Z
LAST-MODIFIED:20250417T170819Z
UID:10003505-1756987200-1756990800@benitolink.com
SUMMARY:Toastmasters of San Benito General Meetings
DESCRIPTION:Join us for our weekly meetings – every Thursday\, 12:00 to 1:00 at 440 San Benito Street in Hollister.\nToastmasters of San Benito is affiliated with Toastmasters International. Learn how to give a speech in a friendly\, easy-going\, non-judgemental environment. Build self-confidence and self-awareness as you learn new skills.
URL:https://benitolink.com/event/toastmasters-of-san-benito-general-meetings-2/2025-09-04/
LOCATION:Community Foundation Epicenter\, 440 San Benito Street\, Hollister\, CA\, Hollister\, 95023\, United States America
CATEGORIES:Meetings
ATTACH;FMTTYPE=image/jpeg:https://benitolink.com/wp-content/uploads/2023/08/376655792_10227727319360169_8547998125808627151_n.jpg
END:VEVENT
BEGIN:VEVENT
DTSTART;TZID=America/Los_Angeles:20250904T100000
DTEND;TZID=America/Los_Angeles:20250904T160000
DTSTAMP:20260423T000117
CREATED:20250904T204227Z
LAST-MODIFIED:20250904T204459Z
UID:10005252-1756980000-1757001600@benitolink.com
SUMMARY:Free Vaccine Clinic
DESCRIPTION:FREE flu vaccines at San Benito County\nPublic Health Every Wednesday & Thursday 10-12pm &\n2-4pm\, get you and your family protected for this\nrespiratory season.
URL:https://benitolink.com/event/112415-2/2025-09-04/1/
ATTACH;FMTTYPE=image/png:https://benitolink.com/wp-content/uploads/2024/10/weekly-Flu-Eng-1.png
END:VEVENT
BEGIN:VEVENT
DTSTART;TZID=America/Los_Angeles:20250903T173000
DTEND;TZID=America/Los_Angeles:20250903T183000
DTSTAMP:20260423T000117
CREATED:20250829T170228Z
LAST-MODIFIED:20250829T170228Z
UID:10014161-1756920600-1756924200@benitolink.com
SUMMARY:Caltrans Public Meeting: Hwy 25 Safety Improvements Projects
DESCRIPTION:Caltrans would like to invite the public and interested stakeholders to attend a public meeting to learn and provide input on proposed safety improvements on Highway 25 in San Benito and Santa Clara Counties. \nThis public meeting will be held on Wednesday\, September 3 from 5:30 pm to 6:30 pm in the Paines Restaurant Banquet Room at 421 East Street in Hollister. \nThis meeting will include a presentation of proposed highway safety improvements on Highway 25 from San Felipe Road to Shore Road\, enhancing safety at the intersection of Highway 25 at Shore Road and highway safety improvements from north of Shore Road to US 101. \nProject team members will be present to answer questions and share further details of these planned projects.
URL:https://benitolink.com/event/caltrans-public-meeting-hwy-25-safety-improvements-projects/
ATTACH;FMTTYPE=image/webp:https://benitolink.com/wp-content/uploads/2023/12/Caltrans-Logo.webp
END:VEVENT
BEGIN:VEVENT
DTSTART;TZID=America/Los_Angeles:20250902T183000
DTEND;TZID=America/Los_Angeles:20250902T213000
DTSTAMP:20260423T000117
CREATED:20250829T171022Z
LAST-MODIFIED:20250829T171022Z
UID:10014162-1756837800-1756848600@benitolink.com
SUMMARY:Hollister City Council Meeting
DESCRIPTION:Tuesday\, September 02\, at 6:30 p.m. \nCity Council Chamber\, City Hall\n375 Fifth Street\, Hollister.\n\nAgenda
URL:https://benitolink.com/event/hollister-city-council-meeting-19/
ATTACH;FMTTYPE=image/gif:https://benitolink.com/wp-content/uploads/2025/04/us-cahol.gif
END:VEVENT
BEGIN:VEVENT
DTSTART;TZID=America/Los_Angeles:20250901T130000
DTEND;TZID=America/Los_Angeles:20250901T160000
DTSTAMP:20260423T000117
CREATED:20250829T165836Z
LAST-MODIFIED:20250829T165859Z
UID:10014160-1756731600-1756742400@benitolink.com
SUMMARY:Aromas "Workers Over Billionaires" Rally
DESCRIPTION:“Workers Over Billionaires” Rally. Rise Up! Stop the Billionaire Takeover of our Government. \nWorking people built this nation. We will never stop fighting for our families\, our rights and freedoms\, and to ensure a better life for all Americans. The time of the billionaire domination is over! \nSign Making 1:00-1:30 PM \nRally 1:30 -2:30 PM: music\, chants\, free snacks and water\, signs\, wheelchair and lawn chair accessible \nSan Juan Rd/Hwy101 Overpass Bridge Brigade 3:00-4:00 PM
URL:https://benitolink.com/event/aromas-workers-over-billionaires-rally/
LOCATION:Aromas Community Park
CATEGORIES:Rally-Causes
ATTACH;FMTTYPE=image/png:https://benitolink.com/wp-content/uploads/2025/08/Screen-Shot-2025-08-27-at-1.22.53-PM.png
ORGANIZER;CN="Aromas Democracy Defenders":MAILTO:aromasdemocracydefenders@gmail.com
END:VEVENT
BEGIN:VEVENT
DTSTART;TZID=America/Los_Angeles:20250830T100000
DTEND;TZID=America/Los_Angeles:20250901T180000
DTSTAMP:20260423T000117
CREATED:20250730T223911Z
LAST-MODIFIED:20250826T203034Z
UID:10013427-1756548000-1756749600@benitolink.com
SUMMARY:Labor Day Weekend Celebration
DESCRIPTION:Labor Day Weekend at Gilroy Gardens is always a fun way to extend the summer fun for one last long weekend. Go on all your favorite rides\, stroll through the peaceful gardens\, and enjoy super-splashy fun at Water Oasis and Lakeside Splash. \nActive-duty military\, veterans\, and first responders get FREE admission and can purchase General Admission for up to six (6) of their family or friends for just $25 each (up to $55.00 off General Admission). Just show valid ID at front gate to claim this special offer.
URL:https://benitolink.com/event/labor-day-weekend-celebration/
LOCATION:Gilroy Gardens Family Theme Park\, 3050 Hecker Pass Hwy\, Gilroy\, 95020\, United States
CATEGORIES:Arts-Entertainment
ATTACH;FMTTYPE=image/jpeg:https://benitolink.com/wp-content/uploads/2025/07/GilroyGardens_WaterOasis.jpg
ORGANIZER;CN="Gilroy Gardens Family Theme Park":MAILTO:learnmore@gilroygardens.org
END:VEVENT
BEGIN:VEVENT
DTSTART;TZID=America/Los_Angeles:20250829T170000
DTEND;TZID=America/Los_Angeles:20250829T220000
DTSTAMP:20260423T000117
CREATED:20250812T165812Z
LAST-MODIFIED:20250826T203207Z
UID:10014019-1756486800-1756504800@benitolink.com
SUMMARY:Carnival Nights
DESCRIPTION:Carnival Nights are back at Gilroy Gardens Family Theme Park\, featuring dazzling performances and fabulous fun for the whole family. Discover magic shows\, juggling acts\, balloon artists\, carnival games\, specialty food and drinks—and all your favorite rides lit up at night. \nThis enchanting evening experience is on Friday nights only\, from July 25 through September 19\, from 5:00-10:00pm. Admission is FREE for Gilroy Gardens Premium Members.
URL:https://benitolink.com/event/carnival-nights/2025-08-29/
LOCATION:Gilroy Gardens Family Theme Park\, 3050 Hecker Pass Hwy\, Gilroy\, 95020\, United States
CATEGORIES:Arts-Entertainment
ATTACH;FMTTYPE=image/jpeg:https://benitolink.com/wp-content/uploads/2025/08/Gilroy_Gardens_Carnival_Nights_eDM.jpg
ORGANIZER;CN="Gilroy Gardens Family Theme Park":MAILTO:learnmore@gilroygardens.org
END:VEVENT
BEGIN:VEVENT
DTSTART;TZID=America/Los_Angeles:20250829T140000
DTEND;TZID=America/Los_Angeles:20250829T160000
DTSTAMP:20260423T000117
CREATED:20250821T225548Z
LAST-MODIFIED:20250821T225548Z
UID:10014009-1756476000-1756483200@benitolink.com
SUMMARY:Overdose Awareness Day
DESCRIPTION:🎤 What to Expect:\nEducational Presentation on opioid overdose prevention\nand Naloxone Training\n📚 Resource Table with informational materials\n💊 Free Narcan (Naloxone) Kits\n💬 Open discussion\, Q&A\, and community support \n*******************\n🎤 Qué esperar:\nPresentación educativa sobre la prevención de sobredosis de opioides y entrenamiento en el uso de la naloxona\n📚 Mesa de recursos con material informativo.\n💊 Kits gratuitos de Narcan (naloxona).\n💬 Discusión abierta\, preguntas y respuestas\, y apoyo de la comunidad.
URL:https://benitolink.com/event/overdose-awareness-day-2/
ATTACH;FMTTYPE=image/png:https://benitolink.com/wp-content/uploads/2025/08/OD-Day.png
END:VEVENT
BEGIN:VEVENT
DTSTART;TZID=America/Los_Angeles:20250828T170000
DTEND;TZID=America/Los_Angeles:20250828T200000
DTSTAMP:20260423T000117
CREATED:20250822T204613Z
LAST-MODIFIED:20250822T204613Z
UID:10014012-1756400400-1756411200@benitolink.com
SUMMARY:HHMH Board Meeting
DESCRIPTION:The Board meets at Hazel Hawkins Memorial Hospital – Great Room – Support Services Building – 2nd Floor 5:00 p.m.
URL:https://benitolink.com/event/hhmh-board-meeting/
ATTACH;FMTTYPE=image/jpeg:https://benitolink.com/wp-content/uploads/2025/04/JParga-Hazel-Hawkins-Hospital05.jpg
END:VEVENT
BEGIN:VEVENT
DTSTART;TZID=America/Los_Angeles:20250828T120000
DTEND;TZID=America/Los_Angeles:20250828T130000
DTSTAMP:20260423T000117
CREATED:20241119T225517Z
LAST-MODIFIED:20250417T170819Z
UID:10003504-1756382400-1756386000@benitolink.com
SUMMARY:Toastmasters of San Benito General Meetings
DESCRIPTION:Join us for our weekly meetings – every Thursday\, 12:00 to 1:00 at 440 San Benito Street in Hollister.\nToastmasters of San Benito is affiliated with Toastmasters International. Learn how to give a speech in a friendly\, easy-going\, non-judgemental environment. Build self-confidence and self-awareness as you learn new skills.
URL:https://benitolink.com/event/toastmasters-of-san-benito-general-meetings-2/2025-08-28/
LOCATION:Community Foundation Epicenter\, 440 San Benito Street\, Hollister\, CA\, Hollister\, 95023\, United States America
CATEGORIES:Meetings
ATTACH;FMTTYPE=image/jpeg:https://benitolink.com/wp-content/uploads/2023/08/376655792_10227727319360169_8547998125808627151_n.jpg
END:VEVENT
BEGIN:VEVENT
DTSTART;TZID=America/Los_Angeles:20250828T100000
DTEND;TZID=America/Los_Angeles:20250828T160000
DTSTAMP:20260423T000117
CREATED:20241030T215404Z
LAST-MODIFIED:20250417T171839Z
UID:10005251-1756375200-1756396800@benitolink.com
SUMMARY:Free Vaccine Clinic
DESCRIPTION:FREE flu vaccines at San Benito County\nPublic Health Every Wednesday & Thursday 10-12pm &\n2-4pm\, get you and your family protected for this\nrespiratory season.
URL:https://benitolink.com/event/112415/2025-08-28/
ATTACH;FMTTYPE=image/png:https://benitolink.com/wp-content/uploads/2024/10/weekly-Flu-Eng-1.png
END:VEVENT
BEGIN:VEVENT
DTSTART;TZID=America/Los_Angeles:20250827T133000
DTEND;TZID=America/Los_Angeles:20250827T143000
DTSTAMP:20260423T000117
CREATED:20240411T204114Z
LAST-MODIFIED:20240411T204114Z
UID:10004193-1756301400-1756305000@benitolink.com
SUMMARY:In Person Support Group
DESCRIPTION:
URL:https://benitolink.com/event/in-person-support-group/2025-08-27/
LOCATION:Pauline Valdivia Memorial Community Center\, 300 West St\, Hollister CA 95023
END:VEVENT
BEGIN:VEVENT
DTSTART;TZID=America/Los_Angeles:20250826T090000
DTEND;TZID=America/Los_Angeles:20250826T170000
DTSTAMP:20260423T000117
CREATED:20250822T204134Z
LAST-MODIFIED:20250822T204134Z
UID:10014011-1756198800-1756227600@benitolink.com
SUMMARY:SBC Board of Supervisors Meeting
DESCRIPTION:Board of Supervisors Chambers 481 Fourth Street\, Hollister. \nStarts at 9 a.m.
URL:https://benitolink.com/event/sbc-board-of-supervisors-meeting/
ATTACH;FMTTYPE=image/jpeg:https://benitolink.com/wp-content/uploads/2022/01/SanBenito_seal_1.jpg
END:VEVENT
BEGIN:VEVENT
DTSTART;TZID=America/Los_Angeles:20250825T184500
DTEND;TZID=America/Los_Angeles:20250825T210000
DTSTAMP:20260423T000117
CREATED:20250812T165921Z
LAST-MODIFIED:20250812T165921Z
UID:10013804-1756147500-1756155600@benitolink.com
SUMMARY:San Benito Oriana Chorale "Calling All Singers"
DESCRIPTION:Oriana Chorale begins our Fall 2025 Season on Monday\, August 25th. Rehearsals begin at 6:45pm at Christ Fellowship Church 2066 San Benito Street in Hollister. We will meet weekly to prepare for our December Concerts at Christ Fellowship Church and Mission San Juan Bautista.\nJoin us if you love to sing ! Our rehearsals also provide great vocal training. No auditions required. \nIf you are unable to come on August 25th\, there will be no rehearsal on Labor Day\, but new members may also join on the following Monday\, September 8th.
URL:https://benitolink.com/event/san-benito-oriana-chorale-calling-all-singers-6/
LOCATION:Christ Fellowship Church\, 2066 San Benito Street\, Hollister\, CA\, 95023\, United States
CATEGORIES:Arts-Entertainment
ATTACH;FMTTYPE=image/jpeg:https://benitolink.com/wp-content/uploads/2025/08/Calling-All-Singers-Fall-2025-full-today.jpg
END:VEVENT
BEGIN:VEVENT
DTSTART;TZID=America/Los_Angeles:20250825T160000
DTEND;TZID=America/Los_Angeles:20250825T170000
DTSTAMP:20260423T000117
CREATED:20250814T220804Z
LAST-MODIFIED:20250814T220804Z
UID:10013810-1756137600-1756141200@benitolink.com
SUMMARY:Group Core Class
DESCRIPTION:SBJ core exercises Mondays at 4pm but more of a relationship builder with your significant other or BFF. \nCheck it out and sign up here: https://www.mystichealthwellness.com/private-sessions at 410 Third St\, in San Juan Bautista.
URL:https://benitolink.com/event/group-core-class/2025-08-25/
LOCATION:410 Third St\, San Juan Bautista\, CA 95045\, 410 Third St.\, San Juan Bautista\, CA\, 95045\, United States
CATEGORIES:Sports-Recreation
ATTACH;FMTTYPE=image/avif:https://benitolink.com/wp-content/uploads/2025/08/897cdd_ce2d0b00d18c4dbdb8a0ccd190037ed7mv2.avif
END:VEVENT
BEGIN:VEVENT
DTSTART;TZID=America/Los_Angeles:20250823T100000
DTEND;TZID=America/Los_Angeles:20250823T150000
DTSTAMP:20260423T000117
CREATED:20250821T214455Z
LAST-MODIFIED:20250821T214455Z
UID:10014008-1755943200-1755961200@benitolink.com
SUMMARY:Food Drive for Aromas-San Juan School District
DESCRIPTION:Date: August 23 \nTime: 10 a.m.- 3 p.m. \nLocation: Mission Market\, 54 Muchelemi Street\, SJB
URL:https://benitolink.com/event/food-drive-for-aromas-san-juan-school-district/
ATTACH;FMTTYPE=image/png:https://benitolink.com/wp-content/uploads/2025/08/1D0A1949-7FE2-47B1-9128-78E782AC020C-1.png
END:VEVENT
BEGIN:VEVENT
DTSTART;TZID=America/Los_Angeles:20250822T170000
DTEND;TZID=America/Los_Angeles:20250822T220000
DTSTAMP:20260423T000117
CREATED:20250812T165812Z
LAST-MODIFIED:20250826T203207Z
UID:10014018-1755882000-1755900000@benitolink.com
SUMMARY:Carnival Nights
DESCRIPTION:Carnival Nights are back at Gilroy Gardens Family Theme Park\, featuring dazzling performances and fabulous fun for the whole family. Discover magic shows\, juggling acts\, balloon artists\, carnival games\, specialty food and drinks—and all your favorite rides lit up at night. \nThis enchanting evening experience is on Friday nights only\, from July 25 through September 19\, from 5:00-10:00pm. Admission is FREE for Gilroy Gardens Premium Members.
URL:https://benitolink.com/event/carnival-nights/2025-08-22/
LOCATION:Gilroy Gardens Family Theme Park\, 3050 Hecker Pass Hwy\, Gilroy\, 95020\, United States
CATEGORIES:Arts-Entertainment
ATTACH;FMTTYPE=image/jpeg:https://benitolink.com/wp-content/uploads/2025/08/Gilroy_Gardens_Carnival_Nights_eDM.jpg
ORGANIZER;CN="Gilroy Gardens Family Theme Park":MAILTO:learnmore@gilroygardens.org
END:VEVENT
BEGIN:VEVENT
DTSTART;TZID=America/Los_Angeles:20250821T160000
DTEND;TZID=America/Los_Angeles:20250821T180000
DTSTAMP:20260423T000117
CREATED:20250815T185138Z
LAST-MODIFIED:20250815T185138Z
UID:10013832-1755792000-1755799200@benitolink.com
SUMMARY:San Benito COG
DESCRIPTION:Aug. 21 at 4:00 p.m. at 481 Fourth Street\, Hollister. Board of Supervisors Chamber.
URL:https://benitolink.com/event/san-benito-cog/
ATTACH;FMTTYPE=image/webp:https://benitolink.com/wp-content/uploads/2024/05/SanBenito.webp
END:VEVENT
BEGIN:VEVENT
DTSTART;TZID=America/Los_Angeles:20250821T120000
DTEND;TZID=America/Los_Angeles:20250821T130000
DTSTAMP:20260423T000117
CREATED:20241119T225517Z
LAST-MODIFIED:20250417T170819Z
UID:10003503-1755777600-1755781200@benitolink.com
SUMMARY:Toastmasters of San Benito General Meetings
DESCRIPTION:Join us for our weekly meetings – every Thursday\, 12:00 to 1:00 at 440 San Benito Street in Hollister.\nToastmasters of San Benito is affiliated with Toastmasters International. Learn how to give a speech in a friendly\, easy-going\, non-judgemental environment. Build self-confidence and self-awareness as you learn new skills.
URL:https://benitolink.com/event/toastmasters-of-san-benito-general-meetings-2/2025-08-21/
LOCATION:Community Foundation Epicenter\, 440 San Benito Street\, Hollister\, CA\, Hollister\, 95023\, United States America
CATEGORIES:Meetings
ATTACH;FMTTYPE=image/jpeg:https://benitolink.com/wp-content/uploads/2023/08/376655792_10227727319360169_8547998125808627151_n.jpg
END:VEVENT
BEGIN:VEVENT
DTSTART;TZID=America/Los_Angeles:20250821T100000
DTEND;TZID=America/Los_Angeles:20250821T160000
DTSTAMP:20260423T000117
CREATED:20241030T215404Z
LAST-MODIFIED:20250417T171839Z
UID:10005250-1755770400-1755792000@benitolink.com
SUMMARY:Free Vaccine Clinic
DESCRIPTION:FREE flu vaccines at San Benito County\nPublic Health Every Wednesday & Thursday 10-12pm &\n2-4pm\, get you and your family protected for this\nrespiratory season.
URL:https://benitolink.com/event/112415/2025-08-21/
ATTACH;FMTTYPE=image/png:https://benitolink.com/wp-content/uploads/2024/10/weekly-Flu-Eng-1.png
END:VEVENT
BEGIN:VEVENT
DTSTART;TZID=America/Los_Angeles:20250820T180000
DTEND;TZID=America/Los_Angeles:20250820T200000
DTSTAMP:20260423T000117
CREATED:20250815T184041Z
LAST-MODIFIED:20250815T184041Z
UID:10013830-1755712800-1755720000@benitolink.com
SUMMARY:SBC Planning Commission Meeting
DESCRIPTION:Board of Supervisors Chambers 481 Fourth Street\, Hollister.\nAugust 20 at 6 p.m. \n  \nAgenda
URL:https://benitolink.com/event/sbc-planning-commission-meeting/
ATTACH;FMTTYPE=image/jpeg:https://benitolink.com/wp-content/uploads/2020/04/SanBenito_seal_1-copy.jpg
END:VEVENT
BEGIN:VEVENT
DTSTART;TZID=America/Los_Angeles:20250819T173000
DTEND;TZID=America/Los_Angeles:20250819T193000
DTSTAMP:20260423T000117
CREATED:20250807T173128Z
LAST-MODIFIED:20250807T173217Z
UID:10013802-1755624600-1755631800@benitolink.com
SUMMARY:SBC Safety Element Meeting
DESCRIPTION:The County of San Benito Planning Department is hosting a neighborhood meeting to discuss updates to the Safety Element of the General Plan. This element evaluates and addresses both natural and human-made hazards and climate change impacts. It aims to reduce potential short and long-term risk of death\, injuries\, property damage\, and economic and social dislocation resulting from fires\, floods\, droughts\, earthquakes\, landslides\, climate change\, and other hazards. \nWhen: Tuesday\, August 19th from 5:30 p.m. to 7:30 p.m. \nWhere: Sheriff’s Conference Room\, 2301 Technology Parkway\, Hollister\, CA 95023 \nContact: safetyelement@sanbenitocountyca.gov \nEl Departamento de Planificación del Condado de San Benito está organizando una reunión de vecindario para conversar sobre las actualizaciones del Elemento de Seguridad del Plan General.Este elemento evalúa y aborda tanto los peligros naturales como los causados por el hombre y los impactos del cambio climático. Su objetivo es reducir el riesgo potencial a corto y largo plazo de muertes\, lesiones\, daños a la propiedad y trastornos económicos y sociales resultantes de incendios\, inundaciones\, sequías\, terremotos\, deslizamientos de tierra\, cambio climático y otros peligros. \nCuando: Martes\, 19 De Agosto de 5:30 p.m. a 7:30 p.m. \nDonde: Sala de Conferencias del Sheriff\, 2301 Technology Parkway\, Hollister\, CA 95023 \nContacto: safetyelement@sanbenitocountyca.gov \n \n 
URL:https://benitolink.com/event/129084/
ATTACH;FMTTYPE=image/png:https://benitolink.com/wp-content/uploads/2025/08/1.png
END:VEVENT
BEGIN:VEVENT
DTSTART;TZID=America/Los_Angeles:20250819T170000
DTEND;TZID=America/Los_Angeles:20250819T223000
DTSTAMP:20260423T000117
CREATED:20250815T184524Z
LAST-MODIFIED:20250815T184524Z
UID:10013831-1755622800-1755642600@benitolink.com
SUMMARY:SJB City Council
DESCRIPTION:SJB City Hall 05:15 pm – 10:15 pm. Aug. 19 \nAgenda 
URL:https://benitolink.com/event/sjb-city-council/
ATTACH;FMTTYPE=image/png:https://benitolink.com/wp-content/uploads/2019/02/San_Juan_Bautista_California_seal.png
END:VEVENT
BEGIN:VEVENT
DTSTART;TZID=America/Los_Angeles:20250818T183000
DTEND;TZID=America/Los_Angeles:20250818T213000
DTSTAMP:20260423T000117
CREATED:20250815T183752Z
LAST-MODIFIED:20250815T183752Z
UID:10013829-1755541800-1755552600@benitolink.com
SUMMARY:Hollister City Council
DESCRIPTION:Monday\, August 18\, 2025 at 6:30 p.m. \nCity Council Chamber\, City Hall\n375 Fifth Street\, Hollister.\n\nAgenda
URL:https://benitolink.com/event/hollister-city-council-6/
ATTACH;FMTTYPE=image/gif:https://benitolink.com/wp-content/uploads/2025/04/us-cahol.gif
END:VEVENT
BEGIN:VEVENT
DTSTART;TZID=America/Los_Angeles:20250818T160000
DTEND;TZID=America/Los_Angeles:20250818T170000
DTSTAMP:20260423T000117
CREATED:20250814T220804Z
LAST-MODIFIED:20250814T220804Z
UID:10013809-1755532800-1755536400@benitolink.com
SUMMARY:Group Core Class
DESCRIPTION:SBJ core exercises Mondays at 4pm but more of a relationship builder with your significant other or BFF. \nCheck it out and sign up here: https://www.mystichealthwellness.com/private-sessions at 410 Third St\, in San Juan Bautista.
URL:https://benitolink.com/event/group-core-class/2025-08-18/
LOCATION:410 Third St\, San Juan Bautista\, CA 95045\, 410 Third St.\, San Juan Bautista\, CA\, 95045\, United States
CATEGORIES:Sports-Recreation
ATTACH;FMTTYPE=image/avif:https://benitolink.com/wp-content/uploads/2025/08/897cdd_ce2d0b00d18c4dbdb8a0ccd190037ed7mv2.avif
END:VEVENT
BEGIN:VEVENT
DTSTART;TZID=America/Los_Angeles:20250816T190000
DTEND;TZID=America/Los_Angeles:20250816T203000
DTSTAMP:20260423T000117
CREATED:20250728T213510Z
LAST-MODIFIED:20250728T213510Z
UID:10013426-1755370800-1755376200@benitolink.com
SUMMARY:Open Mic (ages 14+)
DESCRIPTION:All are welcome to join a free Open Mic Event at Hills Bookstore!
URL:https://benitolink.com/event/open-mic-ages-14/
LOCATION:Hills Bookstore\, 650 San Benito St Suite #140\,\, Hollister\, CA\, 95023\, United States
CATEGORIES:Arts-Entertainment
ATTACH;FMTTYPE=image/png:https://benitolink.com/wp-content/uploads/2025/07/Open-Mic-1.png
END:VEVENT
END:VCALENDAR