BEGIN:VCALENDAR
VERSION:2.0
PRODID:-//BenitoLink - ECPv6.15.20//NONSGML v1.0//EN
CALSCALE:GREGORIAN
METHOD:PUBLISH
X-WR-CALNAME:BenitoLink
X-ORIGINAL-URL:https://benitolink.com
X-WR-CALDESC:Events for BenitoLink
REFRESH-INTERVAL;VALUE=DURATION:PT1H
X-Robots-Tag:noindex
X-PUBLISHED-TTL:PT1H
BEGIN:VTIMEZONE
TZID:America/Los_Angeles
BEGIN:DAYLIGHT
TZOFFSETFROM:-0800
TZOFFSETTO:-0700
TZNAME:PDT
DTSTART:20130310T100000
END:DAYLIGHT
BEGIN:STANDARD
TZOFFSETFROM:-0700
TZOFFSETTO:-0800
TZNAME:PST
DTSTART:20131103T090000
END:STANDARD
BEGIN:DAYLIGHT
TZOFFSETFROM:-0800
TZOFFSETTO:-0700
TZNAME:PDT
DTSTART:20140309T100000
END:DAYLIGHT
BEGIN:STANDARD
TZOFFSETFROM:-0700
TZOFFSETTO:-0800
TZNAME:PST
DTSTART:20141102T090000
END:STANDARD
BEGIN:DAYLIGHT
TZOFFSETFROM:-0800
TZOFFSETTO:-0700
TZNAME:PDT
DTSTART:20150308T100000
END:DAYLIGHT
BEGIN:STANDARD
TZOFFSETFROM:-0700
TZOFFSETTO:-0800
TZNAME:PST
DTSTART:20151101T090000
END:STANDARD
BEGIN:DAYLIGHT
TZOFFSETFROM:-0800
TZOFFSETTO:-0700
TZNAME:PDT
DTSTART:20160313T100000
END:DAYLIGHT
BEGIN:STANDARD
TZOFFSETFROM:-0700
TZOFFSETTO:-0800
TZNAME:PST
DTSTART:20161106T090000
END:STANDARD
BEGIN:DAYLIGHT
TZOFFSETFROM:-0800
TZOFFSETTO:-0700
TZNAME:PDT
DTSTART:20170312T100000
END:DAYLIGHT
BEGIN:STANDARD
TZOFFSETFROM:-0700
TZOFFSETTO:-0800
TZNAME:PST
DTSTART:20171105T090000
END:STANDARD
BEGIN:DAYLIGHT
TZOFFSETFROM:-0800
TZOFFSETTO:-0700
TZNAME:PDT
DTSTART:20180311T100000
END:DAYLIGHT
BEGIN:STANDARD
TZOFFSETFROM:-0700
TZOFFSETTO:-0800
TZNAME:PST
DTSTART:20181104T090000
END:STANDARD
BEGIN:DAYLIGHT
TZOFFSETFROM:-0800
TZOFFSETTO:-0700
TZNAME:PDT
DTSTART:20190310T100000
END:DAYLIGHT
BEGIN:STANDARD
TZOFFSETFROM:-0700
TZOFFSETTO:-0800
TZNAME:PST
DTSTART:20191103T090000
END:STANDARD
BEGIN:DAYLIGHT
TZOFFSETFROM:-0800
TZOFFSETTO:-0700
TZNAME:PDT
DTSTART:20200308T100000
END:DAYLIGHT
BEGIN:STANDARD
TZOFFSETFROM:-0700
TZOFFSETTO:-0800
TZNAME:PST
DTSTART:20201101T090000
END:STANDARD
BEGIN:DAYLIGHT
TZOFFSETFROM:-0800
TZOFFSETTO:-0700
TZNAME:PDT
DTSTART:20210314T100000
END:DAYLIGHT
BEGIN:STANDARD
TZOFFSETFROM:-0700
TZOFFSETTO:-0800
TZNAME:PST
DTSTART:20211107T090000
END:STANDARD
END:VTIMEZONE
BEGIN:VEVENT
DTSTART;TZID=America/Los_Angeles:20140409T000000
DTEND;TZID=America/Los_Angeles:20170614T235959
DTSTAMP:20260422T164446
CREATED:20140125T032446Z
LAST-MODIFIED:20140125T032446Z
UID:10001222-1397001600-1497484799@benitolink.com
SUMMARY:San Benito County Parks and Recreation Commission
DESCRIPTION:Meeting held in the Chambers of the Board of Supervisors at County Administration Building\, 481 4th St.\, 1st Floor\, Hollister on the first and third Tuesday of the month.  The nine member committee is advisory to the Board of Supervisors\, and is comprised of:  (5) Supervisorial district representatives\, (1) Historical Society representative\, (1) Veterans' Memorial Commission representative\, and (2) Youth Commissioners. \nPhone: 831.636.4000\, #18
URL:https://benitolink.com/event/san-benito-county-parks-and-recreation-commission-3/
CATEGORIES:Government,Meetings,Sports-Recreation
END:VEVENT
BEGIN:VEVENT
DTSTART;TZID=America/Los_Angeles:20140603T000000
DTEND;TZID=America/Los_Angeles:20161206T235959
DTSTAMP:20260422T164447
CREATED:20140520T140000Z
LAST-MODIFIED:20140520T140000Z
UID:10001308-1401753600-1481068799@benitolink.com
SUMMARY:San Benito County Board of Supervisors Meeting
DESCRIPTION:Meeting held in the Chambers of the Board of Supervisors at County Administration Building\, 481 4th St.\, 1st Floor\, Hollister on the first and third Tuesday of the month. \nPhone: 831.636.4000 \nCounty Board of Supervisors web page is here.
URL:https://benitolink.com/event/san-benito-county-board-of-supervisors-meeting-12/
CATEGORIES:Government,Meetings
ATTACH;FMTTYPE=image/jpeg:https://benitolink.com/wp-content/uploads/2013/11/County-Building_0.jpg
END:VEVENT
BEGIN:VEVENT
DTSTART;TZID=America/Los_Angeles:20140618T000000
DTEND;TZID=America/Los_Angeles:20161116T235959
DTSTAMP:20260422T164447
CREATED:20140103T094718Z
LAST-MODIFIED:20140103T094718Z
UID:10001200-1403049600-1479340799@benitolink.com
SUMMARY:San Juan Bautista City Council Meeting
DESCRIPTION:The City Council meets the third Tuesday of each month in Council Chambers at City Hall\, 311 Second Street\, San Juan Bautista at 6:00 pm. \nOur City Council consists of five members elected to serve four-year terms.
URL:https://benitolink.com/event/san-juan-bautista-city-council-meeting-9/
CATEGORIES:Government,Meetings
ATTACH;FMTTYPE=image/jpeg:https://benitolink.com/wp-content/uploads/2014/01/SJB-City-Hall_1.jpg
END:VEVENT
BEGIN:VEVENT
DTSTART;TZID=America/Los_Angeles:20140619T000000
DTEND;TZID=America/Los_Angeles:20200521T235959
DTSTAMP:20260422T164447
CREATED:20140118T024917Z
LAST-MODIFIED:20140118T024917Z
UID:10001216-1403136000-1590105599@benitolink.com
SUMMARY:Monthly San Benito County Planning Commission Meeting
DESCRIPTION:Planning Commission meets every third Wednesday in the Board of Supervisors Chambers at the County Administration Building at 481 Fourth Street in Hollister
URL:https://benitolink.com/event/monthly-san-benito-county-planning-commission-meeting/
CATEGORIES:Government,Lectures
ATTACH;FMTTYPE=image/jpeg:https://benitolink.com/wp-content/uploads/2014/01/County-Building_3.jpg
END:VEVENT
BEGIN:VEVENT
DTSTART;TZID=America/Los_Angeles:20150302T000000
DTEND;TZID=America/Los_Angeles:20160201T235959
DTSTAMP:20260422T164447
CREATED:20150304T041551Z
LAST-MODIFIED:20150304T041551Z
UID:10001448-1425254400-1454371199@benitolink.com
SUMMARY:Hazel Hawkins Hospital Grief Support Group
DESCRIPTION:The Grief Support Group meets at Hazel Hawkins Hospital in the main Hospital Building @ 911 Sunset Drive\, Hollister. Sponsored by the Hospitals Pallative Care Program the Group will provide emotional support\, hope for the future\, a place to talk and what to expect in the months to come. \n For more information contact Sunny Underwood – FNP\, MSN\, PhD\, Certified Grief Recovery Specialist (831) 635-1148
URL:https://benitolink.com/event/hazel-hawkins-hospital-grief-support-group-3/
CATEGORIES:Meetings
END:VEVENT
BEGIN:VEVENT
DTSTART;TZID=America/Los_Angeles:20150504T000000
DTEND;TZID=America/Los_Angeles:20160801T235959
DTSTAMP:20260422T164447
CREATED:20140306T043002Z
LAST-MODIFIED:20140306T043002Z
UID:10001252-1430697600-1470095999@benitolink.com
SUMMARY:Hazel Hawkins Hospital Grief Support Group
DESCRIPTION:The Hazel Hawkins Hospital Grief Support Group meets the first Monday  of each month at 12:00pm (Noon) in the Hospital Board Room located in the main Hospital building at 911 Sunset Drive\, Hollister. Sponsored by the Hospital’s Palliative Care Program\, the Group will provide emotional support\, hope for the future\, a place to talk and what to expect in the months to come. For more information\, please contact: Sunny Underwood\, FNP\, MSN\, PhD. Certified Grief Recovery Specialist (831) 635-1148.
URL:https://benitolink.com/event/hazel-hawkins-hospital-grief-support-group-2/
CATEGORIES:Meetings
ATTACH;FMTTYPE=image/png:https://benitolink.com/wp-content/uploads/2014/03/HHMH-Logo_0.png
END:VEVENT
BEGIN:VEVENT
DTSTART;TZID=America/Los_Angeles:20151014T000000
DTEND;TZID=America/Los_Angeles:20161005T235959
DTSTAMP:20260422T164447
CREATED:20151009T011355Z
LAST-MODIFIED:20151009T011355Z
UID:10001575-1444780800-1475711999@benitolink.com
SUMMARY:Storytime at the County Library
DESCRIPTION:Kids and parents can enjoy stories\, finger plays\, songs\, and crafts. The story time adventure begins in the multipurpose room. Questions about this family program can be answered by visiting the library at 470 5th Street\, in Hollister\, calling the library at 831-636-4107\, or contacting the library online. \nOn Wednesdays we offer the following story times: \n9:30 a.m. Lapsit Story Time \nAges birth to 24 months \n10 a.m. Story Time 1 \nAges 2 and up! \n11 a.m. Story Time 2 \nAges 2 and up
URL:https://benitolink.com/event/storytime-at-the-county-library/
CATEGORIES:Arts-Entertainment
END:VEVENT
BEGIN:VEVENT
DTSTART;TZID=America/Los_Angeles:20151015T000000
DTEND;TZID=America/Los_Angeles:20161006T235959
DTSTAMP:20260422T164447
CREATED:20151009T034407Z
LAST-MODIFIED:20151009T034407Z
UID:10001577-1444867200-1475798399@benitolink.com
SUMMARY:Bilingual Storytime at County Library
DESCRIPTION:The Library and First 5 of San Benito are partnering to offer a bilingual story hour on Thursdays at 4 pm. Kids and parents can enjoy stories\, songs\, and crafts in Spanish and English at the library. \nThe story time adventure begins in the multipurpose room. Questions about this family program can be answered by visiting the library at 470 5th Street\, in Hollister\, calling the library at 831-636-4107\, or contacting the library online.
URL:https://benitolink.com/event/bilingual-storytime-at-county-library/
CATEGORIES:Arts-Entertainment
END:VEVENT
BEGIN:VEVENT
DTSTART;TZID=America/Los_Angeles:20151105T000000
DTEND;TZID=America/Los_Angeles:20161006T235959
DTSTAMP:20260422T164447
CREATED:20151020T000253Z
LAST-MODIFIED:20151020T000253Z
UID:10001582-1446681600-1475798399@benitolink.com
SUMMARY:Memory Impairment Support Group
DESCRIPTION:Are you caring for a family member who has memory impairment? This group is for you! \nDiscover care giving strategies\, practice stress management\, \nshare your joys and challenges.
URL:https://benitolink.com/event/memory-impairment-support-group-2/
CATEGORIES:Meetings
ATTACH;FMTTYPE=image/png:https://benitolink.com/wp-content/uploads/2015/10/Picture1_1.png
END:VEVENT
BEGIN:VEVENT
DTSTART;TZID=America/Los_Angeles:20151105T000000
DTEND;TZID=America/Los_Angeles:20161027T235959
DTSTAMP:20260422T164447
CREATED:20151104T233725Z
LAST-MODIFIED:20151104T233725Z
UID:10001590-1446681600-1477612799@benitolink.com
SUMMARY:#OutofOurMinds on KKUP
DESCRIPTION:Tune in every Wednesday night for #OutofOurMinds the 2nd-longest running #PoetryRadio show in America. Streaming on KKUP.org or tune in to 91.5fm from 8-9pm. More info on www.poetita.com
URL:https://benitolink.com/event/outofourminds-on-kkup/
CATEGORIES:Arts-Entertainment
END:VEVENT
BEGIN:VEVENT
DTSTART;TZID=America/Los_Angeles:20151121T000000
DTEND;TZID=America/Los_Angeles:20160319T235959
DTSTAMP:20260422T164447
CREATED:20151119T061824Z
LAST-MODIFIED:20151119T061824Z
UID:10001598-1448064000-1458431999@benitolink.com
SUMMARY:Household Hazardous Waste Collection
DESCRIPTION:The County of San Benito Integrated Waste Management Regional Agency sponsors Household Hazardous Waste (HHW) collection days.  These events serve the cities of Hollister\, San Juan Bautista\, and the unincorporated areas of San Benito County. The purpose is for residents of San Benito County to lawfully dispose of household hazardous waste that is not accepted by the landfill. Hazardous wastes are any unused or leftover portions of products containing toxic chemicals. There is no charge for dropping off this waste. This program is limited to household hazardous waste generated by residents\, and proof of residency is required.  The limit is either 15 gallons (total) or 125 pounds of material per trip. \nWhat is Household Hazardous Waste?\nAny hazardous waste that you use in your home\, yard\, or garage\, including automotive fluids (oil\, gas\, etc)\, can be brought to the HHW collection event. They will often have POISON\, DANGER\, WARNING\, CAUTION or PRECAUTIONARY STATEMENTS printed on the label.  \nIn the Yard: Pesticides\, Fungicides\, Weed Killers\, Pool Chemicals\, Small Propane Tanks\nIn the Garage: Antifreeze\, Oil & Filters\, Gasoline\, Wash & Polishes\, Auto Batteries\, Engine Cleaners\, Brake Fluid\nIn the Workshop: Paint (all kinds)\, Paint Thinner\, Wood Preservatives\, Glues & Adhesives\, Solvents\, Photo Chemicals\nIn the House: Ammonia Based Cleaners\, Bleach Based Cleaners\, Aerosol Sprays\, Polishes\, Fluorescent Lamps\, Nail Polish & Remover\, Medications & Syringes \nNOT ACCEPTED: Explosives\, Ammunition\, Radioactive Waste\, Biological Waste (syringes & lancets must be in an approved Sharps container available free to San Benito County residents). Call 831-636-4110 for more information. \nFor additional information on collection programs\, call the San Benito County Integrated Waste Management Regional Agency at 831-636-4170
URL:https://benitolink.com/event/household-hazardous-waste-collection/
CATEGORIES:Government
END:VEVENT
BEGIN:VEVENT
DTSTART;TZID=America/Los_Angeles:20160102T000000
DTEND;TZID=America/Los_Angeles:20160102T235959
DTSTAMP:20260422T164447
CREATED:20151112T054340Z
LAST-MODIFIED:20151112T054340Z
UID:10001593-1451692800-1451779199@benitolink.com
SUMMARY:Boy Scout Christmas Tree Pickup
DESCRIPTION:Hollister's Boy Scout Troop 436 and San Juan Bautista's Troop 428 will be providing curbside pick-up service for Christmas trees. The troops are asking for an $8 donation. All trees are recycled. \nOn the pick-up dates\, please leave your tree visible at the curb by 9:00 a.m.\, stripped of all decorations and stands. Trees do not need to be cut in sections. We accept flocked trees. Donations can be left under the doormat. Both cities are served twice on each pick-up date between 9 am and 2 pm. No need to call to give us an address unless you have special instructions. Please call for special pick-ups outside the city limits. \nOn the pick-up dates\, we will also have drop sites available at Veteran's Memorial Park\, and at the San Juan Bautista Scout House. \nFor Hollister trees\, please make checks payable to BSA Troop 436. For San Juan Bautista trees\, please make checks payable to BSA Troop 428. Donations can also be mailed to: BSA Troop 436\, 1760-F Airline Hwy PMB#141\,  Hollister\, CA 95023. Mail donations for San Juan Bautista to BSA Troop 428 P.O. Box 847 San Juan Bautista\, CA 95045. \nIf you have special instructions\, such as directions\, gate codes\, or additional questions\, please call 831-524-4518 in Hollister or 831-636-8360 in San Juan Bautista. \nBoy Scout Troops 436 and 428 thank you for your support.
URL:https://benitolink.com/event/boy-scout-christmas-tree-pickup/
CATEGORIES:Fundraiser
END:VEVENT
BEGIN:VEVENT
DTSTART;TZID=America/Los_Angeles:20160104T000000
DTEND;TZID=America/Los_Angeles:20160104T235959
DTSTAMP:20260422T164447
CREATED:20151112T054636Z
LAST-MODIFIED:20151112T054636Z
UID:10001594-1451865600-1451951999@benitolink.com
SUMMARY:Boy Scout Christmas Tree Pickup
DESCRIPTION:Hollister's Boy Scout Troop 436 and San Juan Bautista's Troop 428 will be providing curbside pick-up service for Christmas trees. The troops are asking for an $8 donation. All trees are recycled. \nOn the pick-up dates\, please leave your tree visible at the curb by 9:00 a.m.\, stripped of all decorations and stands. Trees do not need to be cut in sections. We accept flocked trees. Donations can be left under the doormat. Both cities are served twice on each pick-up date between 9 am and 2 pm. No need to call to give us an address unless you have special instructions. Please call for special pick-ups outside the city limits. \nOn the pick-up dates\, we will also have drop sites available at Veteran's Memorial Park\, and at the San Juan Bautista Scout House. \nFor Hollister trees\, please make checks payable to BSA Troop 436. For San Juan Bautista trees\, please make checks payable to BSA Troop 428. Donations can also be mailed to: BSA Troop 436\, 1760-F Airline Hwy PMB#141\,  Hollister\, CA 95023. Mail donations for San Juan Bautista to BSA Troop 428 P.O. Box 847 San Juan Bautista\, CA 95045. \nIf you have special instructions\, such as directions\, gate codes\, or additional questions\, please call 831-524-4518 in Hollister or 831-636-8360 in San Juan Bautista. \nBoy Scout Troops 436 and 428 thank you for your support. \n 
URL:https://benitolink.com/event/boy-scout-christmas-tree-pickup-2/
CATEGORIES:Fundraiser
END:VEVENT
BEGIN:VEVENT
DTSTART;TZID=America/Los_Angeles:20160109T000000
DTEND;TZID=America/Los_Angeles:20160109T235959
DTSTAMP:20260422T164447
CREATED:20151112T055010Z
LAST-MODIFIED:20151112T055010Z
UID:10001595-1452297600-1452383999@benitolink.com
SUMMARY:Boy Scout Christmas Tree Pickup
DESCRIPTION:Hollister's Boy Scout Troop 436 and San Juan Bautista's Troop 428 will be providing curbside pick-up service for Christmas trees. The troops are asking for an $8 donation. All trees are recycled. \nOn the pick-up dates\, please leave your tree visible at the curb by 9:00 a.m.\, stripped of all decorations and stands. Trees do not need to be cut in sections. We accept flocked trees. Donations can be left under the doormat. Both cities are served twice on each pick-up date between 9 am and 2 pm. No need to call to give us an address unless you have special instructions. Please call for special pick-ups outside the city limits. \nOn the pick-up dates\, we will also have drop sites available at Veteran's Memorial Park\, and at the San Juan Bautista Scout House. \nFor Hollister trees\, please make checks payable to BSA Troop 436. For San Juan Bautista trees\, please make checks payable to BSA Troop 428. Donations can also be mailed to: BSA Troop 436\, 1760-F Airline Hwy PMB#141\,  Hollister\, CA 95023. Mail donations for San Juan Bautista to BSA Troop 428 P.O. Box 847 San Juan Bautista\, CA 95045. \nIf you have special instructions\, such as directions\, gate codes\, or additional questions\, please call 831-524-4518 in Hollister or 831-636-8360 in San Juan Bautista. \nBoy Scout Troops 436 and 428 thank you for your support. \n 
URL:https://benitolink.com/event/boy-scout-christmas-tree-pickup-3/
CATEGORIES:Fundraiser
END:VEVENT
BEGIN:VEVENT
DTSTART;TZID=America/Los_Angeles:20160109T000000
DTEND;TZID=America/Los_Angeles:20160109T235959
DTSTAMP:20260422T164447
CREATED:20160107T040138Z
LAST-MODIFIED:20160107T040138Z
UID:10001612-1452297600-1452383999@benitolink.com
SUMMARY:Open House 1/9 12-3pm 691 Helen Dr Hollister Ca 95023
DESCRIPTION:
URL:https://benitolink.com/event/open-house-1-9-12-3pm-691-helen-dr-hollister-ca-95023/
END:VEVENT
BEGIN:VEVENT
DTSTART;TZID=America/Los_Angeles:20160112T000000
DTEND;TZID=America/Los_Angeles:20160112T235959
DTSTAMP:20260422T164447
CREATED:20151224T012725Z
LAST-MODIFIED:20151224T012725Z
UID:10001610-1452556800-1452643199@benitolink.com
SUMMARY:2040 MTP/SCS EIR Scoping Meeting
DESCRIPTION:As the metropolitan planning organization (MPO) for the tri‐county region of Monterey\, San Benito and Santa Cruz counties\, AMBAG is charged with developing a MTP/SCS. The 2040 MTP/SCS is the metropolitan long‐range transportation plan for the three counties. SBtCOG\, SCCRTC\, TAMC are the state‐designated Regional Transportation Planning Agencies (RTPAs) for San Benito\, Santa Cruz\, and Monterey counties\, respectively. Each RTPA prepares a county‐level long‐range Regional Transportation Plan. The EIR will serve as the Program EIR for the AMBAG 2040 MTP/SCS and for the RTPs prepared by the RTPAs for San Benito\, Santa Cruz\, and Monterey counties. \nThe 2040 MTP/SCS is used to guide the development of the Regional and Federal Transportation Improvement Programs\, as well as other transportation programming documents and plans. The MTP/SCS outlines the region's goals and policies for meeting current and future mobility needs\, providing a foundation for transportation decisions by local\, regional\, and State officials that are ultimately aimed at achieving a coordinated and balanced transportation system. \nThe SCS component of the MTP is required by California Senate Bill 375\, the Sustainable Communities and Climate Protection Act of 2008 (SB 375). SB 375 mandates regional greenhouse gas reduction targets for passenger vehicles and\, pursuant to that law\, the California Air Resources Board (CARB) has established and will update 2020 and 2035 GHG reduction targets for each region covered by one of the state’s MPOs. AMBAG is required to prepare an SCS that demonstrates how updated GHG reduction targets could be met through integrated land use\, housing\, and transportation planning. If the SCS is unable to meet the GHG reduction targets\, then an Alternative Planning Scenario must be prepared. \nThe 2040 MTP/SCS as the metropolitan long‐range transportation plan for the three counties will compile transportation projects and programs included in the County RTPs. Pursuant to §15082 of the California Environmental Quality Act (CEQA)\, AMBAG is soliciting input on the scope and content of the EIR. AMBAG will host three public scoping meetings to solicit input on the scope and content of the EIR. The date\, time and location of the meetings are as follows: \n\nIn San Benito County on January 11\, 2016 from 6:00 PM to 7:30 PM at the County of San Benito Board of Supervisors Chambers\, 481 Fourth Street\, Hollister\, CA\nIn Santa Cruz County on January 27\, 2016 from 6:30 PM to 8:00 PM at the Aptos Library\, 7695 Soquel Drive\, Aptos\, CA\nIn Monterey County on January 28\, 2016 from 6:00 PM to 7:30 PM at the Cesar Chavez Library\, 615 Williams Road\, Salinas\, CA
URL:https://benitolink.com/event/2040-mtp-scs-eir-scoping-meeting/
CATEGORIES:Government
ATTACH;FMTTYPE=image/jpeg:https://benitolink.com/wp-content/uploads/2015/12/AMBAG_newlogo.jpg
END:VEVENT
BEGIN:VEVENT
DTSTART;TZID=America/Los_Angeles:20160112T000000
DTEND;TZID=America/Los_Angeles:20170110T235959
DTSTAMP:20260422T164447
CREATED:20161127T133918Z
LAST-MODIFIED:20161127T133918Z
UID:10001838-1452556800-1484092799@benitolink.com
SUMMARY:San Benito County Supervisors Meeting
DESCRIPTION:The County Board of Supervisors will recognize the public trust it holds\, will on all occasions conduct business with honesty\, integrity\, and respect for the individual\, and will hold the organization of County government to that same standard.  The Board of Supervisors is the governing body of the County and certain special districts.  The Board enacts ordinances and resolutions\, appropriates funds\, determines land use zoning for unincorporated area\, and appoints certain County officers\, including members of various boards and commissions.
URL:https://benitolink.com/event/san-benito-county-supervisors-meeting/
CATEGORIES:Government,Meetings,Rally-Causes,Schools
END:VEVENT
BEGIN:VEVENT
DTSTART;TZID=America/Los_Angeles:20160113T000000
DTEND;TZID=America/Los_Angeles:20170111T235959
DTSTAMP:20260422T164447
CREATED:20161214T045049Z
LAST-MODIFIED:20161214T045049Z
UID:10001859-1452643200-1484179199@benitolink.com
SUMMARY:San Benito High School Board of Trustees Meeting
DESCRIPTION:
URL:https://benitolink.com/event/san-benito-high-school-board-of-trustees-meeting/
CATEGORIES:Government,Meetings,Neighborhood Associations,Schools,Sports-Recreation
END:VEVENT
BEGIN:VEVENT
DTSTART;TZID=America/Los_Angeles:20160118T000000
DTEND;TZID=America/Los_Angeles:20160118T235959
DTSTAMP:20260422T164447
CREATED:20160113T030701Z
LAST-MODIFIED:20160113T030701Z
UID:10001617-1453075200-1453161599@benitolink.com
SUMMARY:Martin Luther King Jr. Leadership Breakfast
DESCRIPTION:Martin Luther King Jr. "The Dream in Action"  \nThis year’s celebration will feature a commemorative Civil Rights March beginning at San Juan Oaks parking lot. The march will begin at 8:30 a.m.\, and is open to all. The program will begin at 9:00 a. m.\, and will feature the wonderful EMA Choir\, MLK Praise Dancers\, and much more! The Ceremony will also feature a presentation by the winner of the Leadership Technology Workshop contest plus a silent auction. \nFeatured Speakers \nKarina Cervantez Alejo\, 30th Assembly District candidate\, Watsonville city councilwoman\, Cal State Monterey Bay Adjunct Faculty \nDr. Mary Bains\, Licensed psychotherapist\, psychologist\, lecturer\, musician\, trainer and writer \n  \nCommunity Awards: \nPastor Gerald E. Harris\, Bethany Community Church \nRolanda Pierre Dixon\, Former Assistant District Attorney\, Santa Clara County \nJim Gibson\, owner\, Baylor\, Hollister Super and Windmill Markets \nFrank Rivera\, owner\, 8-Ball Bail Bonds \n  \nAdmission $35 and Parking is Free \nFor tickets contact Elvira Zaragoza Robinson (831) 801-5530 or ShaRon Mills (831) 245-3900 \n  \nSan Juan Oaks Golf Club\, 3825 Union Road\, Hollister\, CA 95023
URL:https://benitolink.com/event/martin-luther-king-jr-leadership-breakfast/
CATEGORIES:Arts-Entertainment,Fairs-Festivals,Fundraiser,Neighborhood Associations
END:VEVENT
BEGIN:VEVENT
DTSTART;TZID=America/Los_Angeles:20160121T000000
DTEND;TZID=America/Los_Angeles:20160121T235959
DTSTAMP:20260422T164447
CREATED:20160113T030109Z
LAST-MODIFIED:20160113T030109Z
UID:10001615-1453334400-1453420799@benitolink.com
SUMMARY:Free Parenting Workshop: Tips for Talking to your Teens
DESCRIPTION:Free workshops for parents: Tips for talking to your teens about relationships and social media \nWednesday\, January 20\, 2016 \n"Moving from a Relationship Bystander to a Relationship Upstander" \nAdditional workshops: \nWednesday\, February3\, 2016 "Developing Healthy Relationships" \nWednesday\, March 2\, 2016 "Parenting in the Digital Age" \nQuestions? Please contact: Viridiana Morales at 408-776-6202 or viridiana.morales@communitysolutions.org \nWorkshops sponsored by Community Solutions in association with San Benito High School.
URL:https://benitolink.com/event/free-parenting-workshop-tips-for-talking-to-your-teens/
CATEGORIES:Workshop-Training
END:VEVENT
BEGIN:VEVENT
DTSTART;TZID=America/Los_Angeles:20160127T000000
DTEND;TZID=America/Los_Angeles:20170201T235959
DTSTAMP:20260422T164447
CREATED:20161214T045659Z
LAST-MODIFIED:20161214T045659Z
UID:10001860-1453852800-1485993599@benitolink.com
SUMMARY:San Benito High School Board of Trustees Meeting
DESCRIPTION:
URL:https://benitolink.com/event/san-benito-high-school-board-of-trustees-meeting-2/
CATEGORIES:Government,Meetings,Neighborhood Associations,Schools,Sports-Recreation
END:VEVENT
BEGIN:VEVENT
DTSTART;TZID=America/Los_Angeles:20160130T000000
DTEND;TZID=America/Los_Angeles:20160130T235959
DTSTAMP:20260422T164447
CREATED:20151116T035031Z
LAST-MODIFIED:20151116T035031Z
UID:10001596-1454112000-1454198399@benitolink.com
SUMMARY:Mission 10 Run coming January 30
DESCRIPTION:The Rotary Club of Hollister was one of the first Rotary Clubs established in California. The club has prided itself on providing vast support to the community in the form of monetary contributions for student scholarships\, contributions to athletic programs\, and providing a large base of volunteers that help support many programs around the community and world wide. \nThe event is comprised of a 5K Race\, a 10 Mile Race and a 1 Mile Fun Run. This year we are also very excited to be adding a half-marathon. The 5K\, 10 mile\, and half marathon races will be professionally timed by South Valley Endurance. The 5K has been popular with both competitive and casual runners. \nWalkers are also welcomed for the 5K and 1 Mile Fun Run. The 10 mile race has been TAC Certified\, and will take participants on a route through the scenic farmland and hills outside of San Juan Bautista. The 1/2 Marathon and 10 mile distance races provide a great training base for spring marathons. We are trying to grow this event while still maintaining the qualities appreciated by the runners who have made the Mission 10 a destination for years. Please tell your friends! \nFor more information: contact Bill Tiffany (831) 637-0071FAX (831) 637-0092; email: wgtt@sbcglobal.net or markcvivian@aol.com \nRegister online at http://mission10.racemine.com/ \nLike and follow us on Facebook to stay updated on race day news.  \nVisit Rotary Club of Hollister at www.hollisterrotary.org for mail-in registration\, sponsorship and volunteer opportunities.
URL:https://benitolink.com/event/mission-10-run-coming-january-30/
CATEGORIES:Fundraiser,Sports-Recreation
ATTACH;FMTTYPE=image/jpeg:https://benitolink.com/wp-content/uploads/2015/11/Flyer-2-Save-the-Date.jpg
END:VEVENT
BEGIN:VEVENT
DTSTART;TZID=America/Los_Angeles:20160130T000000
DTEND;TZID=America/Los_Angeles:20160130T235959
DTSTAMP:20260422T164447
CREATED:20151208T024150Z
LAST-MODIFIED:20151208T024150Z
UID:10001608-1454112000-1454198399@benitolink.com
SUMMARY:Caregiver University Conference
DESCRIPTION:Are you caring for a loved one with memory impairment? You are not alone. Join us for Caregiver University 2016\, a free conference for caregivers featuring workshops and presentations from doctors and local experts. Topics include: Multiple Causes of Memory Loss\, What's Out There For You and Your Loved One\, and Tips for Preventing Caregiver Burnout. There is a FREE lunch and resource fair. Workshops will be translated into Spanish. To register\, visit www.delmarcaregiver.org or call Health Projects Center at 831-459-6639.
URL:https://benitolink.com/event/caregiver-university-conference/
CATEGORIES:Workshop-Training
ATTACH;FMTTYPE=image/png:https://benitolink.com/wp-content/uploads/2015/12/CU-PICTURE.png
END:VEVENT
END:VCALENDAR