BEGIN:VCALENDAR
VERSION:2.0
PRODID:-//BenitoLink - ECPv6.15.20//NONSGML v1.0//EN
CALSCALE:GREGORIAN
METHOD:PUBLISH
X-ORIGINAL-URL:https://benitolink.com
X-WR-CALDESC:Events for BenitoLink
REFRESH-INTERVAL;VALUE=DURATION:PT1H
X-Robots-Tag:noindex
X-PUBLISHED-TTL:PT1H
BEGIN:VTIMEZONE
TZID:America/Los_Angeles
BEGIN:DAYLIGHT
TZOFFSETFROM:-0800
TZOFFSETTO:-0700
TZNAME:PDT
DTSTART:20250309T100000
END:DAYLIGHT
BEGIN:STANDARD
TZOFFSETFROM:-0700
TZOFFSETTO:-0800
TZNAME:PST
DTSTART:20251102T090000
END:STANDARD
BEGIN:DAYLIGHT
TZOFFSETFROM:-0800
TZOFFSETTO:-0700
TZNAME:PDT
DTSTART:20260308T100000
END:DAYLIGHT
BEGIN:STANDARD
TZOFFSETFROM:-0700
TZOFFSETTO:-0800
TZNAME:PST
DTSTART:20261101T090000
END:STANDARD
BEGIN:DAYLIGHT
TZOFFSETFROM:-0800
TZOFFSETTO:-0700
TZNAME:PDT
DTSTART:20270314T100000
END:DAYLIGHT
BEGIN:STANDARD
TZOFFSETFROM:-0700
TZOFFSETTO:-0800
TZNAME:PST
DTSTART:20271107T090000
END:STANDARD
END:VTIMEZONE
BEGIN:VEVENT
DTSTART;TZID=America/Los_Angeles:20260122T170000
DTEND;TZID=America/Los_Angeles:20260122T190000
DTSTAMP:20260423T222505
CREATED:20251230T211416Z
LAST-MODIFIED:20251230T211416Z
UID:10015345-1769101200-1769108400@benitolink.com
SUMMARY:Book Presentation: Time Well Spent by Sharlene Van Rooy
DESCRIPTION:Join us for refreshments and a presentation by author Sharlene Van Rooy on Dr. Frederick H. Matteson’s life and impact.
URL:https://benitolink.com/event/book-presentation-time-well-spent-by-sharlene-van-rooy/
LOCATION:Community Foundation Epicenter\, 440 San Benito St\, Hollister\, CA.
CATEGORIES:Arts-Entertainment
ATTACH;FMTTYPE=image/png:https://benitolink.com/wp-content/uploads/2025/12/Time-Well-Spent.png
END:VEVENT
END:VCALENDAR