BEGIN:VCALENDAR
VERSION:2.0
PRODID:-//BenitoLink - ECPv6.15.20//NONSGML v1.0//EN
CALSCALE:GREGORIAN
METHOD:PUBLISH
X-WR-CALNAME:BenitoLink
X-ORIGINAL-URL:https://benitolink.com
X-WR-CALDESC:Events for BenitoLink
REFRESH-INTERVAL;VALUE=DURATION:PT1H
X-Robots-Tag:noindex
X-PUBLISHED-TTL:PT1H
BEGIN:VTIMEZONE
TZID:America/Los_Angeles
BEGIN:DAYLIGHT
TZOFFSETFROM:-0800
TZOFFSETTO:-0700
TZNAME:PDT
DTSTART:20230312T100000
END:DAYLIGHT
BEGIN:STANDARD
TZOFFSETFROM:-0700
TZOFFSETTO:-0800
TZNAME:PST
DTSTART:20231105T090000
END:STANDARD
BEGIN:DAYLIGHT
TZOFFSETFROM:-0800
TZOFFSETTO:-0700
TZNAME:PDT
DTSTART:20240310T100000
END:DAYLIGHT
BEGIN:STANDARD
TZOFFSETFROM:-0700
TZOFFSETTO:-0800
TZNAME:PST
DTSTART:20241103T090000
END:STANDARD
BEGIN:DAYLIGHT
TZOFFSETFROM:-0800
TZOFFSETTO:-0700
TZNAME:PDT
DTSTART:20250309T100000
END:DAYLIGHT
BEGIN:STANDARD
TZOFFSETFROM:-0700
TZOFFSETTO:-0800
TZNAME:PST
DTSTART:20251102T090000
END:STANDARD
END:VTIMEZONE
BEGIN:VEVENT
DTSTART;TZID=America/Los_Angeles:20241107T153000
DTEND;TZID=America/Los_Angeles:20241107T163000
DTSTAMP:20260425T105256
CREATED:20241018T201319Z
LAST-MODIFIED:20241022T165429Z
UID:10005035-1730993400-1730997000@benitolink.com
SUMMARY:Community MHSA Education and Listening Meeting
DESCRIPTION:Everyone experiences mental health issues at some point in their life\, such as grief\, anxiety\, suicidal thoughts\, depression\, substance abuse to cope or even an undiagnosed mental condition. Mental health services are so vital to our community and San Benito County Behavioral Health invites you to come and learn more about what we do and help us shape the future of those services.
URL:https://benitolink.com/event/community-mhsa-education-and-listening-meeting-5/2024-11-07/
LOCATION:Behavioral Health\, 1131 Community Parkway\, Hollister\, CA\, 95023\, United States
ATTACH;FMTTYPE=image/jpeg:https://benitolink.com/wp-content/uploads/2024/10/CPPP-Nov-2024-ENG-1.jpg
ORGANIZER;CN="San Benito County Behavioral Health":MAILTO:lcoombes@sanbenitocountyca.gov
END:VEVENT
BEGIN:VEVENT
DTSTART;TZID=America/Los_Angeles:20241106T140000
DTEND;TZID=America/Los_Angeles:20241106T150000
DTSTAMP:20260425T105256
CREATED:20241018T201319Z
LAST-MODIFIED:20241022T165429Z
UID:10005031-1730901600-1730905200@benitolink.com
SUMMARY:Community MHSA Education and Listening Meeting
DESCRIPTION:Everyone experiences mental health issues at some point in their life\, such as grief\, anxiety\, suicidal thoughts\, depression\, substance abuse to cope or even an undiagnosed mental condition. Mental health services are so vital to our community and San Benito County Behavioral Health invites you to come and learn more about what we do and help us shape the future of those services.
URL:https://benitolink.com/event/community-mhsa-education-and-listening-meeting-5/2024-11-06/
LOCATION:Behavioral Health\, 1131 Community Parkway\, Hollister\, CA\, 95023\, United States
ATTACH;FMTTYPE=image/jpeg:https://benitolink.com/wp-content/uploads/2024/10/CPPP-Nov-2024-ENG-1.jpg
ORGANIZER;CN="San Benito County Behavioral Health":MAILTO:lcoombes@sanbenitocountyca.gov
END:VEVENT
BEGIN:VEVENT
DTSTART;TZID=America/Los_Angeles:20240528T153000
DTEND;TZID=America/Los_Angeles:20240528T163000
DTSTAMP:20260425T105256
CREATED:20240515T011834Z
LAST-MODIFIED:20240515T011834Z
UID:10004290-1716910200-1716913800@benitolink.com
SUMMARY:Mental Health Community Education and Input Meeting [English]
DESCRIPTION:Everyone experiences mental health issues at some point in their life\, such as grief\, anxiety\, suicidal thoughts\, depression\, substance abuse to cope or even an undiagnosed mental condition.\nMental health services are so vital to our community and San Benito County Behavioral Health invites you to come and learn more about what we do and help us shape the future of those services.
URL:https://benitolink.com/event/mental-health-community-education-and-input-meeting-english/
LOCATION:Behavioral Health\, 1131 Community Parkway\, Hollister\, CA\, 95023\, United States
ATTACH;FMTTYPE=image/jpeg:https://benitolink.com/wp-content/uploads/2024/05/2024-May-CPPP-ENG-For-Public-1.jpg
ORGANIZER;CN="San Benito County Behavioral Health":MAILTO:lcoombes@sanbenitocountyca.gov
END:VEVENT
END:VCALENDAR