BEGIN:VCALENDAR
VERSION:2.0
PRODID:-//BenitoLink - ECPv6.15.20//NONSGML v1.0//EN
CALSCALE:GREGORIAN
METHOD:PUBLISH
X-ORIGINAL-URL:https://benitolink.com
X-WR-CALDESC:Events for BenitoLink
REFRESH-INTERVAL;VALUE=DURATION:PT1H
X-Robots-Tag:noindex
X-PUBLISHED-TTL:PT1H
BEGIN:VTIMEZONE
TZID:America/Los_Angeles
BEGIN:DAYLIGHT
TZOFFSETFROM:-0800
TZOFFSETTO:-0700
TZNAME:PDT
DTSTART:20180311T100000
END:DAYLIGHT
BEGIN:STANDARD
TZOFFSETFROM:-0700
TZOFFSETTO:-0800
TZNAME:PST
DTSTART:20181104T090000
END:STANDARD
BEGIN:DAYLIGHT
TZOFFSETFROM:-0800
TZOFFSETTO:-0700
TZNAME:PDT
DTSTART:20190310T100000
END:DAYLIGHT
BEGIN:STANDARD
TZOFFSETFROM:-0700
TZOFFSETTO:-0800
TZNAME:PST
DTSTART:20191103T090000
END:STANDARD
BEGIN:DAYLIGHT
TZOFFSETFROM:-0800
TZOFFSETTO:-0700
TZNAME:PDT
DTSTART:20200308T100000
END:DAYLIGHT
BEGIN:STANDARD
TZOFFSETFROM:-0700
TZOFFSETTO:-0800
TZNAME:PST
DTSTART:20201101T090000
END:STANDARD
BEGIN:DAYLIGHT
TZOFFSETFROM:-0800
TZOFFSETTO:-0700
TZNAME:PDT
DTSTART:20210314T100000
END:DAYLIGHT
BEGIN:STANDARD
TZOFFSETFROM:-0700
TZOFFSETTO:-0800
TZNAME:PST
DTSTART:20211107T090000
END:STANDARD
BEGIN:DAYLIGHT
TZOFFSETFROM:-0800
TZOFFSETTO:-0700
TZNAME:PDT
DTSTART:20220313T100000
END:DAYLIGHT
BEGIN:STANDARD
TZOFFSETFROM:-0700
TZOFFSETTO:-0800
TZNAME:PST
DTSTART:20221106T090000
END:STANDARD
BEGIN:DAYLIGHT
TZOFFSETFROM:-0800
TZOFFSETTO:-0700
TZNAME:PDT
DTSTART:20230312T100000
END:DAYLIGHT
BEGIN:STANDARD
TZOFFSETFROM:-0700
TZOFFSETTO:-0800
TZNAME:PST
DTSTART:20231105T090000
END:STANDARD
BEGIN:DAYLIGHT
TZOFFSETFROM:-0800
TZOFFSETTO:-0700
TZNAME:PDT
DTSTART:20240310T100000
END:DAYLIGHT
BEGIN:STANDARD
TZOFFSETFROM:-0700
TZOFFSETTO:-0800
TZNAME:PST
DTSTART:20241103T090000
END:STANDARD
BEGIN:DAYLIGHT
TZOFFSETFROM:-0800
TZOFFSETTO:-0700
TZNAME:PDT
DTSTART:20250309T100000
END:DAYLIGHT
BEGIN:STANDARD
TZOFFSETFROM:-0700
TZOFFSETTO:-0800
TZNAME:PST
DTSTART:20251102T090000
END:STANDARD
BEGIN:DAYLIGHT
TZOFFSETFROM:-0800
TZOFFSETTO:-0700
TZNAME:PDT
DTSTART:20260308T100000
END:DAYLIGHT
BEGIN:STANDARD
TZOFFSETFROM:-0700
TZOFFSETTO:-0800
TZNAME:PST
DTSTART:20261101T090000
END:STANDARD
END:VTIMEZONE
BEGIN:VEVENT
DTSTART;TZID=America/Los_Angeles:20250618T100000
DTEND;TZID=America/Los_Angeles:20250618T140000
DTSTAMP:20260420T210300
CREATED:20250513T172031Z
LAST-MODIFIED:20250604T204835Z
UID:10010672-1750240800-1750255200@benitolink.com
SUMMARY:31st Annual Kids at the Park
DESCRIPTION:Date: Wednesday\, June 18th\, 2025\nTime: 10:00 AM – 2:00 PM\nLocation: Dunne Park 600 West St. Hollister CA \nGet ready for a day of family fun\, free resources\, raffles\, and prizes at this beloved annual event! Join the Safe Kids Coalition in collaboration with San Benito County agencies and community partners as we celebrate kids and families with exciting activities\, helpful information\, and entertainment for all ages. \n✅ Games & Activities\n✅ Community Resources\n✅ Giveaways & Raffles\n✅ Fun for the Whole Family! \n📞 For more information\, call: 831-637-5367 \n📲 Use the link below to Pre-Register and skip the lines! Registration for the event is Required. \nLink to Kids at the Park registration: https://bit.ly/4j4qz2p \nDon’t miss out on one of San Benito County’s favorite summer traditions—we can’t wait to see you at the park! \n#KidsAtThePark2025 #SanBenitoCounty #CityofHollister #FamilyFunDay #CommunityEvent #FreeFamilyEvent #SummerInSanBenito #LocalResources #FamilyRafflesAndPrizes #KidsActivities #SBCKidsEvent #HealthyFamiliesSBC #PlayLearnGrow #SanBenitoEvents #CelebrateCommunity #FunInThePark #ParksMakeLifeBetter
URL:https://benitolink.com/event/31st-annual-kids-at-the-park/
LOCATION:Dunne Park\, 600 West Street\, Hollister\, United States America
CATEGORIES:Arts-Entertainment,Exhibit,Fairs-Festivals,Government,Sports-Recreation,Volunteer
ATTACH;FMTTYPE=image/png:https://benitolink.com/wp-content/uploads/2025/05/Kids-at-the-Park-English-Flyer-.png
ORGANIZER;CN="Safe Kids Coalition":MAILTO:safekids@cosb.us
END:VEVENT
BEGIN:VEVENT
DTSTART;TZID=America/Los_Angeles:20241220T180000
DTEND;TZID=America/Los_Angeles:20241222T160000
DTSTAMP:20260420T210300
CREATED:20241210T211755Z
LAST-MODIFIED:20241210T211755Z
UID:10005281-1734717600-1734883200@benitolink.com
SUMMARY:Holiday Ice Rink at Dunne Park
DESCRIPTION:🎄⛸❄️Come celebrate the season at the Parks and Recreation Department’s Holiday Ice Rink! Enjoy the fun on Friday\, December 20\, from 6 PM to 9 PM\, Saturday\, December 21\, from 4 PM to 8 PM\, and Sunday\, December 22\, from 12 PM to 4 PM. Local vendors\, including The Perfect Blend\, Ivan’s Baked Potatoes\, Tacos la Cascada\, El Guapo\, Steak Stop and Lilly’s Fresh Fruit will be on-site. Don’t miss the chance to support these amazing businesses! To pre-register visit webtrac.hollister.ca.gov\n🎄⛸❄️¡Ven a celebrar la temporada en la pista de hielo navideña del Departamento de Parques y Recreación! Disfruta de la diversión el viernes 20 de diciembre\, de 6 p. m. a 9 p. m.\, el sábado 21 de diciembre\, de 4 p. m. a 8 p. m. y el domingo 22 de diciembre\, de 12 p. m. a 4 p. m. Los vendedores locales\, incluyendo The Perfect Blend\, Ivan’s Baked Potatoes\, Tacos la Cascada\, El Guapo\, Steakstop y Lilly’s Fresh Fruit\, estarán en el lugar. ¡No pierdas la oportunidad de apoyar a estos increíbles negocios! Para registrarse\, visite webtrac.hollister.ca.gov
URL:https://benitolink.com/event/holiday-ice-rink-at-dunne-park/
LOCATION:Dunne Park\, 600 West Street\, Hollister\, United States America
CATEGORIES:Sports-Recreation
ATTACH;FMTTYPE=image/png:https://benitolink.com/wp-content/uploads/2024/12/Ice-Rink-English.png
END:VEVENT
BEGIN:VEVENT
DTSTART;TZID=America/Los_Angeles:20240615T100000
DTEND;TZID=America/Los_Angeles:20240615T150000
DTSTAMP:20260420T210300
CREATED:20240423T023912Z
LAST-MODIFIED:20240423T023912Z
UID:10004260-1718445600-1718463600@benitolink.com
SUMMARY:Sixth Annual Hollister Pride Event!
DESCRIPTION:Join in the ceremonial raising of the Progressive Pride Flag outside City Hall at 10am then a Rainbow March to Dunne Park for the remainder of the event.\nThere will be entertainment\, music\, food\, resources\, fun activities\, raffle and more! \nThis event is organized by San Benito County Behavioral Health with SanBenito+ Peer Mentors and the Hollister Parks and Recreation \nIf you would like to have a resource booth at the event\, or be a volunteer on the day\, please contact bpenilla@sbcmh.org
URL:https://benitolink.com/event/sixth-annual-hollister-pride-event/
LOCATION:City of Hollister City Hall\, 375 5th Ste.\, Hollister\, United States America
CATEGORIES:Fairs-Festivals
ATTACH;FMTTYPE=image/jpeg:https://benitolink.com/wp-content/uploads/2024/04/Pride-2024-Save-Date-ENG.jpg
ORGANIZER;CN="San Benito County Behavioral Health":MAILTO:lcoombes@sanbenitocountyca.gov
END:VEVENT
BEGIN:VEVENT
DTSTART;TZID=America/Los_Angeles:20211218T100000
DTEND;TZID=America/Los_Angeles:20211218T210000
DTSTAMP:20260420T210300
CREATED:20211206T173828Z
LAST-MODIFIED:20211206T173828Z
UID:10003001-1639821600-1639861200@benitolink.com
SUMMARY:Hollister Recreation's Christmas in the Park
DESCRIPTION:Christmas in the Park kicks off with photos with Santa at the Dunne Park Club House from 10:00 a.m.-1:00 p.m. and ice skating from 12:00 -9:00 p.m. Join to community at Dunne Park from 4:00 -9:00 p.m. for live music\, entertainment\, Battlefield Laser Tag\, food vendors\, and Makers Market.\n\n\nVavidad en el parque comienza con fotos con Santa en el Dunne Park Club House de 10:00 a.m. a 1:00 p.m. y patinaje sobre hielo de 12:00 -9:00 p.m . Únase a nosotros en Dunne Park de 4:00  – 9:00 p.m. Para disfrutar de música en vivo\, entretenimiento\, Battlefield Laser Tag\, vendedores de comida y Makers Market.
URL:https://benitolink.com/event/hollister-recreations-christmas-in-the-park/
LOCATION:Dunne Park\, 600 West Street\, Hollister\, United States America
ATTACH;FMTTYPE=image/jpeg:https://benitolink.com/wp-content/uploads/2021/12/Event-Flyer.jpg
END:VEVENT
BEGIN:VEVENT
DTSTART;TZID=America/Los_Angeles:20190517T173000
DTEND;TZID=America/Los_Angeles:20190727T190000
DTSTAMP:20260420T210300
CREATED:20190510T081415Z
LAST-MODIFIED:20190510T081415Z
UID:10002471-1558114200-1564254000@benitolink.com
SUMMARY:Dance at Dunne
DESCRIPTION:Come join us every Friday for Dance @ Dunne. Free\, all ages.
URL:https://benitolink.com/event/dance-at-dunne/
LOCATION:Dunne Park\, 600 West Street\, Hollister\, United States America
END:VEVENT
END:VCALENDAR