BEGIN:VCALENDAR
VERSION:2.0
PRODID:-//BenitoLink - ECPv6.15.20//NONSGML v1.0//EN
CALSCALE:GREGORIAN
METHOD:PUBLISH
X-ORIGINAL-URL:https://benitolink.com
X-WR-CALDESC:Events for BenitoLink
REFRESH-INTERVAL;VALUE=DURATION:PT1H
X-Robots-Tag:noindex
X-PUBLISHED-TTL:PT1H
BEGIN:VTIMEZONE
TZID:America/Los_Angeles
BEGIN:DAYLIGHT
TZOFFSETFROM:-0800
TZOFFSETTO:-0700
TZNAME:PDT
DTSTART:20180311T100000
END:DAYLIGHT
BEGIN:STANDARD
TZOFFSETFROM:-0700
TZOFFSETTO:-0800
TZNAME:PST
DTSTART:20181104T090000
END:STANDARD
BEGIN:DAYLIGHT
TZOFFSETFROM:-0800
TZOFFSETTO:-0700
TZNAME:PDT
DTSTART:20190310T100000
END:DAYLIGHT
BEGIN:STANDARD
TZOFFSETFROM:-0700
TZOFFSETTO:-0800
TZNAME:PST
DTSTART:20191103T090000
END:STANDARD
BEGIN:DAYLIGHT
TZOFFSETFROM:-0800
TZOFFSETTO:-0700
TZNAME:PDT
DTSTART:20200308T100000
END:DAYLIGHT
BEGIN:STANDARD
TZOFFSETFROM:-0700
TZOFFSETTO:-0800
TZNAME:PST
DTSTART:20201101T090000
END:STANDARD
END:VTIMEZONE
BEGIN:VEVENT
DTSTART;TZID=America/Los_Angeles:20190826T173000
DTEND;TZID=America/Los_Angeles:20190826T184500
DTSTAMP:20260424T170615
CREATED:20190821T143627Z
LAST-MODIFIED:20190821T143627Z
UID:10002506-1566840600-1566845100@benitolink.com
SUMMARY:Oriana Youth Chorus
DESCRIPTION:Oriana Youth Chorus will begin rehearsals on Monday\, August 26 at 5:30 at Christ Fellowship Church. All children 7 to 17 are welcome to join. \nThis is a community choir and will be singing with San Benito Oriana Chorale at their Winter Concerts this December. \nIf your child loves to sing\, come and check it out!
URL:https://benitolink.com/event/oriana-youth-chorus/
LOCATION:Mission San Juan Bautista\, 406 2nd Street\, San Juan Bautista\, CA\, 95045
ATTACH;FMTTYPE=image/jpeg:https://benitolink.com/wp-content/uploads/2019/08/Join_the_Choir_COLOR1-1.jpg
END:VEVENT
BEGIN:VEVENT
DTSTART;TZID=America/Los_Angeles:20190807T000000
DTEND;TZID=America/Los_Angeles:20190830T235959
DTSTAMP:20260424T170615
CREATED:20190822T182830Z
LAST-MODIFIED:20190822T182830Z
UID:10002511-1565136000-1567209599@benitolink.com
SUMMARY:Oriana Chorale winter season rehearsals
DESCRIPTION:Oriana Chorale will begin rehearsing for their 2019 Christmas concerts. All singers are welcome. There are no auditions- just come and give us a try. Rehearsals start Monday\, August 26 at 7:15 pm at Christ Fellowship Church\, 2066 San Benito St in Hollister.
URL:https://benitolink.com/event/oriana-chorale-winter-season-rehearsals/
LOCATION:Mission San Juan Bautista\, 406 2nd Street\, San Juan Bautista\, CA\, 95045
END:VEVENT
BEGIN:VEVENT
DTSTART;TZID=America/Los_Angeles:20190519T150000
DTEND;TZID=America/Los_Angeles:20190519T150000
DTSTAMP:20260424T170615
CREATED:20190505T064430Z
LAST-MODIFIED:20190505T064430Z
UID:10002464-1558278000-1558278000@benitolink.com
SUMMARY:San Benito Oriana Chorale Presents "Bach to Rock"
DESCRIPTION:The San Benito Oriana Chorale “From Bach to Rock” concert season begins Friday\, May 17 at 7:30 p.m. \nA second concert will follow Sunday\, May 19 at 3:00 p.m. Both concerts will be held at Christ Fellowship Church\, 2066 San Benito Street in Hollister. \nTickets are available at Postal Graphics\, from Oriana Chorale members and at the door. \n$15 in advance\, $20 at the door\, $10 students\, 12 and under free \n 
URL:https://benitolink.com/event/san-benito-oriana-chorale-presents-bach-to-rock/
LOCATION:Mission San Juan Bautista\, 406 2nd Street\, San Juan Bautista\, CA\, 95045
ATTACH;FMTTYPE=image/jpeg:https://benitolink.com/wp-content/uploads/2019/05/Oriana-Chorale-5X7_0.jpg
END:VEVENT
BEGIN:VEVENT
DTSTART;TZID=America/Los_Angeles:20190517T190000
DTEND;TZID=America/Los_Angeles:20190517T193000
DTSTAMP:20260424T170615
CREATED:20190504T062939Z
LAST-MODIFIED:20190504T062939Z
UID:10002461-1558119600-1558121400@benitolink.com
SUMMARY:Bach To Rock
DESCRIPTION:San Benito Oriana Chorale presents “Bach to Rock”. Featuring the music of classical and modern compossers. \nFriday\, May 17 at 7:30 p.m. \nSunday\, May 19 at 3 p.m. \nTickets at Postal Graphics: $15 advanced\, $20 at the door\, $10 students.
URL:https://benitolink.com/event/bach-to-rock-2/
LOCATION:Mission San Juan Bautista\, 406 2nd Street\, San Juan Bautista\, CA\, 95045
ATTACH;FMTTYPE=image/jpeg:https://benitolink.com/wp-content/uploads/2019/05/Oriana-Chorale-5X7.jpg
END:VEVENT
BEGIN:VEVENT
DTSTART;TZID=America/Los_Angeles:20190517T190000
DTEND;TZID=America/Los_Angeles:20190517T190000
DTSTAMP:20260424T170615
CREATED:20190423T093806Z
LAST-MODIFIED:20190423T093806Z
UID:10002436-1558119600-1558119600@benitolink.com
SUMMARY:Bach To Rock
DESCRIPTION:San Benito Oriana Chorale presents “Bach to Rock”. Featuring the music of classical and modern compossers. \nFriday\, May 17 at 7:30 p.m. \nSunday\, May 19 at 3 p.m. \nTickets at Postal Graphics: $15 advanced\, $20 at the door\, $10 students.
URL:https://benitolink.com/event/bach-to-rock/
LOCATION:Mission San Juan Bautista\, 406 2nd Street\, San Juan Bautista\, CA\, 95045
END:VEVENT
BEGIN:VEVENT
DTSTART;TZID=America/Los_Angeles:20190510T190000
DTEND;TZID=America/Los_Angeles:20190510T190000
DTSTAMP:20260424T170615
CREATED:20190505T063734Z
LAST-MODIFIED:20190505T063734Z
UID:10002463-1557514800-1557514800@benitolink.com
SUMMARY:Oriana Youth Chorus concert "Sweet Home Oriana"
DESCRIPTION:Oriana Youth Chorus will be performing a lively concert of American Folk Music on Friday\, May 10 at 7:00 p.m. at Christ Fellowship Church\, 2066 San Benito Street in Hollister. \nThe youth chorus includes ages 7 to 17. \nThis is a free concert! \n 
URL:https://benitolink.com/event/oriana-youth-chorus-concert-sweet-home-oriana/
LOCATION:Mission San Juan Bautista\, 406 2nd Street\, San Juan Bautista\, CA\, 95045
ATTACH;FMTTYPE=image/jpeg:https://benitolink.com/wp-content/uploads/2019/05/Oriana-Youth-12-18-597x336.jpg
END:VEVENT
END:VCALENDAR