BEGIN:VCALENDAR
VERSION:2.0
PRODID:-//BenitoLink - ECPv6.15.20//NONSGML v1.0//EN
CALSCALE:GREGORIAN
METHOD:PUBLISH
X-WR-CALNAME:BenitoLink
X-ORIGINAL-URL:https://benitolink.com
X-WR-CALDESC:Events for BenitoLink
REFRESH-INTERVAL;VALUE=DURATION:PT1H
X-Robots-Tag:noindex
X-PUBLISHED-TTL:PT1H
BEGIN:VTIMEZONE
TZID:America/Los_Angeles
BEGIN:DAYLIGHT
TZOFFSETFROM:-0800
TZOFFSETTO:-0700
TZNAME:PDT
DTSTART:20230312T100000
END:DAYLIGHT
BEGIN:STANDARD
TZOFFSETFROM:-0700
TZOFFSETTO:-0800
TZNAME:PST
DTSTART:20231105T090000
END:STANDARD
BEGIN:DAYLIGHT
TZOFFSETFROM:-0800
TZOFFSETTO:-0700
TZNAME:PDT
DTSTART:20240310T100000
END:DAYLIGHT
BEGIN:STANDARD
TZOFFSETFROM:-0700
TZOFFSETTO:-0800
TZNAME:PST
DTSTART:20241103T090000
END:STANDARD
BEGIN:DAYLIGHT
TZOFFSETFROM:-0800
TZOFFSETTO:-0700
TZNAME:PDT
DTSTART:20250309T100000
END:DAYLIGHT
BEGIN:STANDARD
TZOFFSETFROM:-0700
TZOFFSETTO:-0800
TZNAME:PST
DTSTART:20251102T090000
END:STANDARD
END:VTIMEZONE
BEGIN:VEVENT
DTSTART;TZID=America/Los_Angeles:20240721T170000
DTEND;TZID=America/Los_Angeles:20240721T200000
DTSTAMP:20260422T232853
CREATED:20240703T220018Z
LAST-MODIFIED:20240703T220018Z
UID:10004717-1721581200-1721592000@benitolink.com
SUMMARY:Art of Eating: A Farm-to-Table Benefit for the Arts
DESCRIPTION:Join the Arts Council for their 8th annual Art of Eating: A Farm to Table Benefit for the Arts\, featuring a 4-course meal prepared by chefs Carlos Canada and Nancy Sorgatz\, local wine & beer\, music by DJ Uglyeye\, and artist speakers Yanoe x Zoueh. This event takes place in the gorgeous surroundings of Paicines Ranch and blends the worlds of art\, culture\, agriculture and community through the art of eating. \nThis year’s dinner takes place from 5-8 pm\, Sunday\, July 21st at Paicines Ranch. \nAll proceeds from the event will support the Arts Council’s Arts in Education Program\, benefiting over 8\,000 local students every year in San Benito County. \nTicket sales close Sunday\, July 14th and will sell out! Details\, Menu & Tickets at https://www.eventbrite.com/e/art-of-eating-a-farm-to-table-benefit-for-the-arts-tickets-861217283077
URL:https://benitolink.com/event/art-of-eating-a-farm-to-table-benefit-for-the-arts/
LOCATION:Paicines Ranch\, 13388 Airline Highway\, Paicines\, 95043\, United States America
CATEGORIES:Arts-Entertainment
ATTACH;FMTTYPE=image/jpeg:https://benitolink.com/wp-content/uploads/2024/07/Constant-Contact-Art-of-Eating.jpg
ORGANIZER;CN="San Benito County Arts Council":MAILTO:info@sanbenitoarts.org
END:VEVENT
END:VCALENDAR