BEGIN:VCALENDAR
VERSION:2.0
PRODID:-//BenitoLink - ECPv6.15.20//NONSGML v1.0//EN
CALSCALE:GREGORIAN
METHOD:PUBLISH
X-WR-CALNAME:BenitoLink
X-ORIGINAL-URL:https://benitolink.com
X-WR-CALDESC:Events for BenitoLink
REFRESH-INTERVAL;VALUE=DURATION:PT1H
X-Robots-Tag:noindex
X-PUBLISHED-TTL:PT1H
BEGIN:VTIMEZONE
TZID:America/Los_Angeles
BEGIN:DAYLIGHT
TZOFFSETFROM:-0800
TZOFFSETTO:-0700
TZNAME:PDT
DTSTART:20240310T100000
END:DAYLIGHT
BEGIN:STANDARD
TZOFFSETFROM:-0700
TZOFFSETTO:-0800
TZNAME:PST
DTSTART:20241103T090000
END:STANDARD
BEGIN:DAYLIGHT
TZOFFSETFROM:-0800
TZOFFSETTO:-0700
TZNAME:PDT
DTSTART:20250309T100000
END:DAYLIGHT
BEGIN:STANDARD
TZOFFSETFROM:-0700
TZOFFSETTO:-0800
TZNAME:PST
DTSTART:20251102T090000
END:STANDARD
BEGIN:DAYLIGHT
TZOFFSETFROM:-0800
TZOFFSETTO:-0700
TZNAME:PDT
DTSTART:20260308T100000
END:DAYLIGHT
BEGIN:STANDARD
TZOFFSETFROM:-0700
TZOFFSETTO:-0800
TZNAME:PST
DTSTART:20261101T090000
END:STANDARD
END:VTIMEZONE
BEGIN:VEVENT
DTSTART;TZID=America/Los_Angeles:20251210T190000
DTEND;TZID=America/Los_Angeles:20251210T210000
DTSTAMP:20260424T205940
CREATED:20251125T180856Z
LAST-MODIFIED:20251125T180856Z
UID:10015334-1765393200-1765400400@benitolink.com
SUMMARY:Presentation about Dr. Frederick H. Matteson and Book Signing
DESCRIPTION:When Dr. Frederick H. Matteson passed away\, he left his estate to the Community Foundation for San Benito County to help improve the lives of people in our community with dimentia and other intellectul difficulties. \nThis special presentation will include details about Fred’s life and provide an opportunity to purchase the book\, “Time Well Spent\,” a biography about Fred written by Sharlene Van Rooy. \nA TRUE RENAISSANCE MAN WHO SOARED THROUGH LIFE WITH GRACE \nFred H. Matteson was destined to be involved with aviation from the day he was born. As an Aeronautical Engineer\, he dreamed of someday designing his own glider\, but he was also grounded by his love of the bicycle. Fred traveled the world to witness his contemporaries achieve lofty goals and to see places he only read about in books. His life experiences were intertwined with his passion for art and music\, capturing his love of flying among the cumulus clouds in a composition titled\, “Soaring.” \n“Time Well Spent” is a collection of personal narratives–letters Fred wrote to his folks and articles published in “Soaring”–interwoven with life-long friendships and significant milestones. \nSharlene Van Rooy lives in Hollister\, CA and is a member of the San Benito County Historical Society. This is her first book\, a project driven by her zeal for local history and her desire to share Fred’s life story and the legacy he gave to the community.
URL:https://benitolink.com/event/presentation-about-dr-frederick-h-matteson-and-book-signing/
LOCATION:San Benitio County Historical Society Museum\, 498 Fifth Street\, Hollister\, CA\, 95023\, United States
CATEGORIES:Lectures,Meetings
ATTACH;FMTTYPE=image/jpeg:https://benitolink.com/wp-content/uploads/2025/11/Mockup-scaled.jpg
ORGANIZER;CN="San Benito County Historical Society":MAILTO:weshollister@yahoo.com
END:VEVENT
END:VCALENDAR