BEGIN:VCALENDAR
VERSION:2.0
PRODID:-//BenitoLink - ECPv6.15.20//NONSGML v1.0//EN
CALSCALE:GREGORIAN
METHOD:PUBLISH
X-WR-CALNAME:BenitoLink
X-ORIGINAL-URL:https://benitolink.com
X-WR-CALDESC:Events for BenitoLink
REFRESH-INTERVAL;VALUE=DURATION:PT1H
X-Robots-Tag:noindex
X-PUBLISHED-TTL:PT1H
BEGIN:VTIMEZONE
TZID:America/Los_Angeles
BEGIN:DAYLIGHT
TZOFFSETFROM:-0800
TZOFFSETTO:-0700
TZNAME:PDT
DTSTART:20200308T100000
END:DAYLIGHT
BEGIN:STANDARD
TZOFFSETFROM:-0700
TZOFFSETTO:-0800
TZNAME:PST
DTSTART:20201101T090000
END:STANDARD
BEGIN:DAYLIGHT
TZOFFSETFROM:-0800
TZOFFSETTO:-0700
TZNAME:PDT
DTSTART:20210314T100000
END:DAYLIGHT
BEGIN:STANDARD
TZOFFSETFROM:-0700
TZOFFSETTO:-0800
TZNAME:PST
DTSTART:20211107T090000
END:STANDARD
BEGIN:DAYLIGHT
TZOFFSETFROM:-0800
TZOFFSETTO:-0700
TZNAME:PDT
DTSTART:20220313T100000
END:DAYLIGHT
BEGIN:STANDARD
TZOFFSETFROM:-0700
TZOFFSETTO:-0800
TZNAME:PST
DTSTART:20221106T090000
END:STANDARD
BEGIN:DAYLIGHT
TZOFFSETFROM:-0800
TZOFFSETTO:-0700
TZNAME:PDT
DTSTART:20230312T100000
END:DAYLIGHT
BEGIN:STANDARD
TZOFFSETFROM:-0700
TZOFFSETTO:-0800
TZNAME:PST
DTSTART:20231105T090000
END:STANDARD
END:VTIMEZONE
BEGIN:VEVENT
DTSTART;TZID=America/Los_Angeles:20220621T180000
DTEND;TZID=America/Los_Angeles:20220623T203000
DTSTAMP:20260422T143429
CREATED:20220530T051949Z
LAST-MODIFIED:20220530T051949Z
UID:10003077-1655834400-1656016200@benitolink.com
SUMMARY:Summer VBS Camp
DESCRIPTION:SUMMER VBS CAMP \nJUNE 21st – 23rd\, 6:00 pm – 8:30 pm \nSouth Valley Community Church – Hollister \nThis is a 3 day Summer VBS Camp experience that will include crafts\, snacks\, worship\, and of course a bunch of awesome leaders who can’t wait to have fun with all our campers!  Open to all kids completing Kindergarten through 5th grade this school year\, and it’s only $20!  To register\, go to:  Hollister Summer VBS • SVCC (svccchurch.com)
URL:https://benitolink.com/event/summer-vbs-camp-2/
LOCATION:South Valley Community Church – Hollister\, 2350 Technology Pkwy\, Hollister\, 95023\, United States America
ATTACH;FMTTYPE=image/png:https://benitolink.com/wp-content/uploads/2022/05/Make-Waves_Logo_Full-Color.png
END:VEVENT
BEGIN:VEVENT
DTSTART;TZID=America/Los_Angeles:20210629T180000
DTEND;TZID=America/Los_Angeles:20210701T200000
DTSTAMP:20260422T143429
CREATED:20210606T172712Z
LAST-MODIFIED:20210606T172712Z
UID:10002912-1624989600-1625169600@benitolink.com
SUMMARY:Summer VBS Camp
DESCRIPTION:This is a 3 day Summer VBS Camp experience that will include crafts\, snacks\, worship\, and of course a bunch of awesome leaders who can’t wait to have fun with all our campers!  This is for all kids completing Kindergarten through 5th grade this school year.
URL:https://benitolink.com/event/summer-vbs-camp/
LOCATION:South Valley Community Church – Hollister\, 2350 Technology Pkwy\, Hollister\, 95023\, United States America
ATTACH;FMTTYPE=image/jpeg:https://benitolink.com/wp-content/uploads/2021/04/Press-Play_Logo_Color_with-background_CMYK.jpg
END:VEVENT
END:VCALENDAR