BEGIN:VCALENDAR
VERSION:2.0
PRODID:-//BenitoLink - ECPv6.15.20//NONSGML v1.0//EN
CALSCALE:GREGORIAN
METHOD:PUBLISH
X-ORIGINAL-URL:https://benitolink.com
X-WR-CALDESC:Events for BenitoLink
REFRESH-INTERVAL;VALUE=DURATION:PT1H
X-Robots-Tag:noindex
X-PUBLISHED-TTL:PT1H
BEGIN:VTIMEZONE
TZID:America/Los_Angeles
BEGIN:DAYLIGHT
TZOFFSETFROM:-0800
TZOFFSETTO:-0700
TZNAME:PDT
DTSTART:20180311T100000
END:DAYLIGHT
BEGIN:STANDARD
TZOFFSETFROM:-0700
TZOFFSETTO:-0800
TZNAME:PST
DTSTART:20181104T090000
END:STANDARD
BEGIN:DAYLIGHT
TZOFFSETFROM:-0800
TZOFFSETTO:-0700
TZNAME:PDT
DTSTART:20190310T100000
END:DAYLIGHT
BEGIN:STANDARD
TZOFFSETFROM:-0700
TZOFFSETTO:-0800
TZNAME:PST
DTSTART:20191103T090000
END:STANDARD
BEGIN:DAYLIGHT
TZOFFSETFROM:-0800
TZOFFSETTO:-0700
TZNAME:PDT
DTSTART:20200308T100000
END:DAYLIGHT
BEGIN:STANDARD
TZOFFSETFROM:-0700
TZOFFSETTO:-0800
TZNAME:PST
DTSTART:20201101T090000
END:STANDARD
BEGIN:DAYLIGHT
TZOFFSETFROM:-0800
TZOFFSETTO:-0700
TZNAME:PDT
DTSTART:20210314T100000
END:DAYLIGHT
BEGIN:STANDARD
TZOFFSETFROM:-0700
TZOFFSETTO:-0800
TZNAME:PST
DTSTART:20211107T090000
END:STANDARD
BEGIN:DAYLIGHT
TZOFFSETFROM:-0800
TZOFFSETTO:-0700
TZNAME:PDT
DTSTART:20220313T100000
END:DAYLIGHT
BEGIN:STANDARD
TZOFFSETFROM:-0700
TZOFFSETTO:-0800
TZNAME:PST
DTSTART:20221106T090000
END:STANDARD
BEGIN:DAYLIGHT
TZOFFSETFROM:-0800
TZOFFSETTO:-0700
TZNAME:PDT
DTSTART:20230312T100000
END:DAYLIGHT
BEGIN:STANDARD
TZOFFSETFROM:-0700
TZOFFSETTO:-0800
TZNAME:PST
DTSTART:20231105T090000
END:STANDARD
BEGIN:DAYLIGHT
TZOFFSETFROM:-0800
TZOFFSETTO:-0700
TZNAME:PDT
DTSTART:20240310T100000
END:DAYLIGHT
BEGIN:STANDARD
TZOFFSETFROM:-0700
TZOFFSETTO:-0800
TZNAME:PST
DTSTART:20241103T090000
END:STANDARD
BEGIN:DAYLIGHT
TZOFFSETFROM:-0800
TZOFFSETTO:-0700
TZNAME:PDT
DTSTART:20250309T100000
END:DAYLIGHT
BEGIN:STANDARD
TZOFFSETFROM:-0700
TZOFFSETTO:-0800
TZNAME:PST
DTSTART:20251102T090000
END:STANDARD
END:VTIMEZONE
BEGIN:VEVENT
DTSTART;TZID=America/Los_Angeles:20240504T170000
DTEND;TZID=America/Los_Angeles:20240504T220000
DTSTAMP:20260422T152703
CREATED:20240415T211935Z
LAST-MODIFIED:20240415T211935Z
UID:10004257-1714842000-1714860000@benitolink.com
SUMMARY:Little Joe Y La Familia event
DESCRIPTION:
URL:https://benitolink.com/event/little-joe-y-la-familia-event/
LOCATION:The Barn\, 4751 Pacheco Hwy\, Hollister
END:VEVENT
BEGIN:VEVENT
DTSTART;TZID=America/Los_Angeles:20231115T170000
DTEND;TZID=America/Los_Angeles:20231115T190000
DTSTAMP:20260422T152703
CREATED:20231114T210235Z
LAST-MODIFIED:20231114T210235Z
UID:10003950-1700067600-1700074800@benitolink.com
SUMMARY:Fall Bingo for Youth Community Music
DESCRIPTION:Join us for an incredible Fall Bingo extravaganza\, an event dedicated to supporting Youth Music! This exciting experience promises to be a refreshing and much-deserved midweek escape\, set against the stunning and intimate backdrop of The Barn in Tres Pinos. \nEvent Details:\nDate: Wednesday\, November 15\, 2023\nLocation: The Barn\, 6971 Airline Hwy\, Tres Pinos\nDoors Open at 4pm\nGame Starts at 5pm \nIndulge in delicious food and drinks while vying for an array of fantastic prizes. Enjoy a fun family-friendly night out and champion Youth Music. \nThis is a family-friendly event\, but all players must be at least 18 years of age. \n**Ticket Options:**\n– $10 Donation grants you Entry plus (2) Bingo Cards\n– $75 Donation buys a Table (seats 8 people) plus (3) Bingo Cards per person\nAdditional cards and dobbers will be available for purchase at the event. \n**Tickets:**\nTickets can be purchased at the door and online in advance. Please visit us at: RanchoMazeBand.com for more details or to reserve your spot. \nEvery single penny raised at this event will remain within our community\, directly aiding and inspiring talented young students within the Rancho Maze Band & Colorguard. This is an event you won’t want to miss! \nThe Rancho Maze Band is a school-based non-profit organization which both flourishes and heavily relies on the support from thoughtful individuals like you! If you would like to help us champion young students and support the music programs they love\, please consider making a donation – every dollar matters! \nRancho Maze Band Boosters\, P.O. Box 623\, Hollister\, CA 95024-0623\, www.RanchoMazeBand.com
URL:https://benitolink.com/event/fall-bingo-for-youth-community-music/
LOCATION:The Barn\, 4751 Pacheco Hwy\, Hollister
ATTACH;FMTTYPE=image/jpeg:https://benitolink.com/wp-content/uploads/2023/11/updatedbingo.jpg
ORGANIZER;CN="Rancho Maze Band Boosters Association":MAILTO:RanchoMazeBandBoosters@gmail.com
END:VEVENT
BEGIN:VEVENT
DTSTART;TZID=America/Los_Angeles:20231104T180000
DTEND;TZID=America/Los_Angeles:20231104T220000
DTSTAMP:20260422T152703
CREATED:20231018T215008Z
LAST-MODIFIED:20231018T215008Z
UID:10003899-1699120800-1699135200@benitolink.com
SUMMARY:San Benito County Farm Bureau Annual Dinner
DESCRIPTION:“Join us for a Remarkable Evening at the 101st Annual Dinner of the San Benito County Farm Bureau! Enjoy a Delicious Steak Dinner\, Live Entertainment by the Talented Dane Lybbert Browning\, Refreshing Drinks\, and a Heartfelt Tribute to the Distinguished Paul Rovella.”
URL:https://benitolink.com/event/san-benito-county-farm-bureau-annual-dinner/
LOCATION:The Barn\, 4751 Pacheco Hwy\, Hollister
ATTACH;FMTTYPE=image/png:https://benitolink.com/wp-content/uploads/2023/10/1-4.png
ORGANIZER;CN="Brittany Brown":MAILTO:media@sbcfb.org
END:VEVENT
BEGIN:VEVENT
DTSTART;TZID=America/Los_Angeles:20191019T170000
DTEND;TZID=America/Los_Angeles:20191019T220000
DTSTAMP:20260422T152703
CREATED:20190920T165619Z
LAST-MODIFIED:20190920T165619Z
UID:10002539-1571504400-1571522400@benitolink.com
SUMMARY:United Way of San Benito County Gala
DESCRIPTION:Join the Annual United Way of San Benito County for their gala and enjoy a festive evening at the Barn in Tres Pinos with cocktails\, dinner and a live auction. All proceeds will directly benefit our San Benito County Partner programs. \nSaturday\, October 19\, 2019 \nThe Barn\n6971 Airline Hwy\nTres Pinos\, CA 95075\n5 p.m. No Host Cocktails\n6 p.m. Dinner\nLive entertainment throughout the evening by Jone DeMers\, the Bay Area’s Frank Sinatra\nLive auction to follow dinner \nTickets $70.00 per person\nPurchase in person at Postal Graphics in Hollister \nFor Ticket Information\ncall (831) 245-0051
URL:https://benitolink.com/event/united-way-of-san-benito-county-gala/
LOCATION:The Barn\, 4751 Pacheco Hwy\, Hollister
ATTACH;FMTTYPE=image/jpeg:https://benitolink.com/wp-content/uploads/2019/09/image001.jpg
END:VEVENT
BEGIN:VEVENT
DTSTART;TZID=America/Los_Angeles:20191019T170000
DTEND;TZID=America/Los_Angeles:20191019T170000
DTSTAMP:20260422T152703
CREATED:20191018T175318Z
LAST-MODIFIED:20191018T175318Z
UID:10002572-1571504400-1571504400@benitolink.com
SUMMARY:United Way of San Benito County Gala
DESCRIPTION:Join the Annual United Way of San Benito County gala event and enjoy a festive evening at The Barn in Tres Pinos with cocktails\, dinner and a live auction. All proceeds will directly benefit our San Benito County Partner Programs. \nLive entertainment throughout the evening by Jone DeMers\, the Bay Area’s Frank Sinatra\nLive and silent auctions \n5 p.m. No Host Cocktails\n6 p.m. Dinner
URL:https://benitolink.com/event/united-way-of-san-benito-county-gala-2/
LOCATION:The Barn\, 4751 Pacheco Hwy\, Hollister
ATTACH;FMTTYPE=image/jpeg:https://benitolink.com/wp-content/uploads/2019/10/70789291_2252840188159880_5884058174218043392_o.jpg
END:VEVENT
END:VCALENDAR