BEGIN:VCALENDAR
VERSION:2.0
PRODID:-//BenitoLink - ECPv6.15.20//NONSGML v1.0//EN
CALSCALE:GREGORIAN
METHOD:PUBLISH
X-ORIGINAL-URL:https://benitolink.com
X-WR-CALDESC:Events for BenitoLink
REFRESH-INTERVAL;VALUE=DURATION:PT1H
X-Robots-Tag:noindex
X-PUBLISHED-TTL:PT1H
BEGIN:VTIMEZONE
TZID:America/Los_Angeles
BEGIN:DAYLIGHT
TZOFFSETFROM:-0800
TZOFFSETTO:-0700
TZNAME:PDT
DTSTART:20250309T100000
END:DAYLIGHT
BEGIN:STANDARD
TZOFFSETFROM:-0700
TZOFFSETTO:-0800
TZNAME:PST
DTSTART:20251102T090000
END:STANDARD
BEGIN:DAYLIGHT
TZOFFSETFROM:-0800
TZOFFSETTO:-0700
TZNAME:PDT
DTSTART:20260308T100000
END:DAYLIGHT
BEGIN:STANDARD
TZOFFSETFROM:-0700
TZOFFSETTO:-0800
TZNAME:PST
DTSTART:20261101T090000
END:STANDARD
BEGIN:DAYLIGHT
TZOFFSETFROM:-0800
TZOFFSETTO:-0700
TZNAME:PDT
DTSTART:20270314T100000
END:DAYLIGHT
BEGIN:STANDARD
TZOFFSETFROM:-0700
TZOFFSETTO:-0800
TZNAME:PST
DTSTART:20271107T090000
END:STANDARD
END:VTIMEZONE
BEGIN:VEVENT
DTSTART;TZID=America/Los_Angeles:20260428T180000
DTEND;TZID=America/Los_Angeles:20260428T210000
DTSTAMP:20260424T080339
CREATED:20260423T200856Z
LAST-MODIFIED:20260423T200856Z
UID:10016166-1777399200-1777410000@benitolink.com
SUMMARY:SBCFB Election Forum
DESCRIPTION:Join the San Benito County Farm Bureau for our upcoming Candidate Election Forum\, where community members will have the opportunity to hear directly from local candidates running for public office.\nAs the voice of agriculture in our county\, the Farm Bureau is committed to ensuring that farmers\, ranchers\, and rural communities are represented in the decisions that shape our future. While not all offices on the ballot are directly tied to agriculture\, every position plays a role in policies that impact land use\, water\, education\, economic development\, and the overall sustainability of our agricultural industry.
URL:https://benitolink.com/event/sbcfb-election-forum/
LOCATION:The Barn\, 4751 Pacheco Hwy\, Hollister
ATTACH;FMTTYPE=image/jpeg:https://benitolink.com/wp-content/uploads/2026/04/Election-Forum-2026-768x1024-1.jpg
ORGANIZER;CN="San Benito County Farm Bureau":MAILTO:brittany@sbcfb.org
END:VEVENT
END:VCALENDAR