BEGIN:VCALENDAR
VERSION:2.0
PRODID:-//BenitoLink - ECPv6.15.20//NONSGML v1.0//EN
CALSCALE:GREGORIAN
METHOD:PUBLISH
X-WR-CALNAME:BenitoLink
X-ORIGINAL-URL:https://benitolink.com
X-WR-CALDESC:Events for BenitoLink
REFRESH-INTERVAL;VALUE=DURATION:PT1H
X-Robots-Tag:noindex
X-PUBLISHED-TTL:PT1H
BEGIN:VTIMEZONE
TZID:America/Los_Angeles
BEGIN:DAYLIGHT
TZOFFSETFROM:-0800
TZOFFSETTO:-0700
TZNAME:PDT
DTSTART:20190310T100000
END:DAYLIGHT
BEGIN:STANDARD
TZOFFSETFROM:-0700
TZOFFSETTO:-0800
TZNAME:PST
DTSTART:20191103T090000
END:STANDARD
BEGIN:DAYLIGHT
TZOFFSETFROM:-0800
TZOFFSETTO:-0700
TZNAME:PDT
DTSTART:20200308T100000
END:DAYLIGHT
BEGIN:STANDARD
TZOFFSETFROM:-0700
TZOFFSETTO:-0800
TZNAME:PST
DTSTART:20201101T090000
END:STANDARD
BEGIN:DAYLIGHT
TZOFFSETFROM:-0800
TZOFFSETTO:-0700
TZNAME:PDT
DTSTART:20210314T100000
END:DAYLIGHT
BEGIN:STANDARD
TZOFFSETFROM:-0700
TZOFFSETTO:-0800
TZNAME:PST
DTSTART:20211107T090000
END:STANDARD
END:VTIMEZONE
BEGIN:VEVENT
DTSTART;TZID=America/Los_Angeles:20201219T100000
DTEND;TZID=America/Los_Angeles:20201219T140000
DTSTAMP:20260425T102056
CREATED:20201215T054907Z
LAST-MODIFIED:20201215T054907Z
UID:10002860-1608372000-1608386400@benitolink.com
SUMMARY:Growing Hearts Garden Center: Bad Santa Toy Drive-Thru
DESCRIPTION:Date: December 19\nTime: 10:00 a.m. to 2:00 p.m.\nLocation: The Grillin’ & Chillin’ Roadhouse.\n3650 San Juan Rd. Hollister.
URL:https://benitolink.com/event/growing-hearts-garden-center-bad-santa-toy-drive-thru/
LOCATION:The Grillin’ & Chillin’ Roadhouse\, 3650 San Juan Rd.\, Hollister.
ATTACH;FMTTYPE=image/jpeg:https://benitolink.com/wp-content/uploads/2020/12/131511042_3252791061492444_8779372343570957158_n.jpg
END:VEVENT
END:VCALENDAR