BEGIN:VCALENDAR
VERSION:2.0
PRODID:-//BenitoLink - ECPv6.15.20//NONSGML v1.0//EN
CALSCALE:GREGORIAN
METHOD:PUBLISH
X-ORIGINAL-URL:https://benitolink.com
X-WR-CALDESC:Events for BenitoLink
REFRESH-INTERVAL;VALUE=DURATION:PT1H
X-Robots-Tag:noindex
X-PUBLISHED-TTL:PT1H
BEGIN:VTIMEZONE
TZID:America/Los_Angeles
BEGIN:DAYLIGHT
TZOFFSETFROM:-0800
TZOFFSETTO:-0700
TZNAME:PDT
DTSTART:20190310T100000
END:DAYLIGHT
BEGIN:STANDARD
TZOFFSETFROM:-0700
TZOFFSETTO:-0800
TZNAME:PST
DTSTART:20191103T090000
END:STANDARD
BEGIN:DAYLIGHT
TZOFFSETFROM:-0800
TZOFFSETTO:-0700
TZNAME:PDT
DTSTART:20200308T100000
END:DAYLIGHT
BEGIN:STANDARD
TZOFFSETFROM:-0700
TZOFFSETTO:-0800
TZNAME:PST
DTSTART:20201101T090000
END:STANDARD
BEGIN:DAYLIGHT
TZOFFSETFROM:-0800
TZOFFSETTO:-0700
TZNAME:PDT
DTSTART:20210314T100000
END:DAYLIGHT
BEGIN:STANDARD
TZOFFSETFROM:-0700
TZOFFSETTO:-0800
TZNAME:PST
DTSTART:20211107T090000
END:STANDARD
END:VTIMEZONE
BEGIN:VEVENT
DTSTART;TZID=America/Los_Angeles:20200418T100000
DTEND;TZID=America/Los_Angeles:20200418T140000
DTSTAMP:20260421T193220
CREATED:20200303T020305Z
LAST-MODIFIED:20200303T020305Z
UID:10002722-1587204000-1587218400@benitolink.com
SUMMARY:Event canceled due to COVID-19 South Valley Fleurs Plant Sale
DESCRIPTION:South Valley Fleurs Plant Sale invites you to attend their sale event on April 18. \nTime: 10 a.m. to 2 p.m. \nLocation: Veterans Hall\, 74 West 6th Street (corner of 6th and Eigleberry) in Gilroy. \nVegetables\, ornamental plants and non-plant items for sale.
URL:https://benitolink.com/event/south-valley-fleurs-plant-sale/
LOCATION:Veterans Hall\, 74 West Sixth Street (corner of Sixth and Eigleberry)\, Gilroy\, United States America
ATTACH;FMTTYPE=image/jpeg:https://benitolink.com/wp-content/uploads/2019/05/19.05.01.farmersmarket6.jpg
END:VEVENT
END:VCALENDAR